{"text_format":"1","workbook":"xlsx","n_sheets":10,"sheets":["様式A","様式B","様式C_統括管理・責任医師","様式C_研究分担医師等","様式D_統括管理・責任医師","様式D_研究分担医師等","様式E","様式X","ver履歴","使用不可_選択肢"],"not_rendered":{"charts":0,"images":3,"macros":1,"external_links":0,"defined_names":44,"comments":0,"pivot_tables":0},"unopened":[],"bounds":{"document_bytes":16777216,"sheet_cells":100000,"rows_first":2000,"rows_last":500,"rows_between":2000,"halvings":0,"cell_chars":16384,"cell_head_chars":4096},"cells_cut":0,"cells_raw":0,"read":"whole","date_system":"1900"}

{"sheet":"様式A","index":0,"n_rows":19,"n_cols":7,"rows_kept":19,"cut":false,"hidden":false,"merged":[[1,0,1,6],[3,0,3,6],[4,5,4,6],[5,5,5,6],[6,5,6,6],[7,5,7,6],[8,5,8,6],[17,1,17,6],[18,1,18,6],[19,4,19,6],[20,1,20,6],[9,1,9,3],[11,1,11,6],[12,1,12,6],[13,1,13,6],[14,1,14,6],[15,1,15,6],[16,1,16,6]]}
[null,null,null,null,null,null,"ver1.0"]
["様式A　利益相反管理基準"]
[]
[]
[null,null,null,null,"日付"]
[null,null,null,null,"所属機関"]
[null,null,null,null,"立場","統括管理者"]
[null,null,null,null,"氏名 または 名称"]
[null,null,null,null,"利用基準"]
["研究課題："]
[]
["基準１","統括管理者は、次に掲げる事項について、研究計画書及び説明文書に記載し、研究結果の公表時に開示すること。統括管理者以外の者が研究成果を公表する場合も、同様に開示すること。\n①　規則第21条第１項第１号に規定する関与（研究に対する関与）として、次に掲げる関与が有る場合には、その内容\nア　医薬品等製造販売業者（臨床研究における医薬品等を製造販売し、又はしようとする医薬品等製造販売業者以外の医薬品等製造販売業者を含む。）又はその特殊関係者（以下「製薬企業等」という。）からの当該臨床研究に対する研究資金等の提供\nイ　製薬企業等からの当該臨床研究に使用する物品（医薬品、医療機器、機材、試料等）、施設等の無償又は相当程度に安価での提供・貸与\nウ　製薬企業等からの当該臨床研究に係る役務（データの生成・固定・解析に関与する業務（データ入力、データ管理、効果安全性評価委員会への参画、モニタリング、統計・解析等）、研究計画書作成、発表資料作成協力（論文作成協力、予稿作成、報告書作成等）、被験者リクルート、監査等）の無償又は相当程度に安価での提供\nただし、当該臨床研究に用いる医薬品等を製造販売し、若しくはしようとする医薬品等製造販売業者又はその特殊関係者（以下「対象薬剤製薬企業等」という。）からの被験者リクルート、データ管理、効果安全性評価委員会への参画、モニタリング、統計・解析又は監査に関する役務（以下「特定役務」という。）については、相当程度に安価ではない有償での提供を含む。\nエ　製薬企業等に在籍している者及び過去２年間在籍していた者の当該臨床研究への従事\nオ　統括管理者が対象医薬品の製造販売をしている医薬品等製造販売業者等に所属する者である場合\n②　規則第21条第１項第２号に規定する関与（研究者等個人に対する関与）として、次に掲げる関与（利益相反の申告年度及びその前年度における関与に限る。）がある場合には、その内容。なお、統括管理者が法人又は団体である場合や当該臨床研究の対象医薬品等製造販売業者又はその特殊関係者に属する研究者等の個人は、この限りではない。\nア　統括管理者（法人又は団体を除く。）、医学に関する知識に基づく必要な助言を求めることができる者、研究責任医師、研究分担医師、統計解析担当責任者及び研究計画書に記載されている者であって、当該臨床研究を実施することによって利益を得ることが明白な者（以下「利益相反申告者」という。）に対する対象薬剤製薬企業等からの年間合計200万円を超える寄附金（実質的に使途を決定し得るものに限り、間接経費を含む受入総額をいう。以下同じ。）\nイ　利益相反申告者の対象薬剤製薬企業等が提供する寄附講座への所属\nウ　利益相反申告者又は利益相反申告者と生計を同じにする配偶者及びその一親等の親族（親・子）（以下「利益相反申告者等」という。）に対する対象薬剤製薬企業等からの年間合計100万円以上の個人的利益（給与・講演・原稿執筆・コンサルティング・知的所有権・贈答・接遇等による収入をいう。以下同じ。）\nエ　利益相反申告者等の対象薬剤製薬企業等の役員（株式会社の代表取締役・取締役、合同会社の代表者等代表権限を有する者及び監査役をいう。以下同じ。）への就任。\nオ　利益相反申告者等における対象薬剤製薬企業等の一定数以上の株式（公開株式にあっては５％以上、未公開株式にあっては１株以上、新株予約権にあっては１個以上）の保有又は対象薬剤製薬企業等への出資\nカ　その他の利益相反申告者等に対する対象薬剤製薬企業等の関与\n例えば、親講座として対象薬剤製薬企業等の寄附講座の受入れをしている場合や、利益相反申告者等が本研究に関する知的財産権に関与している場合等をいう。\n③規則第21条第１項第3号に規定する関与として、次に掲げる関与が有る場合には、その内容\nア　統括管理者が対象医薬品の製造販売をしている医薬品等製造販売業者等である場合\nイ　統括管理者が法人又は団体（他社製品を扱う医薬品等製造販売業者又はその特殊関係者を含む）であり、対象薬剤製薬企業等からの寄附金、一般寄付金、学会等寄付金、学会等共済費の合計が年間合計1000万円以上の場合。"]
["基準２","本研究について、対象薬剤製薬企業等から研究資金等の提供を受ける場合は、法第32条に基づき必要な契約を締結すること。"]
["基準３","統括管理者は、研究開始後、新たに本研究に関与（基準１①の関与をいう。）する企業が生じた場合には、利益相反管理計画（様式Ｅ）を再度作成し、認定臨床研究審査委員会の意見を聴くこと。また、利益相反申告者は、対象薬剤製薬企業等からの関与（基準１②の関与をいう。）に変更があった場合には、研究者利益相反自己申告書（様式Ｃ）を再度作成し、医療機関の管理者又は所属機関の長の確認を受けること。その際、当該確認の結果、申告内容が基準４～基準８に該当する場合には、統括管理者は、利益相反管理計画（様式Ｅ）を再度作成し、認定臨床研究審査委員会の意見を聴くこと。\nまた、定期報告の際に最新の状況を適切に報告すること。"]
["基準４","利益相反の申告年度及びその前年度において、以下のいずれかに該当する者は、原則として、統括管理者あるいは研究責任医師にならないこと。\n①　対象薬剤製薬企業等の寄附講座に所属し、かつ当該対象薬剤製薬企業等が拠出した資金で給与を得ている。\n②　対象薬剤製薬企業等から、年間合計250万円以上の個人的利益を得ている。\n③　対象薬剤製薬企業等の役員に就任している。\n④　対象薬剤製薬企業等の一定数以上の株式（公開株式にあっては５％以上、未公開株式にあっては１株以上、新株予約権にあっては１個以上）を保有している。\n⑤　臨床研究に用いる医薬品等（医薬品等製造販売業者が製造販売し、又はしようとするものに限る。）に関する知的財産権に関与している。"]
["基準５","基準４の①～⑤の要件に該当する者が統括管理者あるいは研究責任医師となる場合には、研究期間中に監査を受けること。ただし、この場合であってもデータ管理、効果安全性評価委員会への参画、モニタリング及び統計・解析に関与する業務には従事しないこと。また、基準１の①オあるいは③に該当する場合には、研究期間中に監査を受けること。"]
["基準６","統括管理者あるいは研究責任医師は、生計を同じにする自身の配偶者及びその一親等の親族（親・子）が、基準４の②～⑤のいずれかに該当する場合、データ管理、効果安全性評価委員会への参画、モニタリング及び統計・解析に関与する業務には従事しないこと。"]
["基準７","研究分担医師は、基準４の①～⑤のいずれかに該当する場合、データ管理、効果安全性評価委員会への参画、モニタリング及び統計・解析に関与する業務には従事しないこと。"]
["基準８","統括管理者あるいは研究責任医師は、対象薬剤製薬企業等に在籍している者及び過去２年間在籍していた者が研究に従事する場合、原則としてこれらの者に被験者のリクルート、データ管理、効果安全性評価委員会への参画、モニタリング及び統計・解析に関与する業務には従事させないこと。ただし、必要がある場合には、データ管理又は統計・解析に関与する業務には従事させて差し支えないが、その場合、研究期間中に監査を受けること。"]

{"sheet":"様式B","index":1,"n_rows":41,"n_cols":10,"rows_kept":41,"cut":false,"hidden":false,"merged":[[33,8,34,8],[33,9,34,9],[29,2,34,3],[29,4,34,4],[29,5,30,5],[29,8,30,8],[29,9,30,9],[31,8,32,8],[31,9,32,9],[37,5,38,5],[39,5,40,5],[39,8,40,8],[39,9,40,9],[31,5,32,5],[33,5,34,5],[35,2,40,3],[35,4,40,4],[35,5,36,5],[35,9,36,9],[37,9,38,9],[5,8,5,9],[6,8,6,9],[0,2,0,8],[2,2,3,2],[2,3,3,5],[2,8,2,9],[3,8,3,9],[4,8,4,9],[5,2,6,5],[14,5,17,5],[14,8,17,8],[18,8,21,8],[18,9,21,9],[22,8,25,8],[22,9,25,9],[8,2,8,3],[8,6,8,7],[8,8,8,9],[9,2,13,3],[9,4,13,4],[9,6,13,6],[14,0,17,0],[14,9,17,9],[22,0,25,0],[29,0,30,0],[31,0,32,0],[33,0,34,0],[35,0,36,0],[37,0,38,0],[39,0,40,0],[14,2,25,3],[14,4,25,4],[18,0,21,0],[18,5,21,5],[22,5,25,5],[26,2,28,3],[26,4,28,4],[35,8,36,8],[37,8,38,8]]}
[null,null,"様式B　関係企業等報告書",null,null,null,null,null,null,"ver1.0"]
[]
[null,null,"研究課題：",{"$f":"IF('様式A'!B10=\"\",\"\",'様式A'!B10)","v":""},null,null,null,"日付"]
[null,null,null,null,null,null,null,"所属機関",{"$f":"IF('様式A'!F6=\"\",\"\",'様式A'!F6)","v":""}]
[null,null,"【特記事項】",null,null,null,null,"立場",{"$f":"IF('様式A'!F7=\"\",\"\",'様式A'!F7)","v":"統括管理者"}]
[null,null,null,null,null,null,null,"氏名 または 名称",{"$f":"IF('様式A'!F8=\"\",\"\",'様式A'!F8)","v":""}]
[]
[]
["Q2からQ5までの企業等",null,"設問",null,"有無","「はい」の場合\n製薬企業等の名を入力","「はい」の場合詳細を記載",null,"管理計画"]
[null,null,"Q１.本研究は、 医薬品等製造販売業者が製造販売をし、又はしようとする医薬品等を用いるか？",null,null,null,"本研究対象の医薬品等の名称"]
[]
[]
[]
[]
[{"$f":"IF(F15=\"\",0,1)","v":0},null,"Q２.本研究は、製薬企業等から提供された研究資金等を使用するか？",null,null,null,"研究費の受入形態\n(その他の場合には具体的な受入形態を記載）",null,{"$f":"IF(J15=\"\",\"\",VLOOKUP(J15,'使用不可_選択肢'!$A$3:$B$8,2,FALSE))","v":""},{"$f":"IF(F15=\"\",\"\",IF(H18=\"法32条に基づく必要な契約はない\",\"基準1\",IF(H18=\"法32条に基づき必要な契約は締結済み\",\"基準1と2\",IF(H18=\"法32条に基づき必要な契約は締結準備中\",\"基準1と2\",IF(H18=\"法32条に基づく必要な契約を締結する予定はない\",\"！基準2\",\"\")))))","v":""}]
[null,null,null,null,null,null,"受入方法：直接・間接\n(間接の場合には経由機関を入力)"]
[null,null,null,null,null,null,"受入金額（円）"]
[null,null,null,null,null,null,"契約締結状況"]
[{"$f":"IF(F19=\"\",A15,IF(ISNA(VLOOKUP($F19,$F$15:$GI18,4,FALSE)),1,0)+A15)","v":0},null,null,null,null,null,"研究費の受入形態\n(その他の場合には具体的な受入形態を記載）",null,{"$f":"IF(J19=\"\",\"\",VLOOKUP(J19,'使用不可_選択肢'!$A$3:$B$8,2,FALSE))","v":""},{"$f":"IF(F19=\"\",\"\",IF(H22=\"法32条に基づく必要な契約はない\",\"基準1\",IF(H22=\"法32条に基づき必要な契約は締結済み\",\"基準1と2\",IF(H22=\"法32条に基づき必要な契約は締結準備中\",\"基準1と2\",IF(H22=\"法32条に基づく必要な契約を締結する予定はない\",\"！基準2\",\"\")))))","v":""}]
[null,null,null,null,null,null,"受入方法：直接・間接\n(間接の場合には経由機関を入力)"]
[null,null,null,null,null,null,"受入金額（円）"]
[null,null,null,null,null,null,"契約締結状況"]
[{"$f":"IF(F23=\"\",A19,IF(ISNA(VLOOKUP($F23,$F$15:$I22,4,FALSE)),1,0)+A19)","v":0},null,null,null,null,null,"研究費の受入形態\n(その他の場合には具体的な受入形態を記載）",null,{"$f":"IF(J23=\"\",\"\",VLOOKUP(J23,'使用不可_選択肢'!$A$3:$B$8,2,FALSE))","v":""},{"$f":"IF(F23=\"\",\"\",IF(H26=\"法32条に基づく必要な契約はない\",\"基準1\",IF(H26=\"法32条に基づき必要な契約は締結済み\",\"基準1と2\",IF(H26=\"法32条に基づき必要な契約は締結準備中\",\"基準1と2\",IF(H26=\"法32条に基づく必要な契約を締結する予定はない\",\"！基準2\",\"\")))))","v":""}]
[null,null,null,null,null,null,"受入方法：直接・間接\n(間接の場合には経由機関を入力)"]
[null,null,null,null,null,null,"受入金額（円）"]
[null,null,null,null,null,null,"契約締結状況"]
[{"$f":"IF(F27=\"\",A23,IF(ISNA(VLOOKUP($F27,$F$15:$I26,4,FALSE)),1,0)+A23)","v":0},null,"Q３.製薬企業等から物品（医薬品、医療機器、機材、試料等）、施設等について、無償又は相当程度に安価で提供又は貸与を受けるか？",null,null,null,"物品、施設等の内容",null,{"$f":"IF(J27=\"\",\"\",VLOOKUP(J27,基準選択肢B,2,FALSE))","v":""},{"$f":"IF(F27=\"\",\"\",\"基準1\")","v":""}]
[{"$f":"IF(F28=\"\",A27,IF(ISNA(VLOOKUP($F28,$F$15:$I27,4,FALSE)),1,0)+A27)","v":0},null,null,null,null,null,"物品、施設等の内容",null,{"$f":"IF(J28=\"\",\"\",VLOOKUP(J28,基準選択肢B,2,FALSE))","v":""},""]
[0,null,null,null,null,null,"物品、施設等の内容",null,{"$f":"IF(J29=\"\",\"\",VLOOKUP(J29,基準選択肢B,2,FALSE))","v":""},""]
[0,null,"Q４.製薬企業等からの臨床研究に係る役務について、無償又は相当程度に安価で提供（対象薬剤製薬企業等から特定役務の提供を受ける場合は、有償での提供を含む）を受けるか？\n\n・特定役務は、データ管理、効果安全評価委員会への参画、モニタリング、統計、解析又は監査に関する役務をいう",null,null,null,"受領する役務の内容",null,{"$f":"IF(J30=\"\",\"\",VLOOKUP(J30,'使用不可_選択肢'!$A$3:$B$8,2,FALSE))","v":""},""]
[null,null,null,null,null,null,"対象薬剤製薬企業等の特定役務への関与の有無"]
[{"$f":"IF(F32=\"\",A30,IF(ISNA(VLOOKUP($F32,$F$15:$I31,4,FALSE)),1,0)+A30)","v":0},null,null,null,null,null,"受領する役務の内容",null,{"$f":"IF(J32=\"\",\"\",VLOOKUP(J32,'使用不可_選択肢'!$A$3:$B$8,2,FALSE))","v":""},{"$f":"IF(F32=\"\",\"\",\"基準1\")","v":""}]
[null,null,null,null,null,null,"対象薬剤製薬企業等の特定役務への関与の有無"]
[{"$f":"IF(F34=\"\",A32,IF(ISNA(VLOOKUP($F34,$F$15:$I33,4,FALSE)),1,0)+A32)","v":0},null,null,null,null,null,"受領する役務の内容",null,{"$f":"IF(J34=\"\",\"\",VLOOKUP(J34,'使用不可_選択肢'!$A$3:$B$8,2,FALSE))","v":""},{"$f":"IF(F34=\"\",\"\",\"基準1\")","v":""}]
[null,null,null,null,null,null,"対象薬剤製薬企業等の特定役務への関与の有無"]
[{"$f":"IF(F36=\"\",A34,IF(ISNA(VLOOKUP($F36,$F$15:$I35,4,FALSE)),1,0)+A34)","v":0},null,"Q５.本研究に、製薬企業等に在籍している者及び過去２年間在籍していた者の従事があるか？有りの場合、対象薬剤製薬企業等に在籍している者及び過去２年間在籍していた者の特定役務への従事があるか？",null,null,null,"製薬企業等の在籍者の従事の内容",null,{"$f":"IF(J36=\"\",\"\",VLOOKUP(J36,'使用不可_選択肢'!$A$3:$B$8,2,FALSE))","v":""},{"$f":"IF(F36=\"\",\"\",IF(H37=\"データ管理又は統計・解析のみ関与あり\",\"基準1と8\",IF(H37=\"無し\",\"基準1と8\",IF(H37=\"データ管理又は統計・解析以外に関与あり\",\"基準8を満たさない\",\"\"))))","v":""}]
[null,null,null,null,null,null,"対象薬剤製薬企業等の在籍者の特定役務への従事の有無"]
[{"$f":"IF(F38=\"\",A36,IF(ISNA(VLOOKUP($F38,$F$15:$I37,4,FALSE)),1,0)+A36)","v":0},null,null,null,null,null,"製薬企業等の在籍者の従事の内容",null,{"$f":"IF(J38=\"\",\"\",VLOOKUP(J38,'使用不可_選択肢'!$A$3:$B$8,2,FALSE))","v":""},{"$f":"IF(F38=\"\",\"\",IF(H39=\"データ管理又は統計・解析のみ関与あり\",\"基準1と8\",IF(H39=\"無し\",\"基準1と8\",IF(H39=\"データ管理又は統計・解析以外に関与あり\",\"基準8を満たさない\",\"\"))))","v":""}]
[null,null,null,null,null,null,"対象薬剤製薬企業等の在籍者の特定役務への従事の有無"]
[{"$f":"IF(F40=\"\",A38,IF(ISNA(VLOOKUP($F40,$F$15:$I39,4,FALSE)),1,0)+A38)","v":0},null,null,null,null,null,"製薬企業等の在籍者の従事の内容",null,{"$f":"IF(J40=\"\",\"\",VLOOKUP(J40,'使用不可_選択肢'!$A$3:$B$8,2,FALSE))","v":""},{"$f":"IF(F40=\"\",\"\",IF(H41=\"データ管理又は統計・解析のみ関与あり\",\"基準1と8\",IF(H41=\"無し\",\"基準1と8\",IF(H41=\"データ管理又は統計・解析以外に関与あり\",\"基準8を満たさない\",\"\"))))","v":""}]
[null,null,null,null,null,null,"対象薬剤製薬企業等の在籍者の特定役務への従事の有無"]

{"sheet":"様式C_統括管理・責任医師","index":2,"n_rows":187,"n_cols":14,"rows_kept":187,"cut":false,"hidden":false,"merged":[[87,12,88,12],[89,12,90,12],[81,9,82,9],[83,9,84,9],[83,12,84,12],[83,13,84,13],[87,9,88,9],[87,13,88,13],[89,13,90,13],[31,10,31,11],[31,12,31,13],[33,12,34,12],[33,13,34,13],[35,12,36,12],[35,13,36,13],[37,13,38,13],[37,12,38,12],[41,12,42,12],[41,13,42,13],[43,12,44,12],[43,13,44,13],[45,12,46,12],[45,13,46,13],[47,12,48,12],[47,13,48,13],[50,6,50,12],[52,9,52,11],[52,12,52,13],[53,10,53,11],[53,12,53,13],[54,10,54,11],[54,12,54,13],[56,12,57,12],[56,13,57,13],[58,12,59,12],[58,13,59,13],[60,13,61,13],[60,12,61,12],[64,12,65,12],[64,13,65,13],[66,12,67,12],[66,13,67,13],[68,12,69,12],[68,13,69,13],[70,12,71,12],[70,13,71,13],[73,6,73,12],[75,6,75,8],[75,9,75,11],[75,12,75,13],[76,12,76,13],[89,9,90,9],[91,9,92,9],[91,12,92,12],[91,13,92,13],[93,9,94,9],[93,12,94,12],[93,13,94,13],[106,5,107,5],[106,6,107,6],[98,2,100,5],[99,6,100,6],[101,2,101,4],[102,2,103,4],[102,5,103,5],[102,6,103,6],[104,2,107,4],[114,5,115,5],[114,6,115,6],[121,2,123,5],[122,6,123,6],[124,2,124,4],[125,5,126,5],[125,6,126,6],[125,2,126,4],[127,2,130,4],[127,5,128,5],[127,6,128,6],[129,5,130,5],[129,6,130,6],[131,2,132,4],[83,5,84,5],[83,6,84,6],[75,2,77,5],[76,6,77,6],[78,2,78,4],[79,2,80,4],[79,5,80,5],[79,6,80,6],[81,2,84,4],[91,5,92,5],[91,6,92,6],[93,5,94,5],[93,6,94,6],[85,2,86,4],[87,2,90,4],[87,5,88,5],[87,6,88,6],[89,5,90,5],[89,6,90,6],[91,2,94,4],[104,5,105,5],[104,6,105,6],[137,5,138,5],[139,5,140,5],[175,5,176,5],[175,6,176,6],[170,2,170,4],[171,2,172,4],[171,5,172,5],[171,6,172,6],[173,2,176,4],[173,5,174,5],[173,6,174,6],[185,5,186,5],[185,6,186,6],[177,2,178,4],[179,2,182,4],[179,5,180,5],[179,6,180,6],[181,5,182,5],[181,6,182,6],[183,2,186,4],[133,2,136,4],[133,5,134,5],[133,6,134,6],[135,5,136,5],[135,6,136,6],[137,6,138,6],[139,6,140,6],[148,5,149,5],[150,5,151,5],[137,2,140,4],[144,2,146,5],[145,6,146,6],[147,2,147,4],[148,2,149,4],[148,6,149,6],[150,6,151,6],[158,5,159,5],[158,6,159,6],[150,2,153,4],[152,5,153,5],[152,6,153,6],[154,2,155,4],[156,2,159,4],[156,5,157,5],[156,6,157,6],[160,2,163,4],[160,5,161,5],[160,6,161,6],[162,5,163,5],[162,6,163,6],[167,2,169,5],[168,6,169,6],[183,5,184,5],[183,6,184,6],[129,12,130,12],[133,12,134,12],[133,13,134,13],[122,10,122,11],[122,12,122,13],[125,12,126,12],[125,13,126,13],[127,12,128,12],[127,13,128,13],[129,13,130,13],[96,6,96,12],[98,6,98,8],[98,9,98,11],[98,12,98,13],[99,9,100,9],[99,10,99,11],[99,12,99,13],[100,10,100,11],[100,12,100,13],[102,12,103,12],[102,13,103,13],[104,12,105,12],[104,13,105,13],[106,13,107,13],[99,7,99,8],[100,7,100,8],[102,9,103,9],[104,9,105,9],[106,9,107,9],[110,9,111,9],[112,9,113,9],[123,7,123,8],[123,10,123,11],[123,12,123,13],[116,12,117,12],[116,13,117,13],[119,6,119,12],[121,6,121,8],[121,9,121,11],[121,12,121,13],[122,7,122,8],[135,12,136,12],[135,13,136,13],[106,12,107,12],[110,12,111,12],[110,13,111,13],[112,12,113,12],[112,13,113,13],[114,12,115,12],[114,13,115,13],[168,10,168,11],[168,12,168,13],[162,12,163,12],[162,13,163,13],[165,6,165,12],[167,6,167,8],[167,9,167,11],[167,12,167,13],[168,7,168,8],[135,9,136,9],[137,9,138,9],[137,12,138,12],[137,13,138,13],[139,12,140,12],[139,13,140,13],[142,6,142,12],[144,6,144,8],[144,9,144,11],[144,12,144,13],[145,7,145,8],[145,10,145,11],[145,12,145,13],[146,7,146,8],[146,10,146,11],[146,12,146,13],[148,12,149,12],[148,13,149,13],[150,12,151,12],[150,13,151,13],[152,13,153,13],[160,9,161,9],[162,9,163,9],[168,9,169,9],[169,7,169,8],[169,10,169,11],[152,12,153,12],[156,12,157,12],[156,13,157,13],[158,12,159,12],[158,13,159,13],[160,12,161,12],[160,13,161,13],[171,9,172,9],[173,9,174,9],[175,9,176,9],[179,9,180,9],[181,9,182,9],[183,9,184,9],[185,9,186,9],[179,12,180,12],[179,13,180,13],[181,12,182,12],[181,13,182,13],[183,12,184,12],[183,13,184,13],[185,12,186,12],[185,13,186,13],[169,12,169,13],[171,12,172,12],[171,13,172,13],[173,12,174,12],[173,13,174,13],[175,12,176,12],[175,13,176,13],[0,5,0,11],[3,10,3,11],[4,2,5,2],[4,3,5,8],[4,10,4,11],[5,10,5,11],[6,10,6,11],[11,5,11,6],[11,7,11,9],[8,5,8,6],[8,7,8,9],[9,5,9,6],[9,7,9,9],[9,12,12,12],[10,5,10,6],[10,7,10,9],[12,5,12,6],[12,7,12,9],[13,5,13,6],[13,7,13,9],[14,5,14,6],[14,7,14,9],[15,7,15,9],[16,7,16,9],[18,6,18,8],[18,9,18,12],[19,6,19,8],[19,9,19,12],[20,6,20,8],[20,9,20,12],[21,6,21,8],[21,9,21,12],[22,6,22,8],[22,9,22,12],[23,6,23,8],[23,9,23,12],[24,6,24,8],[24,9,24,12],[27,6,27,12],[29,9,29,11],[29,12,29,13],[30,9,31,9],[30,10,30,11],[30,12,30,13],[45,5,46,5],[45,6,46,6],[39,2,40,4],[41,2,44,4],[41,5,42,5],[41,6,42,6],[43,5,44,5],[43,6,44,6],[45,2,48,4],[30,7,30,8],[31,7,31,8],[15,5,15,6],[16,5,16,6],[18,2,24,4],[26,2,26,8],[29,2,31,5],[29,6,29,8],[30,6,31,6],[37,5,38,5],[37,6,38,6],[32,2,32,4],[33,2,34,4],[33,5,34,5],[33,6,34,6],[35,2,38,4],[35,5,36,5],[35,6,36,6],[47,5,48,5],[47,6,48,6],[52,6,52,8],[53,7,53,8],[54,7,54,8],[53,9,54,9],[56,9,57,9],[58,9,59,9],[60,9,61,9],[64,9,65,9],[66,9,67,9],[68,9,69,9],[70,9,71,9],[33,9,34,9],[35,9,36,9],[37,9,38,9],[41,9,42,9],[43,9,44,9],[45,9,46,9],[47,9,48,9],[58,5,59,5],[58,6,59,6],[60,5,61,5],[60,6,61,6],[52,2,54,5],[53,6,54,6],[55,2,55,4],[56,2,57,4],[56,5,57,5],[56,6,57,6],[58,2,61,4],[68,5,69,5],[68,6,69,6],[70,5,71,5],[70,6,71,6],[62,2,63,4],[64,2,67,4],[64,5,65,5],[64,6,65,6],[66,5,67,5],[66,6,67,6],[68,2,71,4],[81,5,82,5],[81,6,82,6],[76,9,77,9],[77,7,77,8],[77,10,77,11],[77,12,77,13],[76,7,76,8],[76,10,76,11],[79,9,80,9],[79,12,80,12],[79,13,80,13],[81,12,82,12],[81,13,82,13],[116,5,117,5],[116,6,117,6],[108,2,109,4],[110,2,113,4],[110,5,111,5],[110,6,111,6],[112,5,113,5],[112,6,113,6],[114,2,117,4],[114,9,115,9],[116,9,117,9],[122,9,123,9],[125,9,126,9],[127,9,128,9],[129,9,130,9],[133,9,134,9],[139,9,140,9],[145,9,146,9],[148,9,149,9],[150,9,151,9],[152,9,153,9],[156,9,157,9],[158,9,159,9]]}
[null,null,null,null,null,"様式C＜統括管理者、研究責任医師用＞　研究者利益相反自己申告書",null,null,null,null,null,null,"ver1.0"]
[null,null,"所属機関殿"]
[null,null,"本研究の対象薬剤製薬企業等の関与について、下記の通り報告すると共に、利益相反管理計画を提出いたします。"]
[null,null,null,null,null,null,null,null,null,null,"日　　付"]
[null,null,"研究課題：",{"$f":"IF('様式A'!B10=\"\",\"\",'様式A'!B10)","v":""},null,null,null,null,null,null,"所　属　機　関"]
[null,null,null,null,null,null,null,null,null,null,"立　　場"]
[null,null,null,null,null,null,null,null,null,null,"氏　　名"]
[null,null,"【研究者利益相反自己申告書（様式C)が必要な者】※研究責任医師を含め、本機関に所属する全ての利益相反申告者を記載すること。"]
[null,null,"立場","氏名",null,"立場",null,"氏名",null,null,null,null,"【特記事項(任意)】例：Q1で寄附金を使用すると申告しているが、寄附金は2017年度以前に受け入れたものを使用する。"]
[]
[]
[]
[]
[]
[]
[]
[]
[null,null,"1. 本研究の対象薬剤製薬企業等について"]
[null,null,"本研究に用いる医薬品等を製造販売し、若しくはしようとする医薬品等製造販売業者又はその特殊関係者（対象薬品製薬企業等）の名称\n\n※当該医薬品等製造販売業者の特殊関係者（子会社）との利益相反がある場合は、右欄に追記すること",null,null,"①",{"$f":"IF('様式B'!F10=\"\",\"\",'様式B'!F10)","v":""},null,null,{"$f":"IF(G19=\"\",\"\",\"本研究対象薬剤・機器名：\"&'様式B'!H10)","v":""}]
[null,null,null,null,null,"②",{"$f":"IF('様式B'!F11=\"\",\"\",'様式B'!F11)","v":""},null,null,{"$f":"IF(G20=\"\",\"\",\"本研究対象薬剤・機器名：\"&'様式B'!H11)","v":""}]
[null,null,null,null,null,"③",{"$f":"IF('様式B'!F12=\"\",\"\",'様式B'!F12)","v":""},null,null,{"$f":"IF(G21=\"\",\"\",\"本研究対象薬剤・機器名：\"&'様式B'!H12)","v":""}]
[null,null,null,null,null,"④",{"$f":"IF('様式B'!F13=\"\",\"\",'様式B'!F13)","v":""},null,null,{"$f":"IF(G22=\"\",\"\",\"本研究対象薬剤・機器名：\"&'様式B'!H13)","v":""}]
[null,null,null,null,null,"⑤",{"$f":"IF('様式B'!F14=\"\",\"\",'様式B'!F14)","v":""},null,null,{"$f":"IF(G23=\"\",\"\",\"本研究対象薬剤・機器名：\"&'様式B'!H14)","v":""}]
[null,null,null,null,null,"⑥"]
[null,null,null,null,null,"⑦"]
[]
[null,null,"2. 本研究の対象薬剤製薬企業等との利益相反報告"]
[null,null,null,null,"本研究の対象薬剤製薬企業等の名称：","①",{"$f":"IF(G19=\"\",\"\",G19)","v":""}]
[]
[null,null,"COI状況の有無",null,null,null,"前年度",null,null,"今年度"]
[null,null,null,null,null,null,"有無","「はい」と回答した項目について",null,"有無","「はい」と回答した項目について",null,"「はい」と回答した項目について"]
[null,null,null,null,null,null,null,"COIの内容について\n詳細を選択・記述",null,null,"COIの内容について\n詳細を選択・記述",null,"COI管理計画"]
[null,null,"Q１．対象薬剤製薬企業等からの寄附金の総額が、年間合計200万円を超えているか？",null,null,"本人",null,"受入金額(円)",null,null,"受入金額(円)",null,{"$f":"IF(N33=\"\",\"\",VLOOKUP(N33,'様式C_統括管理・責任医師'!基準選択肢C,2,FALSE))","v":""},{"$f":"IF(G33=\"はい\",\"基準1\",IF(J33=\"はい\",\"基準1\",\"\"))","v":""}]
[null,null,"Q２.　対象薬剤製薬企業等が提供する寄附講座に所属しているか？",null,null,"本人",null,"期間",null,null,"期間",null,{"$f":"IF(N34=\"\",\"\",VLOOKUP(N34,'様式C_統括管理・責任医師'!基準選択肢C,2,FALSE))","v":""},{"$f":"IF(AND($G34=\"はい\",$I35=\"有\"),\"基準1と4と5\",IF(AND($J34=\"はい\",$L35=\"有\"),\"基準1と4と5\",IF($G34=\"はい\",\"基準1\",IF($J34=\"はい\",\"基準1\",\"\"))))","v":""}]
[null,null,null,null,null,null,null,"給与の有無",null,null,"給与の有無"]
[null,null,"Q3．対象薬剤製薬企業等からの年間合計100万円以上の個人的利益があるか？\n　\n・　個人的利益とは、給与・講演・原稿執筆・コンサルティング・知的所有権・贈答・接遇等による収入をいう。",null,null,"本人",null,"経済的利益の内容(複数ある場合はすべて記載)",null,null,"経済的利益の内容(複数ある場合はすべて記載)",null,{"$f":"IF(N36=\"\",\"\",VLOOKUP(N36,'様式C_統括管理・責任医師'!基準選択肢C,2,FALSE))","v":""},{"$f":"IF(OR(I37>=2500000,L37>=2500000),\"基準1と4と5\",IF(OR(I37>=1000000,L37>=1000000),\"基準1\",\"\"))","v":""}]
[null,null,null,null,null,null,null,"受入金額(円)",null,null,"受入金額(円)"]
[null,null,null,null,null,"申告者と生計を同じにする配偶者及びその一親等の親族",null,"経済的利益の内容(複数ある場合はすべて記載)",null,null,"経済的利益の内容(複数ある場合はすべて記載)",null,{"$f":"IF(N38=\"\",\"\",VLOOKUP(N38,'様式C_統括管理・責任医師'!基準選択肢C,2,FALSE))","v":""},{"$f":"IF(OR(I39>=2500000,L39>=2500000),\"基準1と6\",IF(OR(I39>=1000000,L39>=1000000),\"基準1\",\"\"))","v":""}]
[null,null,null,null,null,null,null,"受入金額(円)",null,null,"受入金額(円)"]
[null,null,"Q4．対象薬剤製薬企業等の役員に就任しているか？\n\n・　役員とは、株式会社の代表取締役・取締役、合同会社の代表者等代表権限を有する者、監査役をいう。",null,null,"本人",null,"役職等の種類",null,null,"役職等の種類",null,{"$f":"IF(N40=\"\",\"\",VLOOKUP(N40,'様式C_統括管理・責任医師'!基準選択肢C,2,FALSE))","v":""},{"$f":"IF(G40=\"はい\",\"基準1と4と5\",IF(J40=\"はい\",\"基準1と4と5\",\"\"))","v":""}]
[null,null,null,null,null,"申告者と生計を同じにする配偶者及びその一親等の親族",null,"役職等の種類",null,null,"役職等の種類",null,{"$f":"IF(N41=\"\",\"\",VLOOKUP(N41,'様式C_統括管理・責任医師'!基準選択肢C,2,FALSE))","v":""},{"$f":"IF(G41=\"はい\",\"基準1と6\",IF(J41=\"はい\",\"基準1と6\",\"\"))","v":""}]
[null,null,"Q5.対象薬剤製薬企業等の株式を保有しているか？対象薬剤製薬企業等に出資を行っているか？\n\n・株式の保有については、公開株式については５％以上、未公開株式は1株以上、新株予約権は１個以上をいう。これに該当しない場合は、「なし」とすること。",null,null,"本人",null,"株式を保有している",null,null,"株式を保有している",null,{"$f":"IF(N42=\"\",\"\",VLOOKUP(N42,'様式C_統括管理・責任医師'!基準選択肢C,2,FALSE))","v":""},{"$f":"IF(AND(G42=\"はい\",I42=\"はい\"),\"基準1と4と5\",IF(AND(J42=\"はい\",L42=\"はい\"),\"基準1と4と5\",IF(AND(G42=\"はい\",I42=\"いいえ\"),\"基準1\",IF(AND(J42=\"はい\",L42=\"いいえ\"),\"基準1\",\"\"))))","v":""}]
[null,null,null,null,null,null,null,"株式の保有又は出資の内容",null,null,"株式の保有又は出資の内容"]
[null,null,null,null,null,"申告者と生計を同じにする配偶者及びその一親等の親族",null,"株式を保有している",null,null,"株式を保有している",null,{"$f":"IF(N44=\"\",\"\",VLOOKUP(N44,'様式C_統括管理・責任医師'!基準選択肢C,2,FALSE))","v":""},{"$f":"IF(AND(G44=\"はい\",I44=\"はい\"),\"基準1と6\",IF(AND(J44=\"はい\",L44=\"はい\"),\"基準1と6\",IF(AND(G44=\"はい\",I44=\"いいえ\"),\"基準1\",IF(AND(J44=\"はい\",L44=\"いいえ\"),\"基準1\",\"\"))))","v":""}]
[null,null,null,null,null,null,null,"株式の保有又は出資の内容",null,null,"株式の保有又は出資の内容"]
[null,null,"Q6.その他、対象薬剤製薬企業等の関与があるか？",null,null,"本人",null,"知的財産への関与有り",null,null,"知的財産への関与有り",null,{"$f":"IF(N46=\"\",\"\",VLOOKUP(N46,'様式C_統括管理・責任医師'!基準選択肢C,2,FALSE))","v":""},{"$f":"IF(AND(G46=\"はい\",I46=\"はい\"),\"基準1と4と5\",IF(AND(J46=\"はい\",L46=\"はい\"),\"基準1と4と5\",IF(AND(G46=\"はい\",I46=\"いいえ\"),\"基準1\",IF(AND(J46=\"はい\",L46=\"いいえ\"),\"基準1\",\"\"))))","v":""}]
[null,null,null,null,null,null,null,"その他の関与",null,null,"その他の関与"]
[null,null,null,null,null,"申告者と生計を同じにする配偶者及びその一親等の親族",null,"知的財産への関与有り",null,null,"知的財産への関与有り",null,{"$f":"IF(N48=\"\",\"\",VLOOKUP(N48,'様式C_統括管理・責任医師'!基準選択肢C,2,FALSE))","v":""},{"$f":"IF(AND(G48=\"はい\",I48=\"はい\"),\"基準1と6\",IF(AND(J48=\"はい\",L48=\"はい\"),\"基準1と6\",IF(AND(G48=\"はい\",I48=\"いいえ\"),\"基準1\",IF(AND(J48=\"はい\",L48=\"いいえ\"),\"基準1\",\"\"))))","v":""}]
[null,null,null,null,null,null,null,"その他の関与",null,null,"その他の関与"]
[]
[null,null,null,null,"本研究の対象薬剤製薬企業等の名称：","②",{"$f":"IF(G20=\"\",\"\",G20)","v":""}]
[]
[null,null,"COI状況の有無",null,null,null,"前年度",null,null,"今年度"]
[null,null,null,null,null,null,"有無","「はい」と回答した項目について",null,"有無","「はい」と回答した項目について",null,"「はい」と回答した項目について"]
[null,null,null,null,null,null,null,"COIの内容について\n詳細を選択・記述",null,null,"COIの内容について\n詳細を選択・記述",null,"COI管理計画"]
[null,null,"Q１．対象薬剤製薬企業等からの寄附金の総額が、年間合計200万円を超えているか？",null,null,"本人",null,"受入金額(円)",null,null,"受入金額(円)",null,{"$f":"IF(N56=\"\",\"\",VLOOKUP(N56,'様式C_統括管理・責任医師'!基準選択肢C,2,FALSE))","v":""},{"$f":"IF(G56=\"はい\",\"基準1\",IF(J56=\"はい\",\"基準1\",\"\"))","v":""}]
[null,null,"Q２.　対象薬剤製薬企業等が提供する寄附講座に所属しているか？",null,null,"本人",null,"期間",null,null,"期間",null,{"$f":"IF(N57=\"\",\"\",VLOOKUP(N57,'様式C_統括管理・責任医師'!基準選択肢C,2,FALSE))","v":""},{"$f":"IF(AND($G57=\"はい\",$I58=\"有\"),\"基準1と4と5\",IF(AND($J57=\"はい\",$L58=\"有\"),\"基準1と4と5\",IF($G57=\"はい\",\"基準1\",IF($J57=\"はい\",\"基準1\",\"\"))))","v":""}]
[null,null,null,null,null,null,null,"給与の有無",null,null,"給与の有無"]
[null,null,"Q3．対象薬剤製薬企業等からの年間合計100万円以上の個人的利益があるか？\n　\n・　個人的利益とは、給与・講演・原稿執筆・コンサルティング・知的所有権・贈答・接遇等による収入をいう。",null,null,"本人",null,"経済的利益の内容(複数ある場合はすべて記載)",null,null,"経済的利益の内容(複数ある場合はすべて記載)",null,{"$f":"IF(N59=\"\",\"\",VLOOKUP(N59,'様式C_統括管理・責任医師'!基準選択肢C,2,FALSE))","v":""},{"$f":"IF(OR(I60>=2500000,L60>=2500000),\"基準1と4と5\",IF(OR(I60>=1000000,L60>=1000000),\"基準1\",\"\"))","v":""}]
[null,null,null,null,null,null,null,"受入金額(円)",null,null,"受入金額(円)"]
[null,null,null,null,null,"申告者と生計を同じにする配偶者及びその一親等の親族",null,"経済的利益の内容(複数ある場合はすべて記載)",null,null,"経済的利益の内容(複数ある場合はすべて記載)",null,{"$f":"IF(N61=\"\",\"\",VLOOKUP(N61,'様式C_統括管理・責任医師'!基準選択肢C,2,FALSE))","v":""},{"$f":"IF(OR(I62>=2500000,L62>=2500000),\"基準1と6\",IF(OR(I62>=1000000,L62>=1000000),\"基準1\",\"\"))","v":""}]
[null,null,null,null,null,null,null,"受入金額(円)",null,null,"受入金額(円)"]
[null,null,"Q4．対象薬剤製薬企業等の役員に就任しているか？\n\n・　役員とは、株式会社の代表取締役・取締役、合同会社の代表者等代表権限を有する者、監査役をいう。",null,null,"本人",null,"役職等の種類",null,null,"役職等の種類",null,{"$f":"IF(N63=\"\",\"\",VLOOKUP(N63,'様式C_統括管理・責任医師'!基準選択肢C,2,FALSE))","v":""},{"$f":"IF(G63=\"はい\",\"基準1と4と5\",IF(J63=\"はい\",\"基準1と4と5\",\"\"))","v":""}]
[null,null,null,null,null,"申告者と生計を同じにする配偶者及びその一親等の親族",null,"役職等の種類",null,null,"役職等の種類",null,{"$f":"IF(N64=\"\",\"\",VLOOKUP(N64,'様式C_統括管理・責任医師'!基準選択肢C,2,FALSE))","v":""},{"$f":"IF(G64=\"はい\",\"基準1と6\",IF(J64=\"はい\",\"基準1と6\",\"\"))","v":""}]
[null,null,"Q5.対象薬剤製薬企業等の株式を保有しているか？対象薬剤製薬企業等に出資を行っているか？\n\n・株式の保有については、公開株式については５％以上、未公開株式は1株以上、新株予約権は１個以上をいう。これに該当しない場合は、「なし」とすること。",null,null,"本人",null,"株式を保有している",null,null,"株式を保有している",null,{"$f":"IF(N65=\"\",\"\",VLOOKUP(N65,'様式C_統括管理・責任医師'!基準選択肢C,2,FALSE))","v":""},{"$f":"IF(AND(G65=\"はい\",I65=\"はい\"),\"基準1と4と5\",IF(AND(J65=\"はい\",L65=\"はい\"),\"基準1と4と5\",IF(AND(G65=\"はい\",I65=\"いいえ\"),\"基準1\",IF(AND(J65=\"はい\",L65=\"いいえ\"),\"基準1\",\"\"))))","v":""}]
[null,null,null,null,null,null,null,"株式の保有又は出資の内容",null,null,"株式の保有又は出資の内容"]
[null,null,null,null,null,"申告者と生計を同じにする配偶者及びその一親等の親族",null,"株式を保有している",null,null,"株式を保有している",null,{"$f":"IF(N67=\"\",\"\",VLOOKUP(N67,'様式C_統括管理・責任医師'!基準選択肢C,2,FALSE))","v":""},{"$f":"IF(AND(G67=\"はい\",I67=\"はい\"),\"基準1と6\",IF(AND(J67=\"はい\",L67=\"はい\"),\"基準1と6\",IF(AND(G67=\"はい\",I67=\"いいえ\"),\"基準1\",IF(AND(J67=\"はい\",L67=\"いいえ\"),\"基準1\",\"\"))))","v":""}]
[null,null,null,null,null,null,null,"株式の保有又は出資の内容",null,null,"株式の保有又は出資の内容"]
[null,null,"Q6.その他、対象薬剤製薬企業等の関与があるか？",null,null,"本人",null,"知的財産への関与有り",null,null,"知的財産への関与有り",null,{"$f":"IF(N69=\"\",\"\",VLOOKUP(N69,'様式C_統括管理・責任医師'!基準選択肢C,2,FALSE))","v":""},{"$f":"IF(AND(G69=\"はい\",I69=\"はい\"),\"基準1と4と5\",IF(AND(J69=\"はい\",L69=\"はい\"),\"基準1と4と5\",IF(AND(G69=\"はい\",I69=\"いいえ\"),\"基準1\",IF(AND(J69=\"はい\",L69=\"いいえ\"),\"基準1\",\"\"))))","v":""}]
[null,null,null,null,null,null,null,"その他の関与",null,null,"その他の関与"]
[null,null,null,null,null,"申告者と生計を同じにする配偶者及びその一親等の親族",null,"知的財産への関与有り",null,null,"知的財産への関与有り",null,{"$f":"IF(N71=\"\",\"\",VLOOKUP(N71,'様式C_統括管理・責任医師'!基準選択肢C,2,FALSE))","v":""},{"$f":"IF(AND(G71=\"はい\",I71=\"はい\"),\"基準1と6\",IF(AND(J71=\"はい\",L71=\"はい\"),\"基準1と6\",IF(AND(G71=\"はい\",I71=\"いいえ\"),\"基準1\",IF(AND(J71=\"はい\",L71=\"いいえ\"),\"基準1\",\"\"))))","v":""}]
[null,null,null,null,null,null,null,"その他の関与",null,null,"その他の関与"]
[]
[null,null,null,null,"本研究の対象薬剤製薬企業等の名称：","③",{"$f":"IF(G21=\"\",\"\",G21)","v":""}]
[]
[null,null,"COI状況の有無",null,null,null,"前年度",null,null,"今年度"]
[null,null,null,null,null,null,"有無","「はい」と回答した項目について",null,"有無","「はい」と回答した項目について",null,"「はい」と回答した項目について"]
[null,null,null,null,null,null,null,"COIの内容について\n詳細を選択・記述",null,null,"COIの内容について\n詳細を選択・記述",null,"COI管理計画"]
[null,null,"Q１．対象薬剤製薬企業等からの寄附金の総額が、年間合計200万円を超えているか？",null,null,"本人",null,"受入金額(円)",null,null,"受入金額(円)",null,{"$f":"IF(N79=\"\",\"\",VLOOKUP(N79,'様式C_統括管理・責任医師'!基準選択肢C,2,FALSE))","v":""},{"$f":"IF(G79=\"はい\",\"基準1\",IF(J79=\"はい\",\"基準1\",\"\"))","v":""}]
[null,null,"Q２.　対象薬剤製薬企業等が提供する寄附講座に所属しているか？",null,null,"本人",null,"期間",null,null,"期間",null,{"$f":"IF(N80=\"\",\"\",VLOOKUP(N80,'様式C_統括管理・責任医師'!基準選択肢C,2,FALSE))","v":""},{"$f":"IF(AND($G80=\"はい\",$I81=\"有\"),\"基準1と4と5\",IF(AND($J80=\"はい\",$L81=\"有\"),\"基準1と4と5\",IF($G80=\"はい\",\"基準1\",IF($J80=\"はい\",\"基準1\",\"\"))))","v":""}]
[null,null,null,null,null,null,null,"給与の有無",null,null,"給与の有無"]
[null,null,"Q3．対象薬剤製薬企業等からの年間合計100万円以上の個人的利益があるか？\n　\n・　個人的利益とは、給与・講演・原稿執筆・コンサルティング・知的所有権・贈答・接遇等による収入をいう。",null,null,"本人",null,"経済的利益の内容(複数ある場合はすべて記載)",null,null,"経済的利益の内容(複数ある場合はすべて記載)",null,{"$f":"IF(N82=\"\",\"\",VLOOKUP(N82,'様式C_統括管理・責任医師'!基準選択肢C,2,FALSE))","v":""},{"$f":"IF(OR(I83>=2500000,L83>=2500000),\"基準1と4と5\",IF(OR(I83>=1000000,L83>=1000000),\"基準1\",\"\"))","v":""}]
[null,null,null,null,null,null,null,"受入金額(円)",null,null,"受入金額(円)"]
[null,null,null,null,null,"申告者と生計を同じにする配偶者及びその一親等の親族",null,"経済的利益の内容(複数ある場合はすべて記載)",null,null,"経済的利益の内容(複数ある場合はすべて記載)",null,{"$f":"IF(N84=\"\",\"\",VLOOKUP(N84,'様式C_統括管理・責任医師'!基準選択肢C,2,FALSE))","v":""},{"$f":"IF(OR(I85>=2500000,L85>=2500000),\"基準1と6\",IF(OR(I85>=1000000,L85>=1000000),\"基準1\",\"\"))","v":""}]
[null,null,null,null,null,null,null,"受入金額(円)",null,null,"受入金額(円)"]
[null,null,"Q4．対象薬剤製薬企業等の役員に就任しているか？\n\n・　役員とは、株式会社の代表取締役・取締役、合同会社の代表者等代表権限を有する者、監査役をいう。",null,null,"本人",null,"役職等の種類",null,null,"役職等の種類",null,{"$f":"IF(N86=\"\",\"\",VLOOKUP(N86,'様式C_統括管理・責任医師'!基準選択肢C,2,FALSE))","v":""},{"$f":"IF(G86=\"はい\",\"基準1と4と5\",IF(J86=\"はい\",\"基準1と4と5\",\"\"))","v":""}]
[null,null,null,null,null,"申告者と生計を同じにする配偶者及びその一親等の親族",null,"役職等の種類",null,null,"役職等の種類",null,{"$f":"IF(N87=\"\",\"\",VLOOKUP(N87,'様式C_統括管理・責任医師'!基準選択肢C,2,FALSE))","v":""},{"$f":"IF(G87=\"はい\",\"基準1と6\",IF(J87=\"はい\",\"基準1と6\",\"\"))","v":""}]
[null,null,"Q5.対象薬剤製薬企業等の株式を保有しているか？対象薬剤製薬企業等に出資を行っているか？\n\n・株式の保有については、公開株式については５％以上、未公開株式は1株以上、新株予約権は１個以上をいう。これに該当しない場合は、「なし」とすること。",null,null,"本人",null,"株式を保有している",null,null,"株式を保有している",null,{"$f":"IF(N88=\"\",\"\",VLOOKUP(N88,'様式C_統括管理・責任医師'!基準選択肢C,2,FALSE))","v":""},{"$f":"IF(AND(G88=\"はい\",I88=\"はい\"),\"基準1と4と5\",IF(AND(J88=\"はい\",L88=\"はい\"),\"基準1と4と5\",IF(AND(G88=\"はい\",I88=\"いいえ\"),\"基準1\",IF(AND(J88=\"はい\",L88=\"いいえ\"),\"基準1\",\"\"))))","v":""}]
[null,null,null,null,null,null,null,"株式の保有又は出資の内容",null,null,"株式の保有又は出資の内容"]
[null,null,null,null,null,"申告者と生計を同じにする配偶者及びその一親等の親族",null,"株式を保有している",null,null,"株式を保有している",null,{"$f":"IF(N90=\"\",\"\",VLOOKUP(N90,'様式C_統括管理・責任医師'!基準選択肢C,2,FALSE))","v":""},{"$f":"IF(AND(G90=\"はい\",I90=\"はい\"),\"基準1と6\",IF(AND(J90=\"はい\",L90=\"はい\"),\"基準1と6\",IF(AND(G90=\"はい\",I90=\"いいえ\"),\"基準1\",IF(AND(J90=\"はい\",L90=\"いいえ\"),\"基準1\",\"\"))))","v":""}]
[null,null,null,null,null,null,null,"株式の保有又は出資の内容",null,null,"株式の保有又は出資の内容"]
[null,null,"Q6.その他、対象薬剤製薬企業等の関与があるか？",null,null,"本人",null,"知的財産への関与有り",null,null,"知的財産への関与有り",null,{"$f":"IF(N92=\"\",\"\",VLOOKUP(N92,'様式C_統括管理・責任医師'!基準選択肢C,2,FALSE))","v":""},{"$f":"IF(AND(G92=\"はい\",I92=\"はい\"),\"基準1と4と5\",IF(AND(J92=\"はい\",L92=\"はい\"),\"基準1と4と5\",IF(AND(G92=\"はい\",I92=\"いいえ\"),\"基準1\",IF(AND(J92=\"はい\",L92=\"いいえ\"),\"基準1\",\"\"))))","v":""}]
[null,null,null,null,null,null,null,"その他の関与",null,null,"その他の関与"]
[null,null,null,null,null,"申告者と生計を同じにする配偶者及びその一親等の親族",null,"知的財産への関与有り",null,null,"知的財産への関与有り",null,{"$f":"IF(N94=\"\",\"\",VLOOKUP(N94,'様式C_統括管理・責任医師'!基準選択肢C,2,FALSE))","v":""},{"$f":"IF(AND(G94=\"はい\",I94=\"はい\"),\"基準1と6\",IF(AND(J94=\"はい\",L94=\"はい\"),\"基準1と6\",IF(AND(G94=\"はい\",I94=\"いいえ\"),\"基準1\",IF(AND(J94=\"はい\",L94=\"いいえ\"),\"基準1\",\"\"))))","v":""}]
[null,null,null,null,null,null,null,"その他の関与",null,null,"その他の関与"]
[]
[null,null,null,null,"本研究の対象薬剤製薬企業等の名称：","④",{"$f":"IF(G22=\"\",\"\",G22)","v":""}]
[]
[null,null,"COI状況の有無",null,null,null,"前年度",null,null,"今年度"]
[null,null,null,null,null,null,"有無","「はい」と回答した項目について",null,"有無","「はい」と回答した項目について",null,"「はい」と回答した項目について"]
[null,null,null,null,null,null,null,"COIの内容について\n詳細を選択・記述",null,null,"COIの内容について\n詳細を選択・記述",null,"COI管理計画"]
[null,null,"Q１．対象薬剤製薬企業等からの寄附金の総額が、年間合計200万円を超えているか？",null,null,"本人",null,"受入金額(円)",null,null,"受入金額(円)",null,{"$f":"IF(N102=\"\",\"\",VLOOKUP(N102,'様式C_統括管理・責任医師'!基準選択肢C,2,FALSE))","v":""},{"$f":"IF(G102=\"はい\",\"基準1\",IF(J102=\"はい\",\"基準1\",\"\"))","v":""}]
[null,null,"Q２.　対象薬剤製薬企業等が提供する寄附講座に所属しているか？",null,null,"本人",null,"期間",null,null,"期間",null,{"$f":"IF(N103=\"\",\"\",VLOOKUP(N103,'様式C_統括管理・責任医師'!基準選択肢C,2,FALSE))","v":""},{"$f":"IF(AND($G103=\"はい\",$I104=\"有\"),\"基準1と4と5\",IF(AND($J103=\"はい\",$L104=\"有\"),\"基準1と4と5\",IF($G103=\"はい\",\"基準1\",IF($J103=\"はい\",\"基準1\",\"\"))))","v":""}]
[null,null,null,null,null,null,null,"給与の有無",null,null,"給与の有無"]
[null,null,"Q3．対象薬剤製薬企業等からの年間合計100万円以上の個人的利益があるか？\n　\n・　個人的利益とは、給与・講演・原稿執筆・コンサルティング・知的所有権・贈答・接遇等による収入をいう。",null,null,"本人",null,"経済的利益の内容(複数ある場合はすべて記載)",null,null,"経済的利益の内容(複数ある場合はすべて記載)",null,{"$f":"IF(N105=\"\",\"\",VLOOKUP(N105,'様式C_統括管理・責任医師'!基準選択肢C,2,FALSE))","v":""},{"$f":"IF(OR(I106>=2500000,L106>=2500000),\"基準1と4と5\",IF(OR(I106>=1000000,L106>=1000000),\"基準1\",\"\"))","v":""}]
[null,null,null,null,null,null,null,"受入金額(円)",null,null,"受入金額(円)"]
[null,null,null,null,null,"申告者と生計を同じにする配偶者及びその一親等の親族",null,"経済的利益の内容(複数ある場合はすべて記載)",null,null,"経済的利益の内容(複数ある場合はすべて記載)",null,{"$f":"IF(N107=\"\",\"\",VLOOKUP(N107,'様式C_統括管理・責任医師'!基準選択肢C,2,FALSE))","v":""},{"$f":"IF(OR(I108>=2500000,L108>=2500000),\"基準1と6\",IF(OR(I108>=1000000,L108>=1000000),\"基準1\",\"\"))","v":""}]
[null,null,null,null,null,null,null,"受入金額(円)",null,null,"受入金額(円)"]
[null,null,"Q4．対象薬剤製薬企業等の役員に就任しているか？\n\n・　役員とは、株式会社の代表取締役・取締役、合同会社の代表者等代表権限を有する者、監査役をいう。",null,null,"本人",null,"役職等の種類",null,null,"役職等の種類",null,{"$f":"IF(N109=\"\",\"\",VLOOKUP(N109,'様式C_統括管理・責任医師'!基準選択肢C,2,FALSE))","v":""},{"$f":"IF(G109=\"はい\",\"基準1と4と5\",IF(J109=\"はい\",\"基準1と4と5\",\"\"))","v":""}]
[null,null,null,null,null,"申告者と生計を同じにする配偶者及びその一親等の親族",null,"役職等の種類",null,null,"役職等の種類",null,{"$f":"IF(N110=\"\",\"\",VLOOKUP(N110,'様式C_統括管理・責任医師'!基準選択肢C,2,FALSE))","v":""},{"$f":"IF(G110=\"はい\",\"基準1と6\",IF(J110=\"はい\",\"基準1と6\",\"\"))","v":""}]
[null,null,"Q5.対象薬剤製薬企業等の株式を保有しているか？対象薬剤製薬企業等に出資を行っているか？\n\n・株式の保有については、公開株式については５％以上、未公開株式は1株以上、新株予約権は１個以上をいう。これに該当しない場合は、「なし」とすること。",null,null,"本人",null,"株式を保有している",null,null,"株式を保有している",null,{"$f":"IF(N111=\"\",\"\",VLOOKUP(N111,'様式C_統括管理・責任医師'!基準選択肢C,2,FALSE))","v":""},{"$f":"IF(AND(G111=\"はい\",I111=\"はい\"),\"基準1と4と5\",IF(AND(J111=\"はい\",L111=\"はい\"),\"基準1と4と5\",IF(AND(G111=\"はい\",I111=\"いいえ\"),\"基準1\",IF(AND(J111=\"はい\",L111=\"いいえ\"),\"基準1\",\"\"))))","v":""}]
[null,null,null,null,null,null,null,"株式の保有又は出資の内容",null,null,"株式の保有又は出資の内容"]
[null,null,null,null,null,"申告者と生計を同じにする配偶者及びその一親等の親族",null,"株式を保有している",null,null,"株式を保有している",null,{"$f":"IF(N113=\"\",\"\",VLOOKUP(N113,'様式C_統括管理・責任医師'!基準選択肢C,2,FALSE))","v":""},{"$f":"IF(AND(G113=\"はい\",I113=\"はい\"),\"基準1と6\",IF(AND(J113=\"はい\",L113=\"はい\"),\"基準1と6\",IF(AND(G113=\"はい\",I113=\"いいえ\"),\"基準1\",IF(AND(J113=\"はい\",L113=\"いいえ\"),\"基準1\",\"\"))))","v":""}]
[null,null,null,null,null,null,null,"株式の保有又は出資の内容",null,null,"株式の保有又は出資の内容"]
[null,null,"Q6.その他、対象薬剤製薬企業等の関与があるか？",null,null,"本人",null,"知的財産への関与有り",null,null,"知的財産への関与有り",null,{"$f":"IF(N115=\"\",\"\",VLOOKUP(N115,'様式C_統括管理・責任医師'!基準選択肢C,2,FALSE))","v":""},{"$f":"IF(AND(G115=\"はい\",I115=\"はい\"),\"基準1と4と5\",IF(AND(J115=\"はい\",L115=\"はい\"),\"基準1と4と5\",IF(AND(G115=\"はい\",I115=\"いいえ\"),\"基準1\",IF(AND(J115=\"はい\",L115=\"いいえ\"),\"基準1\",\"\"))))","v":""}]
[null,null,null,null,null,null,null,"その他の関与",null,null,"その他の関与"]
[null,null,null,null,null,"申告者と生計を同じにする配偶者及びその一親等の親族",null,"知的財産への関与有り",null,null,"知的財産への関与有り",null,{"$f":"IF(N117=\"\",\"\",VLOOKUP(N117,'様式C_統括管理・責任医師'!基準選択肢C,2,FALSE))","v":""},{"$f":"IF(AND(G117=\"はい\",I117=\"はい\"),\"基準1と6\",IF(AND(J117=\"はい\",L117=\"はい\"),\"基準1と6\",IF(AND(G117=\"はい\",I117=\"いいえ\"),\"基準1\",IF(AND(J117=\"はい\",L117=\"いいえ\"),\"基準1\",\"\"))))","v":""}]
[null,null,null,null,null,null,null,"その他の関与",null,null,"その他の関与"]
[]
[null,null,null,null,"本研究の対象薬剤製薬企業等の名称：","⑤",{"$f":"IF(G23=\"\",\"\",G23)","v":""}]
[]
[null,null,"COI状況の有無",null,null,null,"前年度",null,null,"今年度"]
[null,null,null,null,null,null,"有無","「はい」と回答した項目について",null,"有無","「はい」と回答した項目について",null,"「はい」と回答した項目について"]
[null,null,null,null,null,null,null,"COIの内容について\n詳細を選択・記述",null,null,"COIの内容について\n詳細を選択・記述",null,"COI管理計画"]
[null,null,"Q１．対象薬剤製薬企業等からの寄附金の総額が、年間合計200万円を超えているか？",null,null,"本人",null,"受入金額(円)",null,null,"受入金額(円)",null,{"$f":"IF(N125=\"\",\"\",VLOOKUP(N125,'様式C_統括管理・責任医師'!基準選択肢C,2,FALSE))","v":""},{"$f":"IF(G125=\"はい\",\"基準1\",IF(J125=\"はい\",\"基準1\",\"\"))","v":""}]
[null,null,"Q２.　対象薬剤製薬企業等が提供する寄附講座に所属しているか？",null,null,"本人",null,"期間",null,null,"期間",null,{"$f":"IF(N126=\"\",\"\",VLOOKUP(N126,'様式C_統括管理・責任医師'!基準選択肢C,2,FALSE))","v":""},{"$f":"IF(AND($G126=\"はい\",$I127=\"有\"),\"基準1と4と5\",IF(AND($J126=\"はい\",$L127=\"有\"),\"基準1と4と5\",IF($G126=\"はい\",\"基準1\",IF($J126=\"はい\",\"基準1\",\"\"))))","v":""}]
[null,null,null,null,null,null,null,"給与の有無",null,null,"給与の有無"]
[null,null,"Q3．対象薬剤製薬企業等からの年間合計100万円以上の個人的利益があるか？\n　\n・　個人的利益とは、給与・講演・原稿執筆・コンサルティング・知的所有権・贈答・接遇等による収入をいう。",null,null,"本人",null,"経済的利益の内容(複数ある場合はすべて記載)",null,null,"経済的利益の内容(複数ある場合はすべて記載)",null,{"$f":"IF(N128=\"\",\"\",VLOOKUP(N128,'様式C_統括管理・責任医師'!基準選択肢C,2,FALSE))","v":""},{"$f":"IF(OR(I129>=2500000,L129>=2500000),\"基準1と4と5\",IF(OR(I129>=1000000,L129>=1000000),\"基準1\",\"\"))","v":""}]
[null,null,null,null,null,null,null,"受入金額(円)",null,null,"受入金額(円)"]
[null,null,null,null,null,"申告者と生計を同じにする配偶者及びその一親等の親族",null,"経済的利益の内容(複数ある場合はすべて記載)",null,null,"経済的利益の内容(複数ある場合はすべて記載)",null,{"$f":"IF(N130=\"\",\"\",VLOOKUP(N130,'様式C_統括管理・責任医師'!基準選択肢C,2,FALSE))","v":""},{"$f":"IF(OR(I131>=2500000,L131>=2500000),\"基準1と6\",IF(OR(I131>=1000000,L131>=1000000),\"基準1\",\"\"))","v":""}]
[null,null,null,null,null,null,null,"受入金額(円)",null,null,"受入金額(円)"]
[null,null,"Q4．対象薬剤製薬企業等の役員に就任しているか？\n\n・　役員とは、株式会社の代表取締役・取締役、合同会社の代表者等代表権限を有する者、監査役をいう。",null,null,"本人",null,"役職等の種類",null,null,"役職等の種類",null,{"$f":"IF(N132=\"\",\"\",VLOOKUP(N132,'様式C_統括管理・責任医師'!基準選択肢C,2,FALSE))","v":""},{"$f":"IF(G132=\"はい\",\"基準1と4と5\",IF(J132=\"はい\",\"基準1と4と5\",\"\"))","v":""}]
[null,null,null,null,null,"申告者と生計を同じにする配偶者及びその一親等の親族",null,"役職等の種類",null,null,"役職等の種類",null,{"$f":"IF(N133=\"\",\"\",VLOOKUP(N133,'様式C_統括管理・責任医師'!基準選択肢C,2,FALSE))","v":""},{"$f":"IF(G133=\"はい\",\"基準1と6\",IF(J133=\"はい\",\"基準1と6\",\"\"))","v":""}]
[null,null,"Q5.対象薬剤製薬企業等の株式を保有しているか？対象薬剤製薬企業等に出資を行っているか？\n\n・株式の保有については、公開株式については５％以上、未公開株式は1株以上、新株予約権は１個以上をいう。これに該当しない場合は、「なし」とすること。",null,null,"本人",null,"株式を保有している",null,null,"株式を保有している",null,{"$f":"IF(N134=\"\",\"\",VLOOKUP(N134,'様式C_統括管理・責任医師'!基準選択肢C,2,FALSE))","v":""},{"$f":"IF(AND(G134=\"はい\",I134=\"はい\"),\"基準1と4と5\",IF(AND(J134=\"はい\",L134=\"はい\"),\"基準1と4と5\",IF(AND(G134=\"はい\",I134=\"いいえ\"),\"基準1\",IF(AND(J134=\"はい\",L134=\"いいえ\"),\"基準1\",\"\"))))","v":""}]
[null,null,null,null,null,null,null,"株式の保有又は出資の内容",null,null,"株式の保有又は出資の内容"]
[null,null,null,null,null,"申告者と生計を同じにする配偶者及びその一親等の親族",null,"株式を保有している",null,null,"株式を保有している",null,{"$f":"IF(N136=\"\",\"\",VLOOKUP(N136,'様式C_統括管理・責任医師'!基準選択肢C,2,FALSE))","v":""},{"$f":"IF(AND(G136=\"はい\",I136=\"はい\"),\"基準1と6\",IF(AND(J136=\"はい\",L136=\"はい\"),\"基準1と6\",IF(AND(G136=\"はい\",I136=\"いいえ\"),\"基準1\",IF(AND(J136=\"はい\",L136=\"いいえ\"),\"基準1\",\"\"))))","v":""}]
[null,null,null,null,null,null,null,"株式の保有又は出資の内容",null,null,"株式の保有又は出資の内容"]
[null,null,"Q6.その他、対象薬剤製薬企業等の関与があるか？",null,null,"本人",null,"知的財産への関与有り",null,null,"知的財産への関与有り",null,{"$f":"IF(N138=\"\",\"\",VLOOKUP(N138,'様式C_統括管理・責任医師'!基準選択肢C,2,FALSE))","v":""},{"$f":"IF(AND(G138=\"はい\",I138=\"はい\"),\"基準1と4と5\",IF(AND(J138=\"はい\",L138=\"はい\"),\"基準1と4と5\",IF(AND(G138=\"はい\",I138=\"いいえ\"),\"基準1\",IF(AND(J138=\"はい\",L138=\"いいえ\"),\"基準1\",\"\"))))","v":""}]
[null,null,null,null,null,null,null,"その他の関与",null,null,"その他の関与"]
[null,null,null,null,null,"申告者と生計を同じにする配偶者及びその一親等の親族",null,"知的財産への関与有り",null,null,"知的財産への関与有り",null,{"$f":"IF(N140=\"\",\"\",VLOOKUP(N140,'様式C_統括管理・責任医師'!基準選択肢C,2,FALSE))","v":""},{"$f":"IF(AND(G140=\"はい\",I140=\"はい\"),\"基準1と6\",IF(AND(J140=\"はい\",L140=\"はい\"),\"基準1と6\",IF(AND(G140=\"はい\",I140=\"いいえ\"),\"基準1\",IF(AND(J140=\"はい\",L140=\"いいえ\"),\"基準1\",\"\"))))","v":""}]
[null,null,null,null,null,null,null,"その他の関与",null,null,"その他の関与"]
[]
[null,null,null,null,"本研究の対象薬剤製薬企業等の名称：","⑥",{"$f":"IF(G24=\"\",\"\",G24)","v":""}]
[]
[null,null,"COI状況の有無",null,null,null,"前年度",null,null,"今年度"]
[null,null,null,null,null,null,"有無","「はい」と回答した項目について",null,"有無","「はい」と回答した項目について",null,"「はい」と回答した項目について"]
[null,null,null,null,null,null,null,"COIの内容について\n詳細を選択・記述",null,null,"COIの内容について\n詳細を選択・記述",null,"COI管理計画"]
[null,null,"Q１．対象薬剤製薬企業等からの寄附金の総額が、年間合計200万円を超えているか？",null,null,"本人",null,"受入金額(円)",null,null,"受入金額(円)",null,{"$f":"IF(N148=\"\",\"\",VLOOKUP(N148,'様式C_統括管理・責任医師'!基準選択肢C,2,FALSE))","v":""},{"$f":"IF(G148=\"はい\",\"基準1\",IF(J148=\"はい\",\"基準1\",\"\"))","v":""}]
[null,null,"Q２.　対象薬剤製薬企業等が提供する寄附講座に所属しているか？",null,null,"本人",null,"期間",null,null,"期間",null,{"$f":"IF(N149=\"\",\"\",VLOOKUP(N149,'様式C_統括管理・責任医師'!基準選択肢C,2,FALSE))","v":""},{"$f":"IF(AND($G149=\"はい\",$I150=\"有\"),\"基準1と4と5\",IF(AND($J149=\"はい\",$L150=\"有\"),\"基準1と4と5\",IF($G149=\"はい\",\"基準1\",IF($J149=\"はい\",\"基準1\",\"\"))))","v":""}]
[null,null,null,null,null,null,null,"給与の有無",null,null,"給与の有無"]
[null,null,"Q3．対象薬剤製薬企業等からの年間合計100万円以上の個人的利益があるか？\n　\n・　個人的利益とは、給与・講演・原稿執筆・コンサルティング・知的所有権・贈答・接遇等による収入をいう。",null,null,"本人",null,"経済的利益の内容(複数ある場合はすべて記載)",null,null,"経済的利益の内容(複数ある場合はすべて記載)",null,{"$f":"IF(N151=\"\",\"\",VLOOKUP(N151,'様式C_統括管理・責任医師'!基準選択肢C,2,FALSE))","v":""},{"$f":"IF(OR(I152>=2500000,L152>=2500000),\"基準1と4と5\",IF(OR(I152>=1000000,L152>=1000000),\"基準1\",\"\"))","v":""}]
[null,null,null,null,null,null,null,"受入金額(円)",null,null,"受入金額(円)"]
[null,null,null,null,null,"申告者と生計を同じにする配偶者及びその一親等の親族",null,"経済的利益の内容(複数ある場合はすべて記載)",null,null,"経済的利益の内容(複数ある場合はすべて記載)",null,{"$f":"IF(N153=\"\",\"\",VLOOKUP(N153,'様式C_統括管理・責任医師'!基準選択肢C,2,FALSE))","v":""},{"$f":"IF(OR(I154>=2500000,L154>=2500000),\"基準1と6\",IF(OR(I154>=1000000,L154>=1000000),\"基準1\",\"\"))","v":""}]
[null,null,null,null,null,null,null,"受入金額(円)",null,null,"受入金額(円)"]
[null,null,"Q4．対象薬剤製薬企業等の役員に就任しているか？\n\n・　役員とは、株式会社の代表取締役・取締役、合同会社の代表者等代表権限を有する者、監査役をいう。",null,null,"本人",null,"役職等の種類",null,null,"役職等の種類",null,{"$f":"IF(N155=\"\",\"\",VLOOKUP(N155,'様式C_統括管理・責任医師'!基準選択肢C,2,FALSE))","v":""},{"$f":"IF(G155=\"はい\",\"基準1と4と5\",IF(J155=\"はい\",\"基準1と4と5\",\"\"))","v":""}]
[null,null,null,null,null,"申告者と生計を同じにする配偶者及びその一親等の親族",null,"役職等の種類",null,null,"役職等の種類",null,{"$f":"IF(N156=\"\",\"\",VLOOKUP(N156,'様式C_統括管理・責任医師'!基準選択肢C,2,FALSE))","v":""},{"$f":"IF(G156=\"はい\",\"基準1と6\",IF(J156=\"はい\",\"基準1と6\",\"\"))","v":""}]
[null,null,"Q5.対象薬剤製薬企業等の株式を保有しているか？対象薬剤製薬企業等に出資を行っているか？\n\n・株式の保有については、公開株式については５％以上、未公開株式は1株以上、新株予約権は１個以上をいう。これに該当しない場合は、「なし」とすること。",null,null,"本人",null,"株式を保有している",null,null,"株式を保有している",null,{"$f":"IF(N157=\"\",\"\",VLOOKUP(N157,'様式C_統括管理・責任医師'!基準選択肢C,2,FALSE))","v":""},{"$f":"IF(AND(G157=\"はい\",I157=\"はい\"),\"基準1と4と5\",IF(AND(J157=\"はい\",L157=\"はい\"),\"基準1と4と5\",IF(AND(G157=\"はい\",I157=\"いいえ\"),\"基準1\",IF(AND(J157=\"はい\",L157=\"いいえ\"),\"基準1\",\"\"))))","v":""}]
[null,null,null,null,null,null,null,"株式の保有又は出資の内容",null,null,"株式の保有又は出資の内容"]
[null,null,null,null,null,"申告者と生計を同じにする配偶者及びその一親等の親族",null,"株式を保有している",null,null,"株式を保有している",null,{"$f":"IF(N159=\"\",\"\",VLOOKUP(N159,'様式C_統括管理・責任医師'!基準選択肢C,2,FALSE))","v":""},{"$f":"IF(AND(G159=\"はい\",I159=\"はい\"),\"基準1と6\",IF(AND(J159=\"はい\",L159=\"はい\"),\"基準1と6\",IF(AND(G159=\"はい\",I159=\"いいえ\"),\"基準1\",IF(AND(J159=\"はい\",L159=\"いいえ\"),\"基準1\",\"\"))))","v":""}]
[null,null,null,null,null,null,null,"株式の保有又は出資の内容",null,null,"株式の保有又は出資の内容"]
[null,null,"Q6.その他、対象薬剤製薬企業等の関与があるか？",null,null,"本人",null,"知的財産への関与有り",null,null,"知的財産への関与有り",null,{"$f":"IF(N161=\"\",\"\",VLOOKUP(N161,'様式C_統括管理・責任医師'!基準選択肢C,2,FALSE))","v":""},{"$f":"IF(AND(G161=\"はい\",I161=\"はい\"),\"基準1と4と5\",IF(AND(J161=\"はい\",L161=\"はい\"),\"基準1と4と5\",IF(AND(G161=\"はい\",I161=\"いいえ\"),\"基準1\",IF(AND(J161=\"はい\",L161=\"いいえ\"),\"基準1\",\"\"))))","v":""}]
[null,null,null,null,null,null,null,"その他の関与",null,null,"その他の関与"]
[null,null,null,null,null,"申告者と生計を同じにする配偶者及びその一親等の親族",null,"知的財産への関与有り",null,null,"知的財産への関与有り",null,{"$f":"IF(N163=\"\",\"\",VLOOKUP(N163,'様式C_統括管理・責任医師'!基準選択肢C,2,FALSE))","v":""},{"$f":"IF(AND(G163=\"はい\",I163=\"はい\"),\"基準1と6\",IF(AND(J163=\"はい\",L163=\"はい\"),\"基準1と6\",IF(AND(G163=\"はい\",I163=\"いいえ\"),\"基準1\",IF(AND(J163=\"はい\",L163=\"いいえ\"),\"基準1\",\"\"))))","v":""}]
[null,null,null,null,null,null,null,"その他の関与",null,null,"その他の関与"]
[]
[null,null,null,null,"本研究の対象薬剤製薬企業等の名称：","⑦",{"$f":"IF(G25=\"\",\"\",G25)","v":""}]
[]
[null,null,"COI状況の有無",null,null,null,"前年度",null,null,"今年度"]
[null,null,null,null,null,null,"有無","「はい」と回答した項目について",null,"有無","「はい」と回答した項目について",null,"「はい」と回答した項目について"]
[null,null,null,null,null,null,null,"COIの内容について\n詳細を選択・記述",null,null,"COIの内容について\n詳細を選択・記述",null,"COI管理計画"]
[null,null,"Q１．対象薬剤製薬企業等からの寄附金の総額が、年間合計200万円を超えているか？",null,null,"本人",null,"受入金額(円)",null,null,"受入金額(円)",null,{"$f":"IF(N171=\"\",\"\",VLOOKUP(N171,'様式C_統括管理・責任医師'!基準選択肢C,2,FALSE))","v":""},{"$f":"IF(G171=\"はい\",\"基準1\",IF(J171=\"はい\",\"基準1\",\"\"))","v":""}]
[null,null,"Q２.　対象薬剤製薬企業等が提供する寄附講座に所属しているか？",null,null,"本人",null,"期間",null,null,"期間",null,{"$f":"IF(N172=\"\",\"\",VLOOKUP(N172,'様式C_統括管理・責任医師'!基準選択肢C,2,FALSE))","v":""},{"$f":"IF(AND($G172=\"はい\",$I173=\"有\"),\"基準1と4と5\",IF(AND($J172=\"はい\",$L173=\"有\"),\"基準1と4と5\",IF($G172=\"はい\",\"基準1\",IF($J172=\"はい\",\"基準1\",\"\"))))","v":""}]
[null,null,null,null,null,null,null,"給与の有無",null,null,"給与の有無"]
[null,null,"Q3．対象薬剤製薬企業等からの年間合計100万円以上の個人的利益があるか？\n　\n・　個人的利益とは、給与・講演・原稿執筆・コンサルティング・知的所有権・贈答・接遇等による収入をいう。",null,null,"本人",null,"経済的利益の内容(複数ある場合はすべて記載)",null,null,"経済的利益の内容(複数ある場合はすべて記載)",null,{"$f":"IF(N174=\"\",\"\",VLOOKUP(N174,'様式C_統括管理・責任医師'!基準選択肢C,2,FALSE))","v":""},{"$f":"IF(OR(I175>=2500000,L175>=2500000),\"基準1と4と5\",IF(OR(I175>=1000000,L175>=1000000),\"基準1\",\"\"))","v":""}]
[null,null,null,null,null,null,null,"受入金額(円)",null,null,"受入金額(円)"]
[null,null,null,null,null,"申告者と生計を同じにする配偶者及びその一親等の親族",null,"経済的利益の内容(複数ある場合はすべて記載)",null,null,"経済的利益の内容(複数ある場合はすべて記載)",null,{"$f":"IF(N176=\"\",\"\",VLOOKUP(N176,'様式C_統括管理・責任医師'!基準選択肢C,2,FALSE))","v":""},{"$f":"IF(OR(I177>=2500000,L177>=2500000),\"基準1と6\",IF(OR(I177>=1000000,L177>=1000000),\"基準1\",\"\"))","v":""}]
[null,null,null,null,null,null,null,"受入金額(円)",null,null,"受入金額(円)"]
[null,null,"Q4．対象薬剤製薬企業等の役員に就任しているか？\n\n・　役員とは、株式会社の代表取締役・取締役、合同会社の代表者等代表権限を有する者、監査役をいう。",null,null,"本人",null,"役職等の種類",null,null,"役職等の種類",null,{"$f":"IF(N178=\"\",\"\",VLOOKUP(N178,'様式C_統括管理・責任医師'!基準選択肢C,2,FALSE))","v":""},{"$f":"IF(G178=\"はい\",\"基準1と4と5\",IF(J178=\"はい\",\"基準1と4と5\",\"\"))","v":""}]
[null,null,null,null,null,"申告者と生計を同じにする配偶者及びその一親等の親族",null,"役職等の種類",null,null,"役職等の種類",null,{"$f":"IF(N179=\"\",\"\",VLOOKUP(N179,'様式C_統括管理・責任医師'!基準選択肢C,2,FALSE))","v":""},{"$f":"IF(G179=\"はい\",\"基準1と6\",IF(J179=\"はい\",\"基準1と6\",\"\"))","v":""}]
[null,null,"Q5.対象薬剤製薬企業等の株式を保有しているか？対象薬剤製薬企業等に出資を行っているか？\n\n・株式の保有については、公開株式については５％以上、未公開株式は1株以上、新株予約権は１個以上をいう。これに該当しない場合は、「なし」とすること。",null,null,"本人",null,"株式を保有している",null,null,"株式を保有している",null,{"$f":"IF(N180=\"\",\"\",VLOOKUP(N180,'様式C_統括管理・責任医師'!基準選択肢C,2,FALSE))","v":""},{"$f":"IF(AND(G180=\"はい\",I180=\"はい\"),\"基準1と4と5\",IF(AND(J180=\"はい\",L180=\"はい\"),\"基準1と4と5\",IF(AND(G180=\"はい\",I180=\"いいえ\"),\"基準1\",IF(AND(J180=\"はい\",L180=\"いいえ\"),\"基準1\",\"\"))))","v":""}]
[null,null,null,null,null,null,null,"株式の保有又は出資の内容",null,null,"株式の保有又は出資の内容"]
[null,null,null,null,null,"申告者と生計を同じにする配偶者及びその一親等の親族",null,"株式を保有している",null,null,"株式を保有している",null,{"$f":"IF(N182=\"\",\"\",VLOOKUP(N182,'様式C_統括管理・責任医師'!基準選択肢C,2,FALSE))","v":""},{"$f":"IF(AND(G182=\"はい\",I182=\"はい\"),\"基準1と6\",IF(AND(J182=\"はい\",L182=\"はい\"),\"基準1と6\",IF(AND(G182=\"はい\",I182=\"いいえ\"),\"基準1\",IF(AND(J182=\"はい\",L182=\"いいえ\"),\"基準1\",\"\"))))","v":""}]
[null,null,null,null,null,null,null,"株式の保有又は出資の内容",null,null,"株式の保有又は出資の内容"]
[null,null,"Q6.その他、対象薬剤製薬企業等の関与があるか？",null,null,"本人",null,"知的財産への関与有り",null,null,"知的財産への関与有り",null,{"$f":"IF(N184=\"\",\"\",VLOOKUP(N184,'様式C_統括管理・責任医師'!基準選択肢C,2,FALSE))","v":""},{"$f":"IF(AND(G184=\"はい\",I184=\"はい\"),\"基準1と4と5\",IF(AND(J184=\"はい\",L184=\"はい\"),\"基準1と4と5\",IF(AND(G184=\"はい\",I184=\"いいえ\"),\"基準1\",IF(AND(J184=\"はい\",L184=\"いいえ\"),\"基準1\",\"\"))))","v":""}]
[null,null,null,null,null,null,null,"その他の関与",null,null,"その他の関与"]
[null,null,null,null,null,"申告者と生計を同じにする配偶者及びその一親等の親族",null,"知的財産への関与有り",null,null,"知的財産への関与有り",null,{"$f":"IF(N186=\"\",\"\",VLOOKUP(N186,'様式C_統括管理・責任医師'!基準選択肢C,2,FALSE))","v":""},{"$f":"IF(AND(G186=\"はい\",I186=\"はい\"),\"基準1と6\",IF(AND(J186=\"はい\",L186=\"はい\"),\"基準1と6\",IF(AND(G186=\"はい\",I186=\"いいえ\"),\"基準1\",IF(AND(J186=\"はい\",L186=\"いいえ\"),\"基準1\",\"\"))))","v":""}]
[null,null,null,null,null,null,null,"その他の関与",null,null,"その他の関与"]

{"sheet":"様式C_研究分担医師等","index":3,"n_rows":180,"n_cols":14,"rows_kept":180,"cut":false,"hidden":false,"merged":[[16,6,16,8],[17,6,17,8],[16,9,16,12],[17,9,17,12],[20,6,20,12],[22,9,22,11],[22,12,22,13],[23,10,23,11],[23,12,23,13],[6,3,7,8],[11,6,11,8],[12,6,12,8],[13,6,13,8],[14,6,14,8],[15,6,15,8],[8,10,8,12],[9,10,9,12],[11,9,11,12],[12,9,12,12],[13,9,13,12],[14,9,14,12],[15,9,15,12],[0,5,0,11],[4,10,4,11],[5,10,5,11],[6,2,7,2],[6,10,6,11],[7,10,7,11],[11,2,17,4],[24,10,24,11],[24,12,24,13],[19,2,19,8],[22,2,24,5],[22,6,22,8],[23,6,24,6],[23,7,23,8],[23,9,24,9],[24,7,24,8],[28,12,29,12],[28,13,29,13],[26,12,27,12],[30,12,31,12],[34,12,35,12],[34,13,35,13],[36,12,37,12],[36,13,37,13],[38,13,39,13],[51,12,52,12],[53,12,54,12],[40,13,41,13],[45,12,45,13],[46,12,46,13],[47,12,47,13],[49,12,50,12],[49,13,50,13],[51,13,52,13],[53,13,54,13],[57,12,58,12],[61,12,62,12],[63,12,64,12],[63,13,64,13],[49,9,50,9],[51,9,52,9],[53,9,54,9],[57,9,58,9],[57,13,58,13],[59,9,60,9],[61,13,62,13],[69,9,70,9],[70,7,70,8],[70,10,70,11],[70,12,70,13],[61,9,62,9],[63,9,64,9],[66,6,66,12],[68,6,68,8],[68,9,68,11],[68,12,68,13],[69,12,69,13],[74,9,75,9],[76,9,77,9],[76,12,77,12],[76,13,77,13],[69,7,69,8],[69,10,69,11],[72,9,73,9],[72,12,73,12],[72,13,73,13],[74,12,75,12],[74,13,75,13],[26,5,27,5],[28,5,29,5],[25,2,25,4],[26,2,27,4],[26,6,27,6],[26,13,27,13],[28,2,31,4],[28,6,29,6],[30,9,31,9],[30,13,31,13],[46,10,46,11],[47,10,47,11],[38,12,39,12],[40,12,41,12],[43,6,43,12],[45,6,45,8],[45,9,45,11],[46,7,46,8],[47,7,47,8],[45,2,47,5],[48,2,48,4],[26,9,27,9],[28,9,29,9],[34,9,35,9],[36,9,37,9],[38,9,39,9],[40,9,41,9],[46,9,47,9],[59,12,60,12],[59,13,60,13],[30,5,31,5],[30,6,31,6],[32,2,33,4],[34,5,35,5],[34,6,35,6],[36,5,37,5],[36,6,37,6],[34,2,37,4],[38,2,41,4],[38,5,39,5],[38,6,39,6],[40,5,41,5],[40,6,41,6],[46,6,47,6],[49,2,50,4],[49,5,50,5],[49,6,50,6],[51,5,52,5],[51,6,52,6],[53,5,54,5],[53,6,54,6],[59,5,60,5],[61,5,62,5],[51,2,54,4],[55,2,56,4],[57,2,60,4],[57,5,58,5],[57,6,58,6],[59,6,60,6],[61,6,62,6],[72,5,73,5],[72,6,73,6],[61,2,64,4],[63,5,64,5],[63,6,64,6],[68,2,70,5],[69,6,70,6],[71,2,71,4],[72,2,73,4],[155,5,156,5],[155,6,156,6],[147,2,148,4],[149,2,152,4],[149,5,150,5],[149,6,150,6],[151,5,152,5],[151,6,152,6],[153,2,156,4],[132,5,133,5],[132,6,133,6],[124,2,125,4],[126,2,129,4],[126,5,127,5],[126,6,127,6],[128,5,129,5],[128,6,129,6],[130,2,133,4],[143,5,144,5],[143,6,144,6],[145,5,146,5],[145,6,146,6],[137,2,139,5],[138,6,139,6],[140,2,140,4],[141,2,142,4],[141,5,142,5],[141,6,142,6],[143,2,146,4],[153,5,154,5],[153,6,154,6],[172,2,175,4],[176,2,179,4],[176,5,177,5],[176,6,177,6],[178,5,179,5],[178,6,179,6],[166,5,167,5],[166,6,167,6],[170,2,171,4],[172,5,173,5],[172,6,173,6],[174,5,175,5],[174,6,175,6],[93,10,93,11],[93,12,93,13],[91,6,91,8],[91,9,91,11],[91,12,91,13],[92,7,92,8],[92,10,92,11],[92,12,92,13],[93,7,93,8],[84,9,85,9],[86,9,87,9],[92,9,93,9],[95,9,96,9],[97,9,98,9],[99,9,100,9],[103,9,104,9],[105,9,106,9],[107,9,108,9],[109,9,110,9],[115,9,116,9],[118,9,119,9],[120,9,121,9],[122,9,123,9],[126,9,127,9],[128,9,129,9],[130,9,131,9],[132,9,133,9],[138,9,139,9],[141,9,142,9],[143,9,144,9],[166,9,167,9],[168,9,169,9],[172,9,173,9],[174,9,175,9],[176,9,177,9],[178,9,179,9],[145,9,146,9],[149,9,150,9],[151,9,152,9],[153,9,154,9],[155,9,156,9],[161,9,162,9],[164,9,165,9],[80,5,81,5],[80,6,81,6],[80,9,81,9],[80,12,81,12],[80,13,81,13],[82,5,83,5],[82,6,83,6],[82,9,83,9],[82,12,83,12],[82,13,83,13],[74,2,77,4],[74,5,75,5],[74,6,75,6],[76,5,77,5],[76,6,77,6],[78,2,79,4],[80,2,83,4],[84,5,85,5],[84,6,85,6],[84,12,85,12],[84,13,85,13],[86,5,87,5],[86,6,87,6],[89,6,89,12],[95,5,96,5],[97,5,98,5],[86,12,87,12],[86,13,87,13],[95,12,96,12],[95,13,96,13],[97,12,98,12],[97,13,98,13],[99,13,100,13],[99,12,100,12],[103,12,104,12],[103,13,104,13],[105,12,106,12],[105,13,106,13],[107,12,108,12],[107,13,108,13],[84,2,87,4],[91,2,93,5],[92,6,93,6],[94,2,94,4],[95,2,96,4],[95,6,96,6],[97,6,98,6],[105,5,106,5],[105,6,106,6],[97,2,100,4],[99,5,100,5],[99,6,100,6],[101,2,102,4],[103,2,106,4],[103,5,104,5],[103,6,104,6],[107,2,110,4],[107,5,108,5],[107,6,108,6],[109,5,110,5],[109,6,110,6],[114,2,116,5],[115,6,116,6],[122,5,123,5],[122,6,123,6],[117,2,117,4],[118,2,119,4],[118,5,119,5],[118,6,119,6],[120,2,123,4],[120,5,121,5],[120,6,121,6],[130,5,131,5],[130,6,131,6],[145,12,146,12],[149,12,150,12],[149,13,150,13],[151,12,152,12],[151,13,152,13],[153,12,154,12],[153,13,154,13],[162,7,162,8],[162,10,162,11],[162,12,162,13],[155,12,156,12],[155,13,156,13],[158,6,158,12],[160,6,160,8],[160,9,160,11],[160,12,160,13],[161,7,161,8],[161,10,161,11],[161,12,161,13],[164,12,165,12],[164,13,165,13],[166,12,167,12],[166,13,167,13],[168,13,169,13],[178,12,179,12],[178,13,179,13],[168,12,169,12],[172,12,173,12],[172,13,173,13],[174,12,175,12],[174,13,175,13],[176,12,177,12],[176,13,177,13],[116,7,116,8],[116,10,116,11],[116,12,116,13],[109,12,110,12],[109,13,110,13],[112,6,112,12],[114,6,114,8],[114,9,114,11],[114,12,114,13],[115,7,115,8],[115,10,115,11],[115,12,115,13],[118,12,119,12],[118,13,119,13],[120,12,121,12],[120,13,121,13],[122,13,123,13],[122,12,123,12],[126,12,127,12],[126,13,127,13],[128,12,129,12],[128,13,129,13],[130,12,131,12],[130,13,131,13],[139,7,139,8],[139,10,139,11],[139,12,139,13],[132,12,133,12],[132,13,133,13],[135,6,135,12],[137,6,137,8],[137,9,137,11],[137,12,137,13],[138,7,138,8],[138,10,138,11],[138,12,138,13],[141,12,142,12],[141,13,142,13],[143,12,144,12],[143,13,144,13],[145,13,146,13],[168,5,169,5],[168,6,169,6],[160,2,162,5],[161,6,162,6],[163,2,163,4],[164,2,165,4],[164,5,165,5],[164,6,165,6],[166,2,169,4]]}
[null,null,null,null,null,"様式C＜研究分担医師等用＞　研究者利益相反自己申告書",null,null,null,null,null,null,"ver1.0"]
[null,null,"所属機関殿"]
[null,null,"本研究課題と関わりのある企業等との関係について、下記の通り報告すると共に、利益相反管理計画を提案いたします。"]
[]
[null,null,null,null,null,null,null,null,null,null,"日　　付"]
[null,null,null,null,null,null,null,null,null,null,"所 属 機 関"]
[null,null,"研究課題：",{"$f":"IF('様式A'!B10=\"\",\"\",'様式A'!B10)","v":""},null,null,null,null,null,null,"立　　場"]
[null,null,null,null,null,null,null,null,null,null,"氏　　名"]
[null,null,null,null,null,null,null,null,null,null,"【特記事項(任意)】例：基準４に該当し、研究責任医師から外れた"]
[]
[null,null,"1. 本研究の対象薬剤製薬企業等について"]
[null,null,"本研究に用いる医薬品等を製造販売し、若しくはしようとする医薬品等製造販売業者又はその特殊関係者（対象薬品製薬企業等）の名称\n\n※当該医薬品等製造販売業者の特殊関係者（子会社）との利益相反がある場合は、右欄に追記すること",null,null,"①",{"$f":"IF('様式B'!F10=\"\",\"\",'様式B'!F10)","v":""},null,null,{"$f":"IF(G12=\"\",\"\",\"本研究対象薬剤・機器名：\"&'様式B'!H10)","v":""}]
[null,null,null,null,null,"②",{"$f":"IF('様式B'!F11=\"\",\"\",'様式B'!F11)","v":""},null,null,{"$f":"IF(G13=\"\",\"\",\"本研究対象薬剤・機器名：\"&'様式B'!H11)","v":""}]
[null,null,null,null,null,"③",{"$f":"IF('様式B'!F12=\"\",\"\",'様式B'!F12)","v":""},null,null,{"$f":"IF(G14=\"\",\"\",\"本研究対象薬剤・機器名：\"&'様式B'!H12)","v":""}]
[null,null,null,null,null,"④",{"$f":"IF('様式B'!F13=\"\",\"\",'様式B'!F13)","v":""},null,null,{"$f":"IF(G15=\"\",\"\",\"本研究対象薬剤・機器名：\"&'様式B'!H13)","v":""}]
[null,null,null,null,null,"⑤",{"$f":"IF('様式B'!F14=\"\",\"\",'様式B'!F14)","v":""},null,null,{"$f":"IF(G16=\"\",\"\",\"本研究対象薬剤・機器名：\"&'様式B'!H14)","v":""}]
[null,null,null,null,null,"⑥"]
[null,null,null,null,null,"⑦"]
[]
[null,null,"2. 本研究の対象薬剤製薬企業等との利益相反報告"]
[null,null,null,null,"本研究の対象薬剤製薬企業等の名称：","①",{"$f":"IF(G12=\"\",\"\",G12)","v":""}]
[]
[null,null,"COI状況の有無",null,null,null,"前年度",null,null,"今年度"]
[null,null,null,null,null,null,"有無","「はい」と回答した項目について",null,"有無","「はい」と回答した項目について",null,"「はい」と回答した項目について"]
[null,null,null,null,null,null,null,"COIの内容について\n詳細を選択・記述",null,null,"COIの内容について\n詳細を選択・記述",null,"COI管理計画"]
[null,null,"Q１．対象薬剤製薬企業等からの寄附金の総額が、年間合計200万円を超えているか？",null,null,"本人",null,"受入金額(円)",null,null,"受入金額(円)",null,{"$f":"IF(N26=\"\",\"\",VLOOKUP(N26,'様式C_研究分担医師等'!基準選択肢C,2,FALSE))","v":""},{"$f":"IF(G26=\"はい\",\"基準1\",IF(J26=\"はい\",\"基準1\",\"\"))","v":""}]
[null,null,"Q２.　対象薬剤製薬企業等が提供する寄附講座に所属しているか？",null,null,"本人",null,"期間",null,null,"期間",null,{"$f":"IF(N27=\"\",\"\",VLOOKUP(N27,'様式C_研究分担医師等'!基準選択肢C,2,FALSE))","v":""},{"$f":"IF(AND($M$7=\"研究分担医師\",$G27=\"はい\",$I28=\"有\"),\"基準1と7\",IF(AND($M$7=\"研究分担医師\",$J27=\"はい\",$L28=\"有\"),\"基準1と7\",IF($G27=\"はい\",\"基準1\",IF($J27=\"はい\",\"基準1\",\"\"))))","v":""}]
[null,null,null,null,null,null,null,"給与の有無",null,null,"給与の有無"]
[null,null,"Q3．対象薬剤製薬企業等からの年間合計100万円以上の個人的利益があるか？\n　\n・　個人的利益とは、給与・講演・原稿執筆・コンサルティング・知的所有権・贈答・接遇等による収入をいう。",null,null,"本人",null,"経済的利益の内容(複数ある場合はすべて記載)",null,null,"経済的利益の内容(複数ある場合はすべて記載)",null,{"$f":"IF(N29=\"\",\"\",VLOOKUP(N29,'様式C_研究分担医師等'!基準選択肢C,2,FALSE))","v":""},{"$f":"IF(AND($M$7=\"研究分担医師\",$G29=\"はい\",$I30>=2500000),\"基準1と7\",IF(AND($M$7=\"研究分担医師\",$J29=\"はい\",$L30>=2500000),\"基準1と7\",IF($G29=\"はい\",\"基準1\",IF($J29=\"はい\",\"基準1\",\"\"))))","v":""}]
[null,null,null,null,null,null,null,"受入金額(円)",null,null,"受入金額(円)"]
[null,null,null,null,null,"申告者と生計を同じにする配偶者及びその一親等の親族",null,"経済的利益の内容(複数ある場合はすべて記載)",null,null,"経済的利益の内容(複数ある場合はすべて記載)",null,{"$f":"IF(N31=\"\",\"\",VLOOKUP(N31,'様式C_研究分担医師等'!基準選択肢C,2,FALSE))","v":""},{"$f":"IF(G31=\"はい\",\"基準1\",IF(J31=\"はい\",\"基準1\",\"\"))","v":""}]
[null,null,null,null,null,null,null,"受入金額(円)",null,null,"受入金額(円)"]
[null,null,"Q4．対象薬剤製薬企業等の役員に就任しているか？\n\n・　役員とは、株式会社の代表取締役・取締役、合同会社の代表者等代表権限を有する者、監査役をいう。",null,null,"本人",null,"役職等の種類",null,null,"役職等の種類",null,{"$f":"IF(N33=\"\",\"\",VLOOKUP(N33,'様式C_研究分担医師等'!基準選択肢C,2,FALSE))","v":""},{"$f":"IF(AND($M$7=\"研究分担医師\",G33=\"はい\"),\"基準1と7\",IF(AND($M$7=\"研究分担医師\",J33=\"はい\"),\"基準1と7\",IF(OR(G33=\"はい\",J33=\"はい\"),\"基準1\",\"\")))","v":""}]
[null,null,null,null,null,"申告者と生計を同じにする配偶者及びその一親等の親族",null,"役職等の種類",null,null,"役職等の種類",null,{"$f":"IF(N34=\"\",\"\",VLOOKUP(N34,'様式C_研究分担医師等'!基準選択肢C,2,FALSE))","v":""},{"$f":"IF(G34=\"はい\",\"基準1\",IF(J34=\"はい\",\"基準1\",\"\"))","v":""}]
[null,null,"Q5.対象薬剤製薬企業等の株式を保有しているか？対象薬剤製薬企業等に出資を行っているか？\n\n・株式の保有については、公開株式については５％以上、未公開株式は1株以上、新株予約権は１個以上をいう。これに該当しない場合は、「なし」とすること。",null,null,"本人",null,"株式を保有している",null,null,"株式を保有している",null,{"$f":"IF(N35=\"\",\"\",VLOOKUP(N35,'様式C_研究分担医師等'!基準選択肢C,2,FALSE))","v":""},{"$f":"IF(AND($M$7=\"研究分担医師\",G35=\"はい\",I35=\"はい\"),\"基準1と7\",IF(AND($M$7=\"研究分担医師\",J35=\"はい\",L35=\"はい\"),\"基準1と7\",IF(AND(G35=\"はい\",I35=\"はい\"),\"基準1\",IF(AND(J35=\"はい\",L35=\"はい\"),\"基準1\",IF(AND(G35=\"はい\",I35=\"いいえ\"),\"基準1\",IF(AND(J35=\"はい\",L35=\"いいえ\"),\"基準1\",\"\"))))))","v":""}]
[null,null,null,null,null,null,null,"株式の保有又は出資の内容",null,null,"株式の保有又は出資の内容"]
[null,null,null,null,null,"申告者と生計を同じにする配偶者及びその一親等の親族",null,"株式を保有している",null,null,"株式を保有している",null,{"$f":"IF(N37=\"\",\"\",VLOOKUP(N37,'様式C_研究分担医師等'!基準選択肢C,2,FALSE))","v":""},{"$f":"IF(G37=\"はい\",\"基準1\",IF(J37=\"はい\",\"基準1\",\"\"))","v":""}]
[null,null,null,null,null,null,null,"株式の保有又は出資の内容",null,null,"株式の保有又は出資の内容"]
[null,null,"Q6.その他、対象薬剤製薬企業等の関与があるか？",null,null,"本人",null,"知的財産への関与有り",null,null,"知的財産への関与有り",null,{"$f":"IF(N39=\"\",\"\",VLOOKUP(N39,'様式C_研究分担医師等'!基準選択肢C,2))","v":""},{"$f":"IF(AND($M$7=\"研究分担医師\",G39=\"はい\",I39=\"はい\"),\"基準1と7\",IF(AND($M$7=\"研究分担医師\",J39=\"はい\",L39=\"はい\"),\"基準1と7\",IF(AND(G39=\"はい\",I39=\"はい\"),\"基準1\",IF(AND(J39=\"はい\",L39=\"はい\"),\"基準1\",IF(AND(G39=\"はい\",I39=\"いいえ\"),\"基準1\",IF(AND(J39=\"はい\",L39=\"いいえ\"),\"基準1\",\"\"))))))","v":""}]
[null,null,null,null,null,null,null,"その他の関与",null,null,"その他の関与"]
[null,null,null,null,null,"申告者と生計を同じにする配偶者及びその一親等の親族",null,"知的財産への関与有り",null,null,"知的財産への関与有り",null,{"$f":"IF(N41=\"\",\"\",VLOOKUP(N41,'様式C_研究分担医師等'!基準選択肢C,2))","v":""},{"$f":"IF(G41=\"はい\",\"基準1\",IF(J41=\"はい\",\"基準1\",\"\"))","v":""}]
[null,null,null,null,null,null,null,"その他の関与",null,null,"その他の関与"]
[]
[null,null,null,null,"本研究の対象薬剤製薬企業等の名称：","②",{"$f":"IF(G13=\"\",\"\",G13)","v":""}]
[]
[null,null,"COI状況の有無",null,null,null,"前年度",null,null,"今年度"]
[null,null,null,null,null,null,"有無","「はい」と回答した項目について",null,"有無","「はい」と回答した項目について",null,"「はい」と回答した項目について"]
[null,null,null,null,null,null,null,"COIの内容について\n詳細を選択・記述",null,null,"COIの内容について\n詳細を選択・記述",null,"COI管理計画"]
[null,null,"Q１．対象薬剤製薬企業等からの寄附金の総額が、年間合計200万円を超えているか？",null,null,"本人",null,"受入金額(円)",null,null,"受入金額(円)",null,{"$f":"IF(N49=\"\",\"\",VLOOKUP(N49,'様式C_研究分担医師等'!基準選択肢C,2,FALSE))","v":""},{"$f":"IF(G49=\"はい\",\"基準1\",IF(J49=\"はい\",\"基準1\",\"\"))","v":""}]
[null,null,"Q２.　対象薬剤製薬企業等が提供する寄附講座に所属しているか？",null,null,"本人",null,"期間",null,null,"期間",null,{"$f":"IF(N50=\"\",\"\",VLOOKUP(N50,'様式C_研究分担医師等'!基準選択肢C,2,FALSE))","v":""},{"$f":"IF(AND($M$7=\"研究分担医師\",$G50=\"はい\",$I51=\"有\"),\"基準1と7\",IF(AND($M$7=\"研究分担医師\",$J50=\"はい\",$L51=\"有\"),\"基準1と7\",IF($G50=\"はい\",\"基準1\",IF($J50=\"はい\",\"基準1\",\"\"))))","v":""}]
[null,null,null,null,null,null,null,"給与の有無",null,null,"給与の有無"]
[null,null,"Q3．対象薬剤製薬企業等からの年間合計100万円以上の個人的利益があるか？\n　\n・　個人的利益とは、給与・講演・原稿執筆・コンサルティング・知的所有権・贈答・接遇等による収入をいう。",null,null,"本人",null,"経済的利益の内容(複数ある場合はすべて記載)",null,null,"経済的利益の内容(複数ある場合はすべて記載)",null,{"$f":"IF(N52=\"\",\"\",VLOOKUP(N52,'様式C_研究分担医師等'!基準選択肢C,2,FALSE))","v":""},{"$f":"IF(AND($M$7=\"研究分担医師\",$G52=\"はい\",$I53>=2500000),\"基準1と7\",IF(AND($M$7=\"研究分担医師\",$J52=\"はい\",$L53>=2500000),\"基準1と7\",IF($G52=\"はい\",\"基準1\",IF($J52=\"はい\",\"基準1\",\"\"))))","v":""}]
[null,null,null,null,null,null,null,"受入金額(円)",null,null,"受入金額(円)"]
[null,null,null,null,null,"申告者と生計を同じにする配偶者及びその一親等の親族",null,"経済的利益の内容(複数ある場合はすべて記載)",null,null,"経済的利益の内容(複数ある場合はすべて記載)",null,{"$f":"IF(N54=\"\",\"\",VLOOKUP(N54,'様式C_研究分担医師等'!基準選択肢C,2,FALSE))","v":""},{"$f":"IF(G54=\"はい\",\"基準1\",IF(J54=\"はい\",\"基準1\",\"\"))","v":""}]
[null,null,null,null,null,null,null,"受入金額(円)",null,null,"受入金額(円)"]
[null,null,"Q4．対象薬剤製薬企業等の役員に就任しているか？\n\n・　役員とは、株式会社の代表取締役・取締役、合同会社の代表者等代表権限を有する者、監査役をいう。",null,null,"本人",null,"役職等の種類",null,null,"役職等の種類",null,{"$f":"IF(N56=\"\",\"\",VLOOKUP(N56,'様式C_研究分担医師等'!基準選択肢C,2,FALSE))","v":""},{"$f":"IF(AND($M$7=\"研究分担医師\",G56=\"はい\"),\"基準1と7\",IF(AND($M$7=\"研究分担医師\",J56=\"はい\"),\"基準1と7\",IF(OR(G56=\"はい\",J56=\"はい\"),\"基準1\",\"\")))","v":""}]
[null,null,null,null,null,"申告者と生計を同じにする配偶者及びその一親等の親族",null,"役職等の種類",null,null,"役職等の種類",null,{"$f":"IF(N57=\"\",\"\",VLOOKUP(N57,'様式C_研究分担医師等'!基準選択肢C,2,FALSE))","v":""},{"$f":"IF(G57=\"はい\",\"基準1\",IF(J57=\"はい\",\"基準1\",\"\"))","v":""}]
[null,null,"Q5.対象薬剤製薬企業等の株式を保有しているか？対象薬剤製薬企業等に出資を行っているか？\n\n・株式の保有については、公開株式については５％以上、未公開株式は1株以上、新株予約権は１個以上をいう。これに該当しない場合は、「なし」とすること。",null,null,"本人",null,"株式を保有している",null,null,"株式を保有している",null,{"$f":"IF(N58=\"\",\"\",VLOOKUP(N58,'様式C_研究分担医師等'!基準選択肢C,2,FALSE))","v":""},{"$f":"IF(AND($M$7=\"研究分担医師\",G58=\"はい\",I58=\"はい\"),\"基準1と7\",IF(AND($M$7=\"研究分担医師\",J58=\"はい\",L58=\"はい\"),\"基準1と7\",IF(AND(G58=\"はい\",I58=\"はい\"),\"基準1\",IF(AND(J58=\"はい\",L58=\"はい\"),\"基準1\",IF(AND(G58=\"はい\",I58=\"いいえ\"),\"基準1\",IF(AND(J58=\"はい\",L58=\"いいえ\"),\"基準1\",\"\"))))))","v":""}]
[null,null,null,null,null,null,null,"株式の保有又は出資の内容",null,null,"株式の保有又は出資の内容"]
[null,null,null,null,null,"申告者と生計を同じにする配偶者及びその一親等の親族",null,"株式を保有している",null,null,"株式を保有している",null,{"$f":"IF(N60=\"\",\"\",VLOOKUP(N60,'様式C_研究分担医師等'!基準選択肢C,2,FALSE))","v":""},{"$f":"IF(G60=\"はい\",\"基準1\",IF(J60=\"はい\",\"基準1\",\"\"))","v":""}]
[null,null,null,null,null,null,null,"株式の保有又は出資の内容",null,null,"株式の保有又は出資の内容"]
[null,null,"Q6.その他、対象薬剤製薬企業等の関与があるか？",null,null,"本人",null,"知的財産への関与有り",null,null,"知的財産への関与有り",null,{"$f":"IF(N62=\"\",\"\",VLOOKUP(N62,'様式C_研究分担医師等'!基準選択肢C,2))","v":""},{"$f":"IF(AND($M$7=\"研究分担医師\",G62=\"はい\",I62=\"はい\"),\"基準1と7\",IF(AND($M$7=\"研究分担医師\",J62=\"はい\",L62=\"はい\"),\"基準1と7\",IF(AND(G62=\"はい\",I62=\"はい\"),\"基準1\",IF(AND(J62=\"はい\",L62=\"はい\"),\"基準1\",IF(AND(G62=\"はい\",I62=\"いいえ\"),\"基準1\",IF(AND(J62=\"はい\",L62=\"いいえ\"),\"基準1\",\"\"))))))","v":""}]
[null,null,null,null,null,null,null,"その他の関与",null,null,"その他の関与"]
[null,null,null,null,null,"申告者と生計を同じにする配偶者及びその一親等の親族",null,"知的財産への関与有り",null,null,"知的財産への関与有り",null,{"$f":"IF(N64=\"\",\"\",VLOOKUP(N64,'様式C_研究分担医師等'!基準選択肢C,2))","v":""},{"$f":"IF(G64=\"はい\",\"基準1\",IF(J64=\"はい\",\"基準1\",\"\"))","v":""}]
[null,null,null,null,null,null,null,"その他の関与",null,null,"その他の関与"]
[]
[null,null,null,null,"本研究の対象薬剤製薬企業等の名称：","③",{"$f":"IF(G14=\"\",\"\",G14)","v":""}]
[]
[null,null,"COI状況の有無",null,null,null,"前年度",null,null,"今年度"]
[null,null,null,null,null,null,"有無","「はい」と回答した項目について",null,"有無","「はい」と回答した項目について",null,"「はい」と回答した項目について"]
[null,null,null,null,null,null,null,"COIの内容について\n詳細を選択・記述",null,null,"COIの内容について\n詳細を選択・記述",null,"COI管理計画"]
[null,null,"Q１．対象薬剤製薬企業等からの寄附金の総額が、年間合計200万円を超えているか？",null,null,"本人",null,"受入金額(円)",null,null,"受入金額(円)",null,{"$f":"IF(N72=\"\",\"\",VLOOKUP(N72,'様式C_研究分担医師等'!基準選択肢C,2,FALSE))","v":""},{"$f":"IF(G72=\"はい\",\"基準1\",IF(J72=\"はい\",\"基準1\",\"\"))","v":""}]
[null,null,"Q２.　対象薬剤製薬企業等が提供する寄附講座に所属しているか？",null,null,"本人",null,"期間",null,null,"期間",null,{"$f":"IF(N73=\"\",\"\",VLOOKUP(N73,'様式C_研究分担医師等'!基準選択肢C,2,FALSE))","v":""},{"$f":"IF(AND($M$7=\"研究分担医師\",$G73=\"はい\",$I74=\"有\"),\"基準1と7\",IF(AND($M$7=\"研究分担医師\",$J73=\"はい\",$L74=\"有\"),\"基準1と7\",IF($G73=\"はい\",\"基準1\",IF($J73=\"はい\",\"基準1\",\"\"))))","v":""}]
[null,null,null,null,null,null,null,"給与の有無",null,null,"給与の有無"]
[null,null,"Q3．対象薬剤製薬企業等からの年間合計100万円以上の個人的利益があるか？\n　\n・　個人的利益とは、給与・講演・原稿執筆・コンサルティング・知的所有権・贈答・接遇等による収入をいう。",null,null,"本人",null,"経済的利益の内容(複数ある場合はすべて記載)",null,null,"経済的利益の内容(複数ある場合はすべて記載)",null,{"$f":"IF(N75=\"\",\"\",VLOOKUP(N75,'様式C_研究分担医師等'!基準選択肢C,2,FALSE))","v":""},{"$f":"IF(AND($M$7=\"研究分担医師\",$G75=\"はい\",$I76>=2500000),\"基準1と7\",IF(AND($M$7=\"研究分担医師\",$J75=\"はい\",$L76>=2500000),\"基準1と7\",IF($G75=\"はい\",\"基準1\",IF($J75=\"はい\",\"基準1\",\"\"))))","v":""}]
[null,null,null,null,null,null,null,"受入金額(円)",null,null,"受入金額(円)"]
[null,null,null,null,null,"申告者と生計を同じにする配偶者及びその一親等の親族",null,"経済的利益の内容(複数ある場合はすべて記載)",null,null,"経済的利益の内容(複数ある場合はすべて記載)",null,{"$f":"IF(N77=\"\",\"\",VLOOKUP(N77,'様式C_研究分担医師等'!基準選択肢C,2,FALSE))","v":""},{"$f":"IF(G77=\"はい\",\"基準1\",IF(J77=\"はい\",\"基準1\",\"\"))","v":""}]
[null,null,null,null,null,null,null,"受入金額(円)",null,null,"受入金額(円)"]
[null,null,"Q4．対象薬剤製薬企業等の役員に就任しているか？\n\n・　役員とは、株式会社の代表取締役・取締役、合同会社の代表者等代表権限を有する者、監査役をいう。",null,null,"本人",null,"役職等の種類",null,null,"役職等の種類",null,{"$f":"IF(N79=\"\",\"\",VLOOKUP(N79,'様式C_研究分担医師等'!基準選択肢C,2,FALSE))","v":""},{"$f":"IF(AND($M$7=\"研究分担医師\",G79=\"はい\"),\"基準1と7\",IF(AND($M$7=\"研究分担医師\",J79=\"はい\"),\"基準1と7\",IF(OR(G79=\"はい\",J79=\"はい\"),\"基準1\",\"\")))","v":""}]
[null,null,null,null,null,"申告者と生計を同じにする配偶者及びその一親等の親族",null,"役職等の種類",null,null,"役職等の種類",null,{"$f":"IF(N80=\"\",\"\",VLOOKUP(N80,'様式C_研究分担医師等'!基準選択肢C,2,FALSE))","v":""},{"$f":"IF(G80=\"はい\",\"基準1\",IF(J80=\"はい\",\"基準1\",\"\"))","v":""}]
[null,null,"Q5.対象薬剤製薬企業等の株式を保有しているか？対象薬剤製薬企業等に出資を行っているか？\n\n・株式の保有については、公開株式については５％以上、未公開株式は1株以上、新株予約権は１個以上をいう。これに該当しない場合は、「なし」とすること。",null,null,"本人",null,"株式を保有している",null,null,"株式を保有している",null,{"$f":"IF(N81=\"\",\"\",VLOOKUP(N81,'様式C_研究分担医師等'!基準選択肢C,2,FALSE))","v":""},{"$f":"IF(AND($M$7=\"研究分担医師\",G81=\"はい\",I81=\"はい\"),\"基準1と7\",IF(AND($M$7=\"研究分担医師\",J81=\"はい\",L81=\"はい\"),\"基準1と7\",IF(AND(G81=\"はい\",I81=\"はい\"),\"基準1\",IF(AND(J81=\"はい\",L81=\"はい\"),\"基準1\",IF(AND(G81=\"はい\",I81=\"いいえ\"),\"基準1\",IF(AND(J81=\"はい\",L81=\"いいえ\"),\"基準1\",\"\"))))))","v":""}]
[null,null,null,null,null,null,null,"株式の保有又は出資の内容",null,null,"株式の保有又は出資の内容"]
[null,null,null,null,null,"申告者と生計を同じにする配偶者及びその一親等の親族",null,"株式を保有している",null,null,"株式を保有している",null,{"$f":"IF(N83=\"\",\"\",VLOOKUP(N83,'様式C_研究分担医師等'!基準選択肢C,2,FALSE))","v":""},{"$f":"IF(G83=\"はい\",\"基準1\",IF(J83=\"はい\",\"基準1\",\"\"))","v":""}]
[null,null,null,null,null,null,null,"株式の保有又は出資の内容",null,null,"株式の保有又は出資の内容"]
[null,null,"Q6.その他、対象薬剤製薬企業等の関与があるか？",null,null,"本人",null,"知的財産への関与有り",null,null,"知的財産への関与有り",null,{"$f":"IF(N85=\"\",\"\",VLOOKUP(N85,'様式C_研究分担医師等'!基準選択肢C,2))","v":""},{"$f":"IF(AND($M$7=\"研究分担医師\",G85=\"はい\",I85=\"はい\"),\"基準1と7\",IF(AND($M$7=\"研究分担医師\",J85=\"はい\",L85=\"はい\"),\"基準1と7\",IF(AND(G85=\"はい\",I85=\"はい\"),\"基準1\",IF(AND(J85=\"はい\",L85=\"はい\"),\"基準1\",IF(AND(G85=\"はい\",I85=\"いいえ\"),\"基準1\",IF(AND(J85=\"はい\",L85=\"いいえ\"),\"基準1\",\"\"))))))","v":""}]
[null,null,null,null,null,null,null,"その他の関与",null,null,"その他の関与"]
[null,null,null,null,null,"申告者と生計を同じにする配偶者及びその一親等の親族",null,"知的財産への関与有り",null,null,"知的財産への関与有り",null,{"$f":"IF(N87=\"\",\"\",VLOOKUP(N87,'様式C_研究分担医師等'!基準選択肢C,2))","v":""},{"$f":"IF(G87=\"はい\",\"基準1\",IF(J87=\"はい\",\"基準1\",\"\"))","v":""}]
[null,null,null,null,null,null,null,"その他の関与",null,null,"その他の関与"]
[]
[null,null,null,null,"本研究の対象薬剤製薬企業等の名称：","④",{"$f":"IF(G15=\"\",\"\",G15)","v":""}]
[]
[null,null,"COI状況の有無",null,null,null,"前年度",null,null,"今年度"]
[null,null,null,null,null,null,"有無","「はい」と回答した項目について",null,"有無","「はい」と回答した項目について",null,"「はい」と回答した項目について"]
[null,null,null,null,null,null,null,"COIの内容について\n詳細を選択・記述",null,null,"COIの内容について\n詳細を選択・記述",null,"COI管理計画"]
[null,null,"Q１．対象薬剤製薬企業等からの寄附金の総額が、年間合計200万円を超えているか？",null,null,"本人",null,"受入金額(円)",null,null,"受入金額(円)",null,{"$f":"IF(N95=\"\",\"\",VLOOKUP(N95,'様式C_研究分担医師等'!基準選択肢C,2,FALSE))","v":""},{"$f":"IF(G95=\"はい\",\"基準1\",IF(J95=\"はい\",\"基準1\",\"\"))","v":""}]
[null,null,"Q２.　対象薬剤製薬企業等が提供する寄附講座に所属しているか？",null,null,"本人",null,"期間",null,null,"期間",null,{"$f":"IF(N96=\"\",\"\",VLOOKUP(N96,'様式C_研究分担医師等'!基準選択肢C,2,FALSE))","v":""},{"$f":"IF(AND($M$7=\"研究分担医師\",$G96=\"はい\",$I97=\"有\"),\"基準1と7\",IF(AND($M$7=\"研究分担医師\",$J96=\"はい\",$L97=\"有\"),\"基準1と7\",IF($G96=\"はい\",\"基準1\",IF($J96=\"はい\",\"基準1\",\"\"))))","v":""}]
[null,null,null,null,null,null,null,"給与の有無",null,null,"給与の有無"]
[null,null,"Q3．対象薬剤製薬企業等からの年間合計100万円以上の個人的利益があるか？\n　\n・　個人的利益とは、給与・講演・原稿執筆・コンサルティング・知的所有権・贈答・接遇等による収入をいう。",null,null,"本人",null,"経済的利益の内容(複数ある場合はすべて記載)",null,null,"経済的利益の内容(複数ある場合はすべて記載)",null,{"$f":"IF(N98=\"\",\"\",VLOOKUP(N98,'様式C_研究分担医師等'!基準選択肢C,2,FALSE))","v":""},{"$f":"IF(AND($M$7=\"研究分担医師\",$G98=\"はい\",$I99>=2500000),\"基準1と7\",IF(AND($M$7=\"研究分担医師\",$J98=\"はい\",$L99>=2500000),\"基準1と7\",IF($G98=\"はい\",\"基準1\",IF($J98=\"はい\",\"基準1\",\"\"))))","v":""}]
[null,null,null,null,null,null,null,"受入金額(円)",null,null,"受入金額(円)"]
[null,null,null,null,null,"申告者と生計を同じにする配偶者及びその一親等の親族",null,"経済的利益の内容(複数ある場合はすべて記載)",null,null,"経済的利益の内容(複数ある場合はすべて記載)",null,{"$f":"IF(N100=\"\",\"\",VLOOKUP(N100,'様式C_研究分担医師等'!基準選択肢C,2,FALSE))","v":""},{"$f":"IF(G100=\"はい\",\"基準1\",IF(J100=\"はい\",\"基準1\",\"\"))","v":""}]
[null,null,null,null,null,null,null,"受入金額(円)",null,null,"受入金額(円)"]
[null,null,"Q4．対象薬剤製薬企業等の役員に就任しているか？\n\n・　役員とは、株式会社の代表取締役・取締役、合同会社の代表者等代表権限を有する者、監査役をいう。",null,null,"本人",null,"役職等の種類",null,null,"役職等の種類",null,{"$f":"IF(N102=\"\",\"\",VLOOKUP(N102,'様式C_研究分担医師等'!基準選択肢C,2,FALSE))","v":""},{"$f":"IF(AND($M$7=\"研究分担医師\",G102=\"はい\"),\"基準1と7\",IF(AND($M$7=\"研究分担医師\",J102=\"はい\"),\"基準1と7\",IF(OR(G102=\"はい\",J102=\"はい\"),\"基準1\",\"\")))","v":""}]
[null,null,null,null,null,"申告者と生計を同じにする配偶者及びその一親等の親族",null,"役職等の種類",null,null,"役職等の種類",null,{"$f":"IF(N103=\"\",\"\",VLOOKUP(N103,'様式C_研究分担医師等'!基準選択肢C,2,FALSE))","v":""},{"$f":"IF(G103=\"はい\",\"基準1\",IF(J103=\"はい\",\"基準1\",\"\"))","v":""}]
[null,null,"Q5.対象薬剤製薬企業等の株式を保有しているか？対象薬剤製薬企業等に出資を行っているか？\n\n・株式の保有については、公開株式については５％以上、未公開株式は1株以上、新株予約権は１個以上をいう。これに該当しない場合は、「なし」とすること。",null,null,"本人",null,"株式を保有している",null,null,"株式を保有している",null,{"$f":"IF(N104=\"\",\"\",VLOOKUP(N104,'様式C_研究分担医師等'!基準選択肢C,2,FALSE))","v":""},{"$f":"IF(AND($M$7=\"研究分担医師\",G104=\"はい\",I104=\"はい\"),\"基準1と7\",IF(AND($M$7=\"研究分担医師\",J104=\"はい\",L104=\"はい\"),\"基準1と7\",IF(AND(G104=\"はい\",I104=\"はい\"),\"基準1\",IF(AND(J104=\"はい\",L104=\"はい\"),\"基準1\",IF(AND(G104=\"はい\",I104=\"いいえ\"),\"基準1\",IF(AND(J104=\"はい\",L104=\"いいえ\"),\"基準1\",\"\"))))))","v":""}]
[null,null,null,null,null,null,null,"株式の保有又は出資の内容",null,null,"株式の保有又は出資の内容"]
[null,null,null,null,null,"申告者と生計を同じにする配偶者及びその一親等の親族",null,"株式を保有している",null,null,"株式を保有している",null,{"$f":"IF(N106=\"\",\"\",VLOOKUP(N106,'様式C_研究分担医師等'!基準選択肢C,2,FALSE))","v":""},{"$f":"IF(G106=\"はい\",\"基準1\",IF(J106=\"はい\",\"基準1\",\"\"))","v":""}]
[null,null,null,null,null,null,null,"株式の保有又は出資の内容",null,null,"株式の保有又は出資の内容"]
[null,null,"Q6.その他、対象薬剤製薬企業等の関与があるか？",null,null,"本人",null,"知的財産への関与有り",null,null,"知的財産への関与有り",null,{"$f":"IF(N108=\"\",\"\",VLOOKUP(N108,'様式C_研究分担医師等'!基準選択肢C,2))","v":""},{"$f":"IF(AND($M$7=\"研究分担医師\",G108=\"はい\",I108=\"はい\"),\"基準1と7\",IF(AND($M$7=\"研究分担医師\",J108=\"はい\",L108=\"はい\"),\"基準1と7\",IF(AND(G108=\"はい\",I108=\"はい\"),\"基準1\",IF(AND(J108=\"はい\",L108=\"はい\"),\"基準1\",IF(AND(G108=\"はい\",I108=\"いいえ\"),\"基準1\",IF(AND(J108=\"はい\",L108=\"いいえ\"),\"基準1\",\"\"))))))","v":""}]
[null,null,null,null,null,null,null,"その他の関与",null,null,"その他の関与"]
[null,null,null,null,null,"申告者と生計を同じにする配偶者及びその一親等の親族",null,"知的財産への関与有り",null,null,"知的財産への関与有り",null,{"$f":"IF(N110=\"\",\"\",VLOOKUP(N110,'様式C_研究分担医師等'!基準選択肢C,2))","v":""},{"$f":"IF(G110=\"はい\",\"基準1\",IF(J110=\"はい\",\"基準1\",\"\"))","v":""}]
[null,null,null,null,null,null,null,"その他の関与",null,null,"その他の関与"]
[]
[null,null,null,null,"本研究の対象薬剤製薬企業等の名称：","⑤",{"$f":"IF(G16=\"\",\"\",G16)","v":""}]
[]
[null,null,"COI状況の有無",null,null,null,"前年度",null,null,"今年度"]
[null,null,null,null,null,null,"有無","「はい」と回答した項目について",null,"有無","「はい」と回答した項目について",null,"「はい」と回答した項目について"]
[null,null,null,null,null,null,null,"COIの内容について\n詳細を選択・記述",null,null,"COIの内容について\n詳細を選択・記述",null,"COI管理計画"]
[null,null,"Q１．対象薬剤製薬企業等からの寄附金の総額が、年間合計200万円を超えているか？",null,null,"本人",null,"受入金額(円)",null,null,"受入金額(円)",null,{"$f":"IF(N118=\"\",\"\",VLOOKUP(N118,'様式C_研究分担医師等'!基準選択肢C,2,FALSE))","v":""},{"$f":"IF(G118=\"はい\",\"基準1\",IF(J118=\"はい\",\"基準1\",\"\"))","v":""}]
[null,null,"Q２.　対象薬剤製薬企業等が提供する寄附講座に所属しているか？",null,null,"本人",null,"期間",null,null,"期間",null,{"$f":"IF(N119=\"\",\"\",VLOOKUP(N119,'様式C_研究分担医師等'!基準選択肢C,2,FALSE))","v":""},{"$f":"IF(AND($M$7=\"研究分担医師\",$G119=\"はい\",$I120=\"有\"),\"基準1と7\",IF(AND($M$7=\"研究分担医師\",$J119=\"はい\",$L120=\"有\"),\"基準1と7\",IF($G119=\"はい\",\"基準1\",IF($J119=\"はい\",\"基準1\",\"\"))))","v":""}]
[null,null,null,null,null,null,null,"給与の有無",null,null,"給与の有無"]
[null,null,"Q3．対象薬剤製薬企業等からの年間合計100万円以上の個人的利益があるか？\n　\n・　個人的利益とは、給与・講演・原稿執筆・コンサルティング・知的所有権・贈答・接遇等による収入をいう。",null,null,"本人",null,"経済的利益の内容(複数ある場合はすべて記載)",null,null,"経済的利益の内容(複数ある場合はすべて記載)",null,{"$f":"IF(N121=\"\",\"\",VLOOKUP(N121,'様式C_研究分担医師等'!基準選択肢C,2,FALSE))","v":""},{"$f":"IF(AND($M$7=\"研究分担医師\",$G121=\"はい\",$I122>=2500000),\"基準1と7\",IF(AND($M$7=\"研究分担医師\",$J121=\"はい\",$L122>=2500000),\"基準1と7\",IF($G121=\"はい\",\"基準1\",IF($J121=\"はい\",\"基準1\",\"\"))))","v":""}]
[null,null,null,null,null,null,null,"受入金額(円)",null,null,"受入金額(円)"]
[null,null,null,null,null,"申告者と生計を同じにする配偶者及びその一親等の親族",null,"経済的利益の内容(複数ある場合はすべて記載)",null,null,"経済的利益の内容(複数ある場合はすべて記載)",null,{"$f":"IF(N123=\"\",\"\",VLOOKUP(N123,'様式C_研究分担医師等'!基準選択肢C,2,FALSE))","v":""},{"$f":"IF(G123=\"はい\",\"基準1\",IF(J123=\"はい\",\"基準1\",\"\"))","v":""}]
[null,null,null,null,null,null,null,"受入金額(円)",null,null,"受入金額(円)"]
[null,null,"Q4．対象薬剤製薬企業等の役員に就任しているか？\n\n・　役員とは、株式会社の代表取締役・取締役、合同会社の代表者等代表権限を有する者、監査役をいう。",null,null,"本人",null,"役職等の種類",null,null,"役職等の種類",null,{"$f":"IF(N125=\"\",\"\",VLOOKUP(N125,'様式C_研究分担医師等'!基準選択肢C,2,FALSE))","v":""},{"$f":"IF(AND($M$7=\"研究分担医師\",G125=\"はい\"),\"基準1と7\",IF(AND($M$7=\"研究分担医師\",J125=\"はい\"),\"基準1と7\",IF(OR(G125=\"はい\",J125=\"はい\"),\"基準1\",\"\")))","v":""}]
[null,null,null,null,null,"申告者と生計を同じにする配偶者及びその一親等の親族",null,"役職等の種類",null,null,"役職等の種類",null,{"$f":"IF(N126=\"\",\"\",VLOOKUP(N126,'様式C_研究分担医師等'!基準選択肢C,2,FALSE))","v":""},{"$f":"IF(G126=\"はい\",\"基準1\",IF(J126=\"はい\",\"基準1\",\"\"))","v":""}]
[null,null,"Q5.対象薬剤製薬企業等の株式を保有しているか？対象薬剤製薬企業等に出資を行っているか？\n\n・株式の保有については、公開株式については５％以上、未公開株式は1株以上、新株予約権は１個以上をいう。これに該当しない場合は、「なし」とすること。",null,null,"本人",null,"株式を保有している",null,null,"株式を保有している",null,{"$f":"IF(N127=\"\",\"\",VLOOKUP(N127,'様式C_研究分担医師等'!基準選択肢C,2,FALSE))","v":""},{"$f":"IF(AND($M$7=\"研究分担医師\",G127=\"はい\",I127=\"はい\"),\"基準1と7\",IF(AND($M$7=\"研究分担医師\",J127=\"はい\",L127=\"はい\"),\"基準1と7\",IF(AND(G127=\"はい\",I127=\"はい\"),\"基準1\",IF(AND(J127=\"はい\",L127=\"はい\"),\"基準1\",IF(AND(G127=\"はい\",I127=\"いいえ\"),\"基準1\",IF(AND(J127=\"はい\",L127=\"いいえ\"),\"基準1\",\"\"))))))","v":""}]
[null,null,null,null,null,null,null,"株式の保有又は出資の内容",null,null,"株式の保有又は出資の内容"]
[null,null,null,null,null,"申告者と生計を同じにする配偶者及びその一親等の親族",null,"株式を保有している",null,null,"株式を保有している",null,{"$f":"IF(N129=\"\",\"\",VLOOKUP(N129,'様式C_研究分担医師等'!基準選択肢C,2,FALSE))","v":""},{"$f":"IF(G129=\"はい\",\"基準1\",IF(J129=\"はい\",\"基準1\",\"\"))","v":""}]
[null,null,null,null,null,null,null,"株式の保有又は出資の内容",null,null,"株式の保有又は出資の内容"]
[null,null,"Q6.その他、対象薬剤製薬企業等の関与があるか？",null,null,"本人",null,"知的財産への関与有り",null,null,"知的財産への関与有り",null,{"$f":"IF(N131=\"\",\"\",VLOOKUP(N131,'様式C_研究分担医師等'!基準選択肢C,2))","v":""},{"$f":"IF(AND($M$7=\"研究分担医師\",G131=\"はい\",I131=\"はい\"),\"基準1と7\",IF(AND($M$7=\"研究分担医師\",J131=\"はい\",L131=\"はい\"),\"基準1と7\",IF(AND(G131=\"はい\",I131=\"はい\"),\"基準1\",IF(AND(J131=\"はい\",L131=\"はい\"),\"基準1\",IF(AND(G131=\"はい\",I131=\"いいえ\"),\"基準1\",IF(AND(J131=\"はい\",L131=\"いいえ\"),\"基準1\",\"\"))))))","v":""}]
[null,null,null,null,null,null,null,"その他の関与",null,null,"その他の関与"]
[null,null,null,null,null,"申告者と生計を同じにする配偶者及びその一親等の親族",null,"知的財産への関与有り",null,null,"知的財産への関与有り",null,{"$f":"IF(N133=\"\",\"\",VLOOKUP(N133,'様式C_研究分担医師等'!基準選択肢C,2))","v":""},{"$f":"IF(G133=\"はい\",\"基準1\",IF(J133=\"はい\",\"基準1\",\"\"))","v":""}]
[null,null,null,null,null,null,null,"その他の関与",null,null,"その他の関与"]
[]
[null,null,null,null,"本研究の対象薬剤製薬企業等の名称：","⑥",{"$f":"IF(G17=\"\",\"\",G17)","v":""}]
[]
[null,null,"COI状況の有無",null,null,null,"前年度",null,null,"今年度"]
[null,null,null,null,null,null,"有無","「はい」と回答した項目について",null,"有無","「はい」と回答した項目について",null,"「はい」と回答した項目について"]
[null,null,null,null,null,null,null,"COIの内容について\n詳細を選択・記述",null,null,"COIの内容について\n詳細を選択・記述",null,"COI管理計画"]
[null,null,"Q１．対象薬剤製薬企業等からの寄附金の総額が、年間合計200万円を超えているか？",null,null,"本人",null,"受入金額(円)",null,null,"受入金額(円)",null,{"$f":"IF(N141=\"\",\"\",VLOOKUP(N141,'様式C_研究分担医師等'!基準選択肢C,2,FALSE))","v":""},{"$f":"IF(G141=\"はい\",\"基準1\",IF(J141=\"はい\",\"基準1\",\"\"))","v":""}]
[null,null,"Q２.　対象薬剤製薬企業等が提供する寄附講座に所属しているか？",null,null,"本人",null,"期間",null,null,"期間",null,{"$f":"IF(N142=\"\",\"\",VLOOKUP(N142,'様式C_研究分担医師等'!基準選択肢C,2,FALSE))","v":""},{"$f":"IF(AND($M$7=\"研究分担医師\",$G142=\"はい\",$I143=\"有\"),\"基準1と7\",IF(AND($M$7=\"研究分担医師\",$J142=\"はい\",$L143=\"有\"),\"基準1と7\",IF($G142=\"はい\",\"基準1\",IF($J142=\"はい\",\"基準1\",\"\"))))","v":""}]
[null,null,null,null,null,null,null,"給与の有無",null,null,"給与の有無"]
[null,null,"Q3．対象薬剤製薬企業等からの年間合計100万円以上の個人的利益があるか？\n　\n・　個人的利益とは、給与・講演・原稿執筆・コンサルティング・知的所有権・贈答・接遇等による収入をいう。",null,null,"本人",null,"経済的利益の内容(複数ある場合はすべて記載)",null,null,"経済的利益の内容(複数ある場合はすべて記載)",null,{"$f":"IF(N144=\"\",\"\",VLOOKUP(N144,'様式C_研究分担医師等'!基準選択肢C,2,FALSE))","v":""},{"$f":"IF(AND($M$7=\"研究分担医師\",$G144=\"はい\",$I145>=2500000),\"基準1と7\",IF(AND($M$7=\"研究分担医師\",$J144=\"はい\",$L145>=2500000),\"基準1と7\",IF($G144=\"はい\",\"基準1\",IF($J144=\"はい\",\"基準1\",\"\"))))","v":""}]
[null,null,null,null,null,null,null,"受入金額(円)",null,null,"受入金額(円)"]
[null,null,null,null,null,"申告者と生計を同じにする配偶者及びその一親等の親族",null,"経済的利益の内容(複数ある場合はすべて記載)",null,null,"経済的利益の内容(複数ある場合はすべて記載)",null,{"$f":"IF(N146=\"\",\"\",VLOOKUP(N146,'様式C_研究分担医師等'!基準選択肢C,2,FALSE))","v":""},{"$f":"IF(G146=\"はい\",\"基準1\",IF(J146=\"はい\",\"基準1\",\"\"))","v":""}]
[null,null,null,null,null,null,null,"受入金額(円)",null,null,"受入金額(円)"]
[null,null,"Q4．対象薬剤製薬企業等の役員に就任しているか？\n\n・　役員とは、株式会社の代表取締役・取締役、合同会社の代表者等代表権限を有する者、監査役をいう。",null,null,"本人",null,"役職等の種類",null,null,"役職等の種類",null,{"$f":"IF(N148=\"\",\"\",VLOOKUP(N148,'様式C_研究分担医師等'!基準選択肢C,2,FALSE))","v":""},{"$f":"IF(AND($M$7=\"研究分担医師\",G148=\"はい\"),\"基準1と7\",IF(AND($M$7=\"研究分担医師\",J148=\"はい\"),\"基準1と7\",IF(OR(G148=\"はい\",J148=\"はい\"),\"基準1\",\"\")))","v":""}]
[null,null,null,null,null,"申告者と生計を同じにする配偶者及びその一親等の親族",null,"役職等の種類",null,null,"役職等の種類",null,{"$f":"IF(N149=\"\",\"\",VLOOKUP(N149,'様式C_研究分担医師等'!基準選択肢C,2,FALSE))","v":""},{"$f":"IF(G149=\"はい\",\"基準1\",IF(J149=\"はい\",\"基準1\",\"\"))","v":""}]
[null,null,"Q5.対象薬剤製薬企業等の株式を保有しているか？対象薬剤製薬企業等に出資を行っているか？\n\n・株式の保有については、公開株式については５％以上、未公開株式は1株以上、新株予約権は１個以上をいう。これに該当しない場合は、「なし」とすること。",null,null,"本人",null,"株式を保有している",null,null,"株式を保有している",null,{"$f":"IF(N150=\"\",\"\",VLOOKUP(N150,'様式C_研究分担医師等'!基準選択肢C,2,FALSE))","v":""},{"$f":"IF(AND($M$7=\"研究分担医師\",G150=\"はい\",I150=\"はい\"),\"基準1と7\",IF(AND($M$7=\"研究分担医師\",J150=\"はい\",L150=\"はい\"),\"基準1と7\",IF(AND(G150=\"はい\",I150=\"はい\"),\"基準1\",IF(AND(J150=\"はい\",L150=\"はい\"),\"基準1\",IF(AND(G150=\"はい\",I150=\"いいえ\"),\"基準1\",IF(AND(J150=\"はい\",L150=\"いいえ\"),\"基準1\",\"\"))))))","v":""}]
[null,null,null,null,null,null,null,"株式の保有又は出資の内容",null,null,"株式の保有又は出資の内容"]
[null,null,null,null,null,"申告者と生計を同じにする配偶者及びその一親等の親族",null,"株式を保有している",null,null,"株式を保有している",null,{"$f":"IF(N152=\"\",\"\",VLOOKUP(N152,'様式C_研究分担医師等'!基準選択肢C,2,FALSE))","v":""},{"$f":"IF(G152=\"はい\",\"基準1\",IF(J152=\"はい\",\"基準1\",\"\"))","v":""}]
[null,null,null,null,null,null,null,"株式の保有又は出資の内容",null,null,"株式の保有又は出資の内容"]
[null,null,"Q6.その他、対象薬剤製薬企業等の関与があるか？",null,null,"本人",null,"知的財産への関与有り",null,null,"知的財産への関与有り",null,{"$f":"IF(N154=\"\",\"\",VLOOKUP(N154,'様式C_研究分担医師等'!基準選択肢C,2))","v":""},{"$f":"IF(AND($M$7=\"研究分担医師\",G154=\"はい\",I154=\"はい\"),\"基準1と7\",IF(AND($M$7=\"研究分担医師\",J154=\"はい\",L154=\"はい\"),\"基準1と7\",IF(AND(G154=\"はい\",I154=\"はい\"),\"基準1\",IF(AND(J154=\"はい\",L154=\"はい\"),\"基準1\",IF(AND(G154=\"はい\",I154=\"いいえ\"),\"基準1\",IF(AND(J154=\"はい\",L154=\"いいえ\"),\"基準1\",\"\"))))))","v":""}]
[null,null,null,null,null,null,null,"その他の関与",null,null,"その他の関与"]
[null,null,null,null,null,"申告者と生計を同じにする配偶者及びその一親等の親族",null,"知的財産への関与有り",null,null,"知的財産への関与有り",null,{"$f":"IF(N156=\"\",\"\",VLOOKUP(N156,'様式C_研究分担医師等'!基準選択肢C,2))","v":""},{"$f":"IF(G156=\"はい\",\"基準1\",IF(J156=\"はい\",\"基準1\",\"\"))","v":""}]
[null,null,null,null,null,null,null,"その他の関与",null,null,"その他の関与"]
[]
[null,null,null,null,"本研究の対象薬剤製薬企業等の名称：","⑦",{"$f":"IF(G18=\"\",\"\",G18)","v":""}]
[]
[null,null,"COI状況の有無",null,null,null,"前年度",null,null,"今年度"]
[null,null,null,null,null,null,"有無","「はい」と回答した項目について",null,"有無","「はい」と回答した項目について",null,"「はい」と回答した項目について"]
[null,null,null,null,null,null,null,"COIの内容について\n詳細を選択・記述",null,null,"COIの内容について\n詳細を選択・記述",null,"COI管理計画"]
[null,null,"Q１．対象薬剤製薬企業等からの寄附金の総額が、年間合計200万円を超えているか？",null,null,"本人",null,"受入金額(円)",null,null,"受入金額(円)",null,{"$f":"IF(N164=\"\",\"\",VLOOKUP(N164,'様式C_研究分担医師等'!基準選択肢C,2,FALSE))","v":""},{"$f":"IF(G164=\"はい\",\"基準1\",IF(J164=\"はい\",\"基準1\",\"\"))","v":""}]
[null,null,"Q２.　対象薬剤製薬企業等が提供する寄附講座に所属しているか？",null,null,"本人",null,"期間",null,null,"期間",null,{"$f":"IF(N165=\"\",\"\",VLOOKUP(N165,'様式C_研究分担医師等'!基準選択肢C,2,FALSE))","v":""},{"$f":"IF(AND($M$7=\"研究分担医師\",$G165=\"はい\",$I166=\"有\"),\"基準1と7\",IF(AND($M$7=\"研究分担医師\",$J165=\"はい\",$L166=\"有\"),\"基準1と7\",IF($G165=\"はい\",\"基準1\",IF($J165=\"はい\",\"基準1\",\"\"))))","v":""}]
[null,null,null,null,null,null,null,"給与の有無",null,null,"給与の有無"]
[null,null,"Q3．対象薬剤製薬企業等からの年間合計100万円以上の個人的利益があるか？\n　\n・　個人的利益とは、給与・講演・原稿執筆・コンサルティング・知的所有権・贈答・接遇等による収入をいう。",null,null,"本人",null,"経済的利益の内容(複数ある場合はすべて記載)",null,null,"経済的利益の内容(複数ある場合はすべて記載)",null,{"$f":"IF(N167=\"\",\"\",VLOOKUP(N167,'様式C_研究分担医師等'!基準選択肢C,2,FALSE))","v":""},{"$f":"IF(AND($M$7=\"研究分担医師\",$G167=\"はい\",$I168>=2500000),\"基準1と7\",IF(AND($M$7=\"研究分担医師\",$J167=\"はい\",$L168>=2500000),\"基準1と7\",IF($G167=\"はい\",\"基準1\",IF($J167=\"はい\",\"基準1\",\"\"))))","v":""}]
[null,null,null,null,null,null,null,"受入金額(円)",null,null,"受入金額(円)"]
[null,null,null,null,null,"申告者と生計を同じにする配偶者及びその一親等の親族",null,"経済的利益の内容(複数ある場合はすべて記載)",null,null,"経済的利益の内容(複数ある場合はすべて記載)",null,{"$f":"IF(N169=\"\",\"\",VLOOKUP(N169,'様式C_研究分担医師等'!基準選択肢C,2,FALSE))","v":""},{"$f":"IF(G169=\"はい\",\"基準1\",IF(J169=\"はい\",\"基準1\",\"\"))","v":""}]
[null,null,null,null,null,null,null,"受入金額(円)",null,null,"受入金額(円)"]
[null,null,"Q4．対象薬剤製薬企業等の役員に就任しているか？\n\n・　役員とは、株式会社の代表取締役・取締役、合同会社の代表者等代表権限を有する者、監査役をいう。",null,null,"本人",null,"役職等の種類",null,null,"役職等の種類",null,{"$f":"IF(N171=\"\",\"\",VLOOKUP(N171,'様式C_研究分担医師等'!基準選択肢C,2,FALSE))","v":""},{"$f":"IF(AND($M$7=\"研究分担医師\",G171=\"はい\"),\"基準1と7\",IF(AND($M$7=\"研究分担医師\",J171=\"はい\"),\"基準1と7\",IF(OR(G171=\"はい\",J171=\"はい\"),\"基準1\",\"\")))","v":""}]
[null,null,null,null,null,"申告者と生計を同じにする配偶者及びその一親等の親族",null,"役職等の種類",null,null,"役職等の種類",null,{"$f":"IF(N172=\"\",\"\",VLOOKUP(N172,'様式C_研究分担医師等'!基準選択肢C,2,FALSE))","v":""},{"$f":"IF(G172=\"はい\",\"基準1\",IF(J172=\"はい\",\"基準1\",\"\"))","v":""}]
[null,null,"Q5.対象薬剤製薬企業等の株式を保有しているか？対象薬剤製薬企業等に出資を行っているか？\n\n・株式の保有については、公開株式については５％以上、未公開株式は1株以上、新株予約権は１個以上をいう。これに該当しない場合は、「なし」とすること。",null,null,"本人",null,"株式を保有している",null,null,"株式を保有している",null,{"$f":"IF(N173=\"\",\"\",VLOOKUP(N173,'様式C_研究分担医師等'!基準選択肢C,2,FALSE))","v":""},{"$f":"IF(AND($M$7=\"研究分担医師\",G173=\"はい\",I173=\"はい\"),\"基準1と7\",IF(AND($M$7=\"研究分担医師\",J173=\"はい\",L173=\"はい\"),\"基準1と7\",IF(AND(G173=\"はい\",I173=\"はい\"),\"基準1\",IF(AND(J173=\"はい\",L173=\"はい\"),\"基準1\",IF(AND(G173=\"はい\",I173=\"いいえ\"),\"基準1\",IF(AND(J173=\"はい\",L173=\"いいえ\"),\"基準1\",\"\"))))))","v":""}]
[null,null,null,null,null,null,null,"株式の保有又は出資の内容",null,null,"株式の保有又は出資の内容"]
[null,null,null,null,null,"申告者と生計を同じにする配偶者及びその一親等の親族",null,"株式を保有している",null,null,"株式を保有している",null,{"$f":"IF(N175=\"\",\"\",VLOOKUP(N175,'様式C_研究分担医師等'!基準選択肢C,2,FALSE))","v":""},{"$f":"IF(G175=\"はい\",\"基準1\",IF(J175=\"はい\",\"基準1\",\"\"))","v":""}]
[null,null,null,null,null,null,null,"株式の保有又は出資の内容",null,null,"株式の保有又は出資の内容"]
[null,null,"Q6.その他、対象薬剤製薬企業等の関与があるか？",null,null,"本人",null,"知的財産への関与有り",null,null,"知的財産への関与有り",null,{"$f":"IF(N177=\"\",\"\",VLOOKUP(N177,'様式C_研究分担医師等'!基準選択肢C,2))","v":""},{"$f":"IF(AND($M$7=\"研究分担医師\",G177=\"はい\",I177=\"はい\"),\"基準1と7\",IF(AND($M$7=\"研究分担医師\",J177=\"はい\",L177=\"はい\"),\"基準1と7\",IF(AND(G177=\"はい\",I177=\"はい\"),\"基準1\",IF(AND(J177=\"はい\",L177=\"はい\"),\"基準1\",IF(AND(G177=\"はい\",I177=\"いいえ\"),\"基準1\",IF(AND(J177=\"はい\",L177=\"いいえ\"),\"基準1\",\"\"))))))","v":""}]
[null,null,null,null,null,null,null,"その他の関与",null,null,"その他の関与"]
[null,null,null,null,null,"申告者と生計を同じにする配偶者及びその一親等の親族",null,"知的財産への関与有り",null,null,"知的財産への関与有り",null,{"$f":"IF(N179=\"\",\"\",VLOOKUP(N179,'様式C_研究分担医師等'!基準選択肢C,2))","v":""},{"$f":"IF(G179=\"はい\",\"基準1\",IF(J179=\"はい\",\"基準1\",\"\"))","v":""}]
[null,null,null,null,null,null,null,"その他の関与",null,null,"その他の関与"]

{"sheet":"様式D_統括管理・責任医師","index":4,"n_rows":141,"n_cols":17,"rows_kept":141,"cut":false,"hidden":false,"merged":[[85,2,86,4],[87,2,88,4],[89,2,90,4],[91,2,92,4],[96,2,98,5],[99,2,99,4],[100,2,100,4],[101,2,102,4],[103,2,104,4],[105,2,106,4],[107,2,108,4],[112,2,114,5],[115,2,115,4],[116,2,116,4],[137,2,138,4],[139,2,140,4],[121,2,122,4],[123,2,124,4],[128,2,130,5],[131,2,131,4],[132,2,132,4],[133,2,134,4],[135,2,136,4],[128,14,130,14],[128,15,130,15],[128,6,128,7],[129,6,130,6],[129,7,130,7],[129,8,130,8],[129,9,130,9],[122,10,122,12],[123,10,123,12],[124,10,124,12],[126,6,126,16],[128,8,128,9],[128,10,130,13],[128,16,130,16],[138,10,138,12],[139,10,139,12],[140,10,140,12],[131,10,131,12],[132,10,132,12],[133,10,133,12],[134,10,134,12],[135,10,135,12],[136,10,136,12],[137,10,137,12],[80,2,82,5],[83,2,83,4],[83,10,83,12],[84,2,84,4],[84,10,84,12],[85,10,85,12],[86,10,86,12],[87,10,87,12],[88,10,88,12],[89,10,89,12],[90,10,90,12],[91,10,91,12],[92,10,92,12],[94,6,94,16],[97,7,98,7],[97,8,98,8],[96,6,96,7],[96,8,96,9],[96,14,98,14],[96,15,98,15],[96,16,98,16],[97,6,98,6],[97,9,98,9],[96,10,98,13],[99,10,99,12],[100,10,100,12],[101,10,101,12],[102,10,102,12],[103,10,103,12],[104,10,104,12],[117,2,118,4],[119,2,120,4],[115,10,115,12],[116,10,116,12],[117,10,117,12],[118,10,118,12],[119,10,119,12],[120,10,120,12],[121,10,121,12],[0,5,0,11],[2,2,3,16],[4,2,5,2],[4,12,4,13],[4,14,4,16],[5,12,5,13],[5,14,5,16],[4,3,5,7],[6,3,6,4],[10,5,10,7],[10,8,10,10],[11,5,11,7],[11,8,11,10],[12,8,12,10],[12,5,12,7],[13,5,13,7],[13,8,13,10],[14,5,14,7],[14,8,14,10],[15,5,15,7],[15,8,15,10],[21,6,21,10],[22,6,22,10],[23,6,23,10],[24,6,24,10],[23,11,23,16],[24,11,24,16],[25,11,25,16],[26,11,26,16],[27,11,27,16],[30,6,30,16],[6,12,6,13],[6,14,6,16],[9,12,12,16],[14,12,14,16],[15,12,18,16],[21,11,21,16],[22,11,22,16],[25,6,25,10],[26,6,26,10],[16,5,16,7],[16,8,16,10],[17,5,17,7],[17,8,17,10],[18,5,18,7],[18,8,18,10],[27,6,27,10],[32,15,34,15],[32,16,34,16],[33,6,34,6],[33,7,34,7],[33,8,34,8],[33,9,34,9],[32,10,34,13],[35,10,35,12],[21,2,27,4],[29,2,29,4],[32,2,34,5],[32,6,32,7],[32,8,32,9],[32,14,34,14],[35,2,35,4],[57,10,57,12],[58,10,58,12],[59,10,59,12],[60,10,60,12],[62,6,62,16],[64,6,64,7],[64,8,64,9],[64,14,66,14],[64,15,66,15],[64,16,66,16],[65,6,66,6],[65,7,66,7],[65,8,66,8],[65,9,66,9],[73,10,73,12],[74,10,74,12],[64,10,66,13],[67,10,67,12],[68,10,68,12],[69,10,69,12],[70,10,70,12],[71,10,71,12],[72,10,72,12],[81,8,82,8],[81,9,82,9],[80,8,80,9],[80,10,82,13],[80,14,82,14],[80,15,82,15],[80,16,82,16],[81,6,82,6],[81,7,82,7],[36,2,36,4],[36,10,36,12],[37,2,38,4],[37,10,37,12],[38,10,38,12],[39,10,39,12],[40,10,40,12],[41,10,41,12],[42,10,42,12],[43,10,43,12],[44,10,44,12],[46,6,46,16],[48,6,48,7],[48,8,48,9],[48,14,50,14],[48,15,50,15],[48,16,50,16],[49,6,50,6],[49,7,50,7],[49,8,50,8],[49,9,50,9],[39,2,40,4],[41,2,42,4],[43,2,44,4],[48,2,50,5],[51,2,51,4],[52,2,52,4],[53,2,54,4],[48,10,50,13],[51,10,51,12],[52,10,52,12],[53,10,53,12],[54,10,54,12],[55,10,55,12],[56,10,56,12],[71,2,72,4],[73,2,74,4],[75,2,76,4],[75,10,75,12],[76,10,76,12],[78,6,78,16],[80,6,80,7],[55,2,56,4],[57,2,58,4],[59,2,60,4],[64,2,66,5],[67,2,67,4],[68,2,68,4],[69,2,70,4],[112,10,114,13],[112,14,114,14],[112,15,114,15],[112,16,114,16],[113,6,114,6],[113,7,114,7],[113,8,114,8],[113,9,114,9],[105,10,105,12],[106,10,106,12],[107,10,107,12],[108,10,108,12],[110,6,110,16],[112,6,112,7],[112,8,112,9]]}
[null,null,null,null,null,"様式D＜統括管理者・研究責任医師用＞　利益相反状況確認報告書",null,null,null,null,null,null,null,null,null,null,"ver1.0"]
[null,null,"研究責任医師殿"]
[null,null,"利益相反データベースにおいて公表している本研究課題と関わりのある企業等との関係について、下記の通り報告します。"]
[]
[null,null,"研究課題：",{"$f":"IF('様式A'!B10=\"\",\"\",'様式A'!B10)","v":""},null,null,null,null,null,null,null,null,"日　　付"]
[null,null,null,null,null,null,null,null,null,null,null,null,"実施医療機関名 又は 所属機関名"]
[null,null,{"$f":"IF('様式C_統括管理・責任医師'!M6=\"\",\"\",'様式C_統括管理・責任医師'!M6&\"：\")","v":""},{"$f":"IF('様式C_統括管理・責任医師'!M7=\"\",\"\",'様式C_統括管理・責任医師'!M7)","v":""},null,null,null,null,null,null,null,null,"実施医療機関の管理者の氏名 又は \n所属機関の長の氏名"]
[]
[null,null,null,null,null,null,null,null,null,null,null,null,"【特記事項(任意)】（様式Cより）"]
[null,null,null,null,null,null,null,null,null,null,null,null,{"$f":"IF('様式C_統括管理・責任医師'!M10=\"\",\"\",'様式C_統括管理・責任医師'!M10)","v":""}]
[null,null,"立場","氏名",null,"立場",null,null,"氏名"]
[null,null,{"$f":"IF('様式C_統括管理・責任医師'!C10=\"\",\"\",'様式C_統括管理・責任医師'!C10)","v":""},{"$f":"IF('様式C_統括管理・責任医師'!D10=\"\",\"\",'様式C_統括管理・責任医師'!D10)","v":""},null,{"$f":"IF('様式C_統括管理・責任医師'!F10=\"\",\"\",'様式C_統括管理・責任医師'!F10)","v":""},null,null,{"$f":"IF('様式C_統括管理・責任医師'!H10=\"\",\"\",'様式C_統括管理・責任医師'!H10)","v":""}]
[null,null,{"$f":"IF('様式C_統括管理・責任医師'!C11=\"\",\"\",'様式C_統括管理・責任医師'!C11)","v":""},{"$f":"IF('様式C_統括管理・責任医師'!D11=\"\",\"\",'様式C_統括管理・責任医師'!D11)","v":""},null,{"$f":"IF('様式C_統括管理・責任医師'!F11=\"\",\"\",'様式C_統括管理・責任医師'!F11)","v":""},null,null,{"$f":"IF('様式C_統括管理・責任医師'!H11=\"\",\"\",'様式C_統括管理・責任医師'!H11)","v":""}]
[null,null,{"$f":"IF('様式C_統括管理・責任医師'!C12=\"\",\"\",'様式C_統括管理・責任医師'!C12)","v":""},{"$f":"IF('様式C_統括管理・責任医師'!D12=\"\",\"\",'様式C_統括管理・責任医師'!D12)","v":""},null,{"$f":"IF('様式C_統括管理・責任医師'!F12=\"\",\"\",'様式C_統括管理・責任医師'!F12)","v":""},null,null,{"$f":"IF('様式C_統括管理・責任医師'!H12=\"\",\"\",'様式C_統括管理・責任医師'!H12)","v":""}]
[null,null,{"$f":"IF('様式C_統括管理・責任医師'!C13=\"\",\"\",'様式C_統括管理・責任医師'!C13)","v":""},{"$f":"IF('様式C_統括管理・責任医師'!D13=\"\",\"\",'様式C_統括管理・責任医師'!D13)","v":""},null,{"$f":"IF('様式C_統括管理・責任医師'!F13=\"\",\"\",'様式C_統括管理・責任医師'!F13)","v":""},null,null,{"$f":"IF('様式C_統括管理・責任医師'!H13=\"\",\"\",'様式C_統括管理・責任医師'!H13)","v":""},null,null,null,"【特記事項(任意)】例：研究責任医師が実施機関の管理者のため、他の者が確認を行った"]
[null,null,{"$f":"IF('様式C_統括管理・責任医師'!C14=\"\",\"\",'様式C_統括管理・責任医師'!C14)","v":""},{"$f":"IF('様式C_統括管理・責任医師'!D14=\"\",\"\",'様式C_統括管理・責任医師'!D14)","v":""},null,{"$f":"IF('様式C_統括管理・責任医師'!F14=\"\",\"\",'様式C_統括管理・責任医師'!F14)","v":""},null,null,{"$f":"IF('様式C_統括管理・責任医師'!H14=\"\",\"\",'様式C_統括管理・責任医師'!H14)","v":""}]
[null,null,{"$f":"IF('様式C_統括管理・責任医師'!C15=\"\",\"\",'様式C_統括管理・責任医師'!C15)","v":""},{"$f":"IF('様式C_統括管理・責任医師'!D15=\"\",\"\",'様式C_統括管理・責任医師'!D15)","v":""},null,{"$f":"IF('様式C_統括管理・責任医師'!F15=\"\",\"\",'様式C_統括管理・責任医師'!F15)","v":""},null,null,{"$f":"IF('様式C_統括管理・責任医師'!H15=\"\",\"\",'様式C_統括管理・責任医師'!H15)","v":""}]
[null,null,{"$f":"IF('様式C_統括管理・責任医師'!C16=\"\",\"\",'様式C_統括管理・責任医師'!C16)","v":""},{"$f":"IF('様式C_統括管理・責任医師'!D16=\"\",\"\",'様式C_統括管理・責任医師'!D16)","v":""},null,{"$f":"IF('様式C_統括管理・責任医師'!F16=\"\",\"\",'様式C_統括管理・責任医師'!F16)","v":""},null,null,{"$f":"IF('様式C_統括管理・責任医師'!H16=\"\",\"\",'様式C_統括管理・責任医師'!H16)","v":""}]
[null,null,{"$f":"IF('様式C_統括管理・責任医師'!C17=\"\",\"\",'様式C_統括管理・責任医師'!C17)","v":""},{"$f":"IF('様式C_統括管理・責任医師'!D17=\"\",\"\",'様式C_統括管理・責任医師'!D17)","v":""},null,{"$f":"IF('様式C_統括管理・責任医師'!F17=\"\",\"\",'様式C_統括管理・責任医師'!F17)","v":""},null,null,{"$f":"IF('様式C_統括管理・責任医師'!H17=\"\",\"\",'様式C_統括管理・責任医師'!H17)","v":""}]
[]
[null,null,"1. 本研究の対象薬剤製薬企業等について"]
[null,null,"本研究に用いる医薬品等を製造販売し、若しくはしようとする医薬品等製造販売業者又はその特殊関係者（対象薬品製薬企業等）の名称",null,null,"①",{"$f":"IF('様式C_統括管理・責任医師'!G19=\"\",\"\",'様式C_統括管理・責任医師'!G19)","v":""},null,null,null,null,{"$f":"IF('様式C_統括管理・責任医師'!J19=\"\",\"\",'様式C_統括管理・責任医師'!J19)","v":""}]
[null,null,null,null,null,"②",{"$f":"IF('様式C_統括管理・責任医師'!G20=\"\",\"\",'様式C_統括管理・責任医師'!G20)","v":""},null,null,null,null,{"$f":"IF('様式C_統括管理・責任医師'!J20=\"\",\"\",'様式C_統括管理・責任医師'!J20)","v":""}]
[null,null,null,null,null,"③",{"$f":"IF('様式C_統括管理・責任医師'!G21=\"\",\"\",'様式C_統括管理・責任医師'!G21)","v":""},null,null,null,null,{"$f":"IF('様式C_統括管理・責任医師'!J21=\"\",\"\",'様式C_統括管理・責任医師'!J21)","v":""}]
[null,null,null,null,null,"④",{"$f":"IF('様式C_統括管理・責任医師'!G22=\"\",\"\",'様式C_統括管理・責任医師'!G22)","v":""},null,null,null,null,{"$f":"IF('様式C_統括管理・責任医師'!J22=\"\",\"\",'様式C_統括管理・責任医師'!J22)","v":""}]
[null,null,null,null,null,"⑤",{"$f":"IF('様式C_統括管理・責任医師'!G23=\"\",\"\",'様式C_統括管理・責任医師'!G23)","v":""},null,null,null,null,{"$f":"IF('様式C_統括管理・責任医師'!J23=\"\",\"\",'様式C_統括管理・責任医師'!J23)","v":""}]
[null,null,null,null,null,"⑥",{"$f":"IF('様式C_統括管理・責任医師'!G24=\"\",\"\",'様式C_統括管理・責任医師'!G24)","v":""},null,null,null,null,{"$f":"IF('様式C_統括管理・責任医師'!J24=\"\",\"\",'様式C_統括管理・責任医師'!J24)","v":""}]
[null,null,null,null,null,"⑦",{"$f":"IF('様式C_統括管理・責任医師'!G25=\"\",\"\",'様式C_統括管理・責任医師'!G25)","v":""},null,null,null,null,{"$f":"IF('様式C_統括管理・責任医師'!J25=\"\",\"\",'様式C_統括管理・責任医師'!J25)","v":""}]
[]
[null,null,"2. 本研究の対象薬剤製薬企業等との利益相反報告"]
[null,null,null,null,"本研究の対象薬剤製薬企業等の名称：","①",{"$f":"IF(G22=\"\",\"\",G22)","v":""}]
[]
[null,null,"COI状況の有無",null,null,null,"前年度",null,"今年度",null,"COI管理計画",null,null,null,"COIについての事実確認","COI管理計画の確認状況","COI管理に対する助言・勧告の内容\n(該当ある場合(自由記載))"]
[null,null,null,null,null,null,"有無","詳細","有無","詳細"]
[]
[null,null,"Q１．対象薬剤製薬企業等からの寄附金の総額が、年間合計200万円を超えているか？",null,null,"本人",{"$f":"IF('様式C_統括管理・責任医師'!G33=\"\",\"\",'様式C_統括管理・責任医師'!G33)","v":""},null,{"$f":"IF('様式C_統括管理・責任医師'!J33=\"\",\"\",'様式C_統括管理・責任医師'!J33)","v":""},null,{"$f":"IF('様式C_統括管理・責任医師'!M33=\"\",\"\",'様式C_統括管理・責任医師'!M33)","v":""},null,null,{"$f":"IF('様式C_統括管理・責任医師'!N33=\"\",\"\",'様式C_統括管理・責任医師'!N33)","v":""}]
[null,null,"Q２.　対象薬剤製薬企業等が提供する寄附講座に所属しているか？",null,null,"本人",{"$f":"IF('様式C_統括管理・責任医師'!G34=\"\",\"\",'様式C_統括管理・責任医師'!G34)","v":""},{"$f":"IF('様式C_統括管理・責任医師'!I35=\"有\",\"給与あり\",IF('様式C_統括管理・責任医師'!I35=\"無\",\"給与なし\",\"-\"))","v":"-"},{"$f":"IF('様式C_統括管理・責任医師'!J34=\"\",\"\",'様式C_統括管理・責任医師'!J34)","v":""},{"$f":"IF('様式C_統括管理・責任医師'!L35=\"有\",\"給与あり\",IF('様式C_統括管理・責任医師'!L35=\"無\",\"給与なし\",\"-\"))","v":"-"},{"$f":"IF('様式C_統括管理・責任医師'!M34=\"\",\"\",'様式C_統括管理・責任医師'!M34)","v":""},null,null,{"$f":"IF('様式C_統括管理・責任医師'!N34=\"\",\"\",'様式C_統括管理・責任医師'!N34)","v":""}]
[null,null,"Q3．対象薬剤製薬企業等からの年間合計100万円以上の個人的利益があるか？\n　\n・　個人的利益とは、給与・講演・原稿執筆・コンサルティング・知的所有権・贈答・接遇等による収入をいう。",null,null,"本人",{"$f":"IF('様式C_統括管理・責任医師'!G36=\"\",\"\",'様式C_統括管理・責任医師'!G36)","v":""},{"$f":"IF(G38=\"いいえ\",\"-\",IF('様式C_統括管理・責任医師'!I37>=2500000,\"250万円以上の利益あり\",\"-\"))","v":"-"},{"$f":"IF('様式C_統括管理・責任医師'!J36=\"\",\"\",'様式C_統括管理・責任医師'!J36)","v":""},{"$f":"IF(I38=\"いいえ\",\"-\",IF('様式C_統括管理・責任医師'!L37>=2500000,\"250万円以上の利益あり\",\"-\"))","v":"-"},{"$f":"IF('様式C_統括管理・責任医師'!M36=\"\",\"\",'様式C_統括管理・責任医師'!M36)","v":""},null,null,{"$f":"IF('様式C_統括管理・責任医師'!N36=\"\",\"\",'様式C_統括管理・責任医師'!N36)","v":""}]
[null,null,null,null,null,"申告者と生計を同じにする配偶者及びその一親等の親族",{"$f":"IF('様式C_統括管理・責任医師'!G38=\"\",\"\",'様式C_統括管理・責任医師'!G38)","v":""},{"$f":"IF(G39=\"いいえ\",\"-\",IF('様式C_統括管理・責任医師'!I39>=2500000,\"250万円以上の利益あり\",\"-\"))","v":"-"},{"$f":"IF('様式C_統括管理・責任医師'!J38=\"\",\"\",'様式C_統括管理・責任医師'!J38)","v":""},{"$f":"IF(I39=\"いいえ\",\"-\",IF('様式C_統括管理・責任医師'!L39>=2500000,\"250万円以上の利益あり\",\"-\"))","v":"-"},{"$f":"IF('様式C_統括管理・責任医師'!M38=\"\",\"\",'様式C_統括管理・責任医師'!M38)","v":""},null,null,{"$f":"IF('様式C_統括管理・責任医師'!N38=\"\",\"\",'様式C_統括管理・責任医師'!N38)","v":""}]
[null,null,"Q4．対象薬剤製薬企業等の役員に就任しているか？\n\n・　役員とは、株式会社の代表取締役・取締役、合同会社の代表者等代表権限を有する者、監査役をいう。",null,null,"本人",{"$f":"IF('様式C_統括管理・責任医師'!G40=\"\",\"\",'様式C_統括管理・責任医師'!G40)","v":""},null,{"$f":"IF('様式C_統括管理・責任医師'!J40=\"\",\"\",'様式C_統括管理・責任医師'!J40)","v":""},null,{"$f":"IF('様式C_統括管理・責任医師'!M40=\"\",\"\",'様式C_統括管理・責任医師'!M40)","v":""},null,null,{"$f":"IF('様式C_統括管理・責任医師'!N40=\"\",\"\",'様式C_統括管理・責任医師'!N40)","v":""}]
[null,null,null,null,null,"申告者と生計を同じにする配偶者及びその一親等の親族",{"$f":"IF('様式C_統括管理・責任医師'!G41=\"\",\"\",'様式C_統括管理・責任医師'!G41)","v":""},null,{"$f":"IF('様式C_統括管理・責任医師'!J41=\"\",\"\",'様式C_統括管理・責任医師'!J41)","v":""},null,{"$f":"IF('様式C_統括管理・責任医師'!M41=\"\",\"\",'様式C_統括管理・責任医師'!M41)","v":""},null,null,{"$f":"IF('様式C_統括管理・責任医師'!N41=\"\",\"\",'様式C_統括管理・責任医師'!N41)","v":""}]
[null,null,"Q5.対象薬剤製薬企業等の株式を保有しているか？対象薬剤製薬企業等に出資を行っているか？\n\n・株式の保有については、公開株式については５％以上、未公開株式は1株以上、新株予約権は１個以上をいう。これに該当しない場合は、「なし」とすること。",null,null,"本人",{"$f":"IF('様式C_統括管理・責任医師'!G42=\"\",\"\",'様式C_統括管理・責任医師'!G42)","v":""},{"$f":"IF(G42=\"いいえ\",\"-\",IF('様式C_統括管理・責任医師'!I42=\"はい\",\"株式保有\",\"株式保有なし\"))","v":"株式保有なし"},{"$f":"IF('様式C_統括管理・責任医師'!J42=\"\",\"\",'様式C_統括管理・責任医師'!J42)","v":""},{"$f":"IF(I42=\"いいえ\",\"-\",IF('様式C_統括管理・責任医師'!L42=\"はい\",\"株式保有\",\"株式保有なし\"))","v":"株式保有なし"},{"$f":"IF('様式C_統括管理・責任医師'!M42=\"\",\"\",'様式C_統括管理・責任医師'!M42)","v":""},null,null,{"$f":"IF('様式C_統括管理・責任医師'!N42=\"\",\"\",'様式C_統括管理・責任医師'!N42)","v":""}]
[null,null,null,null,null,"申告者と生計を同じにする配偶者及びその一親等の親族",{"$f":"IF('様式C_統括管理・責任医師'!G44=\"\",\"\",'様式C_統括管理・責任医師'!G44)","v":""},{"$f":"IF(G43=\"いいえ\",\"-\",IF('様式C_統括管理・責任医師'!I44=\"はい\",\"株式保有\",\"株式保有なし\"))","v":"株式保有なし"},{"$f":"IF('様式C_統括管理・責任医師'!J44=\"\",\"\",'様式C_統括管理・責任医師'!J44)","v":""},{"$f":"IF(I43=\"いいえ\",\"-\",IF('様式C_統括管理・責任医師'!L44=\"はい\",\"株式保有\",\"株式保有なし\"))","v":"株式保有なし"},{"$f":"IF('様式C_統括管理・責任医師'!M44=\"\",\"\",'様式C_統括管理・責任医師'!M44)","v":""},null,null,{"$f":"IF('様式C_統括管理・責任医師'!N44=\"\",\"\",'様式C_統括管理・責任医師'!N44)","v":""}]
[null,null,"Q6.その他、対象薬剤製薬企業等の関与があるか？",null,null,"本人",{"$f":"IF('様式C_統括管理・責任医師'!G46=\"\",\"\",'様式C_統括管理・責任医師'!G46)","v":""},{"$f":"IF(G44=\"いいえ\",\"-\",IF('様式C_統括管理・責任医師'!I46=\"はい\",\"知的財産への関与有り\",\"知的財産への関与なし\"))","v":"知的財産への関与なし"},{"$f":"IF('様式C_統括管理・責任医師'!J46=\"\",\"\",'様式C_統括管理・責任医師'!J46)","v":""},{"$f":"IF(I44=\"いいえ\",\"-\",IF('様式C_統括管理・責任医師'!L46=\"はい\",\"知的財産への関与有り\",\"知的財産への関与なし\"))","v":"知的財産への関与なし"},{"$f":"IF('様式C_統括管理・責任医師'!M46=\"\",\"\",'様式C_統括管理・責任医師'!M46)","v":""},null,null,{"$f":"IF('様式C_統括管理・責任医師'!N46=\"\",\"\",'様式C_統括管理・責任医師'!N46)","v":""}]
[null,null,null,null,null,"申告者と生計を同じにする配偶者及びその一親等の親族",{"$f":"IF('様式C_統括管理・責任医師'!G48=\"\",\"\",'様式C_統括管理・責任医師'!G48)","v":""},{"$f":"IF(G45=\"いいえ\",\"-\",IF('様式C_統括管理・責任医師'!I48=\"はい\",\"知的財産への関与有り\",\"知的財産への関与なし\"))","v":"知的財産への関与なし"},{"$f":"IF('様式C_統括管理・責任医師'!J48=\"\",\"\",'様式C_統括管理・責任医師'!J48)","v":""},{"$f":"IF(I45=\"いいえ\",\"-\",IF('様式C_統括管理・責任医師'!L48=\"はい\",\"知的財産への関与有り\",\"知的財産への関与なし\"))","v":"知的財産への関与なし"},{"$f":"IF('様式C_統括管理・責任医師'!M48=\"\",\"\",'様式C_統括管理・責任医師'!M48)","v":""},null,null,{"$f":"IF('様式C_統括管理・責任医師'!N48=\"\",\"\",'様式C_統括管理・責任医師'!N48)","v":""}]
[]
[null,null,null,null,"本研究の対象薬剤製薬企業等の名称：","②",{"$f":"IF(G23=\"\",\"\",G23)","v":""}]
[]
[null,null,"COI状況の有無",null,null,null,"前年度",null,"今年度",null,"COI管理計画",null,null,null,"COIについての事実確認","COI管理計画の確認状況","COI管理に対する助言・勧告の内容\n(該当ある場合(自由記載))"]
[null,null,null,null,null,null,"有無","詳細","有無","詳細"]
[]
[null,null,"Q１．対象薬剤製薬企業等からの寄附金の総額が、年間合計200万円を超えているか？",null,null,"本人",{"$f":"IF('様式C_統括管理・責任医師'!G56=\"\",\"\",'様式C_統括管理・責任医師'!G56)","v":""},null,{"$f":"IF('様式C_統括管理・責任医師'!J56=\"\",\"\",'様式C_統括管理・責任医師'!J56)","v":""},null,{"$f":"IF('様式C_統括管理・責任医師'!M56=\"\",\"\",'様式C_統括管理・責任医師'!M56)","v":""},null,null,{"$f":"IF('様式C_統括管理・責任医師'!N56=\"\",\"\",'様式C_統括管理・責任医師'!N56)","v":""}]
[null,null,"Q２.　対象薬剤製薬企業等が提供する寄附講座に所属しているか？",null,null,"本人",{"$f":"IF('様式C_統括管理・責任医師'!G57=\"\",\"\",'様式C_統括管理・責任医師'!G57)","v":""},{"$f":"IF('様式C_統括管理・責任医師'!I58=\"有\",\"給与あり\",IF('様式C_統括管理・責任医師'!I58=\"無\",\"給与なし\",\"-\"))","v":"-"},{"$f":"IF('様式C_統括管理・責任医師'!J57=\"\",\"\",'様式C_統括管理・責任医師'!J57)","v":""},{"$f":"IF('様式C_統括管理・責任医師'!L58=\"有\",\"給与あり\",IF('様式C_統括管理・責任医師'!L58=\"無\",\"給与なし\",\"-\"))","v":"-"},{"$f":"IF('様式C_統括管理・責任医師'!M57=\"\",\"\",'様式C_統括管理・責任医師'!M57)","v":""},null,null,{"$f":"IF('様式C_統括管理・責任医師'!N57=\"\",\"\",'様式C_統括管理・責任医師'!N57)","v":""}]
[null,null,"Q3．対象薬剤製薬企業等からの年間合計100万円以上の個人的利益があるか？\n　\n・　個人的利益とは、給与・講演・原稿執筆・コンサルティング・知的所有権・贈答・接遇等による収入をいう。",null,null,"本人",{"$f":"IF('様式C_統括管理・責任医師'!G59=\"\",\"\",'様式C_統括管理・責任医師'!G59)","v":""},{"$f":"IF(G54=\"いいえ\",\"-\",IF('様式C_統括管理・責任医師'!I60>=2500000,\"250万円以上の利益あり\",\"-\"))","v":"-"},{"$f":"IF('様式C_統括管理・責任医師'!J59=\"\",\"\",'様式C_統括管理・責任医師'!J59)","v":""},{"$f":"IF(I54=\"いいえ\",\"-\",IF('様式C_統括管理・責任医師'!L60>=2500000,\"250万円以上の利益あり\",\"-\"))","v":"-"},{"$f":"IF('様式C_統括管理・責任医師'!M59=\"\",\"\",'様式C_統括管理・責任医師'!M59)","v":""},null,null,{"$f":"IF('様式C_統括管理・責任医師'!N59=\"\",\"\",'様式C_統括管理・責任医師'!N59)","v":""}]
[null,null,null,null,null,"申告者と生計を同じにする配偶者及びその一親等の親族",{"$f":"IF('様式C_統括管理・責任医師'!G61=\"\",\"\",'様式C_統括管理・責任医師'!G61)","v":""},{"$f":"IF(G55=\"いいえ\",\"-\",IF('様式C_統括管理・責任医師'!I62>=2500000,\"250万円以上の利益あり\",\"-\"))","v":"-"},{"$f":"IF('様式C_統括管理・責任医師'!J61=\"\",\"\",'様式C_統括管理・責任医師'!J61)","v":""},{"$f":"IF(I55=\"いいえ\",\"-\",IF('様式C_統括管理・責任医師'!L62>=2500000,\"250万円以上の利益あり\",\"-\"))","v":"-"},{"$f":"IF('様式C_統括管理・責任医師'!M61=\"\",\"\",'様式C_統括管理・責任医師'!M61)","v":""},null,null,{"$f":"IF('様式C_統括管理・責任医師'!N61=\"\",\"\",'様式C_統括管理・責任医師'!N61)","v":""}]
[null,null,"Q4．対象薬剤製薬企業等の役員に就任しているか？\n\n・　役員とは、株式会社の代表取締役・取締役、合同会社の代表者等代表権限を有する者、監査役をいう。",null,null,"本人",{"$f":"IF('様式C_統括管理・責任医師'!G63=\"\",\"\",'様式C_統括管理・責任医師'!G63)","v":""},null,{"$f":"IF('様式C_統括管理・責任医師'!J63=\"\",\"\",'様式C_統括管理・責任医師'!J63)","v":""},null,{"$f":"IF('様式C_統括管理・責任医師'!M63=\"\",\"\",'様式C_統括管理・責任医師'!M63)","v":""},null,null,{"$f":"IF('様式C_統括管理・責任医師'!N63=\"\",\"\",'様式C_統括管理・責任医師'!N63)","v":""}]
[null,null,null,null,null,"申告者と生計を同じにする配偶者及びその一親等の親族",{"$f":"IF('様式C_統括管理・責任医師'!G64=\"\",\"\",'様式C_統括管理・責任医師'!G64)","v":""},null,{"$f":"IF('様式C_統括管理・責任医師'!J64=\"\",\"\",'様式C_統括管理・責任医師'!J64)","v":""},null,{"$f":"IF('様式C_統括管理・責任医師'!M64=\"\",\"\",'様式C_統括管理・責任医師'!M64)","v":""},null,null,{"$f":"IF('様式C_統括管理・責任医師'!N64=\"\",\"\",'様式C_統括管理・責任医師'!N64)","v":""}]
[null,null,"Q5.対象薬剤製薬企業等の株式を保有しているか？対象薬剤製薬企業等に出資を行っているか？\n\n・株式の保有については、公開株式については５％以上、未公開株式は1株以上、新株予約権は１個以上をいう。これに該当しない場合は、「なし」とすること。",null,null,"本人",{"$f":"IF('様式C_統括管理・責任医師'!G65=\"\",\"\",'様式C_統括管理・責任医師'!G65)","v":""},{"$f":"IF(G58=\"いいえ\",\"-\",IF('様式C_統括管理・責任医師'!I65=\"はい\",\"株式保有\",\"株式保有なし\"))","v":"株式保有なし"},{"$f":"IF('様式C_統括管理・責任医師'!J65=\"\",\"\",'様式C_統括管理・責任医師'!J65)","v":""},{"$f":"IF(I58=\"いいえ\",\"-\",IF('様式C_統括管理・責任医師'!L65=\"はい\",\"株式保有\",\"株式保有なし\"))","v":"株式保有なし"},{"$f":"IF('様式C_統括管理・責任医師'!M65=\"\",\"\",'様式C_統括管理・責任医師'!M65)","v":""},null,null,{"$f":"IF('様式C_統括管理・責任医師'!N65=\"\",\"\",'様式C_統括管理・責任医師'!N65)","v":""}]
[null,null,null,null,null,"申告者と生計を同じにする配偶者及びその一親等の親族",{"$f":"IF('様式C_統括管理・責任医師'!G67=\"\",\"\",'様式C_統括管理・責任医師'!G67)","v":""},{"$f":"IF(G59=\"いいえ\",\"-\",IF('様式C_統括管理・責任医師'!I67=\"はい\",\"株式保有\",\"株式保有なし\"))","v":"株式保有なし"},{"$f":"IF('様式C_統括管理・責任医師'!J67=\"\",\"\",'様式C_統括管理・責任医師'!J67)","v":""},{"$f":"IF(I59=\"いいえ\",\"-\",IF('様式C_統括管理・責任医師'!L67=\"はい\",\"株式保有\",\"株式保有なし\"))","v":"株式保有なし"},{"$f":"IF('様式C_統括管理・責任医師'!M67=\"\",\"\",'様式C_統括管理・責任医師'!M67)","v":""},null,null,{"$f":"IF('様式C_統括管理・責任医師'!N67=\"\",\"\",'様式C_統括管理・責任医師'!N67)","v":""}]
[null,null,"Q6.その他、対象薬剤製薬企業等の関与があるか？",null,null,"本人",{"$f":"IF('様式C_統括管理・責任医師'!G69=\"\",\"\",'様式C_統括管理・責任医師'!G69)","v":""},{"$f":"IF(G60=\"いいえ\",\"-\",IF('様式C_統括管理・責任医師'!I69=\"はい\",\"知的財産への関与有り\",\"知的財産への関与なし\"))","v":"知的財産への関与なし"},{"$f":"IF('様式C_統括管理・責任医師'!J69=\"\",\"\",'様式C_統括管理・責任医師'!J69)","v":""},{"$f":"IF(I60=\"いいえ\",\"-\",IF('様式C_統括管理・責任医師'!L69=\"はい\",\"知的財産への関与有り\",\"知的財産への関与なし\"))","v":"知的財産への関与なし"},{"$f":"IF('様式C_統括管理・責任医師'!M69=\"\",\"\",'様式C_統括管理・責任医師'!M69)","v":""},null,null,{"$f":"IF('様式C_統括管理・責任医師'!N69=\"\",\"\",'様式C_統括管理・責任医師'!N69)","v":""}]
[null,null,null,null,null,"申告者と生計を同じにする配偶者及びその一親等の親族",{"$f":"IF('様式C_統括管理・責任医師'!G71=\"\",\"\",'様式C_統括管理・責任医師'!G71)","v":""},{"$f":"IF(G61=\"いいえ\",\"-\",IF('様式C_統括管理・責任医師'!I71=\"はい\",\"知的財産への関与有り\",\"知的財産への関与なし\"))","v":"知的財産への関与なし"},{"$f":"IF('様式C_統括管理・責任医師'!J71=\"\",\"\",'様式C_統括管理・責任医師'!J71)","v":""},{"$f":"IF(I61=\"いいえ\",\"-\",IF('様式C_統括管理・責任医師'!L71=\"はい\",\"知的財産への関与有り\",\"知的財産への関与なし\"))","v":"知的財産への関与なし"},{"$f":"IF('様式C_統括管理・責任医師'!M71=\"\",\"\",'様式C_統括管理・責任医師'!M71)","v":""},null,null,{"$f":"IF('様式C_統括管理・責任医師'!N71=\"\",\"\",'様式C_統括管理・責任医師'!N71)","v":""}]
[]
[null,null,null,null,"本研究の対象薬剤製薬企業等の名称：","③",{"$f":"IF(G24=\"\",\"\",G24)","v":""}]
[]
[null,null,"COI状況の有無",null,null,null,"前年度",null,"今年度",null,"COI管理計画",null,null,null,"COIについての事実確認","COI管理計画の確認状況","COI管理に対する助言・勧告の内容\n(該当ある場合(自由記載))"]
[null,null,null,null,null,null,"有無","詳細","有無","詳細"]
[]
[null,null,"Q１．対象薬剤製薬企業等からの寄附金の総額が、年間合計200万円を超えているか？",null,null,"本人",{"$f":"IF('様式C_統括管理・責任医師'!G79=\"\",\"\",'様式C_統括管理・責任医師'!G79)","v":""},null,{"$f":"IF('様式C_統括管理・責任医師'!J79=\"\",\"\",'様式C_統括管理・責任医師'!J79)","v":""},null,{"$f":"IF('様式C_統括管理・責任医師'!M79=\"\",\"\",'様式C_統括管理・責任医師'!M79)","v":""},null,null,{"$f":"IF('様式C_統括管理・責任医師'!N79=\"\",\"\",'様式C_統括管理・責任医師'!N79)","v":""}]
[null,null,"Q２.　対象薬剤製薬企業等が提供する寄附講座に所属しているか？",null,null,"本人",{"$f":"IF('様式C_統括管理・責任医師'!G80=\"\",\"\",'様式C_統括管理・責任医師'!G80)","v":""},{"$f":"IF('様式C_統括管理・責任医師'!I81=\"有\",\"給与あり\",IF('様式C_統括管理・責任医師'!I81=\"無\",\"給与なし\",\"-\"))","v":"-"},{"$f":"IF('様式C_統括管理・責任医師'!J80=\"\",\"\",'様式C_統括管理・責任医師'!J80)","v":""},{"$f":"IF('様式C_統括管理・責任医師'!L81=\"有\",\"給与あり\",IF('様式C_統括管理・責任医師'!L81=\"無\",\"給与なし\",\"-\"))","v":"-"},{"$f":"IF('様式C_統括管理・責任医師'!M80=\"\",\"\",'様式C_統括管理・責任医師'!M80)","v":""},null,null,{"$f":"IF('様式C_統括管理・責任医師'!N80=\"\",\"\",'様式C_統括管理・責任医師'!N80)","v":""}]
[null,null,"Q3．対象薬剤製薬企業等からの年間合計100万円以上の個人的利益があるか？\n　\n・　個人的利益とは、給与・講演・原稿執筆・コンサルティング・知的所有権・贈答・接遇等による収入をいう。",null,null,"本人",{"$f":"IF('様式C_統括管理・責任医師'!G82=\"\",\"\",'様式C_統括管理・責任医師'!G82)","v":""},{"$f":"IF(G70=\"いいえ\",\"-\",IF('様式C_統括管理・責任医師'!I83>=2500000,\"250万円以上の利益あり\",\"-\"))","v":"-"},{"$f":"IF('様式C_統括管理・責任医師'!J82=\"\",\"\",'様式C_統括管理・責任医師'!J82)","v":""},{"$f":"IF(I70=\"いいえ\",\"-\",IF('様式C_統括管理・責任医師'!L83>=2500000,\"250万円以上の利益あり\",\"-\"))","v":"-"},{"$f":"IF('様式C_統括管理・責任医師'!M82=\"\",\"\",'様式C_統括管理・責任医師'!M82)","v":""},null,null,{"$f":"IF('様式C_統括管理・責任医師'!N82=\"\",\"\",'様式C_統括管理・責任医師'!N82)","v":""}]
[null,null,null,null,null,"申告者と生計を同じにする配偶者及びその一親等の親族",{"$f":"IF('様式C_統括管理・責任医師'!G84=\"\",\"\",'様式C_統括管理・責任医師'!G84)","v":""},{"$f":"IF(G71=\"いいえ\",\"-\",IF('様式C_統括管理・責任医師'!I85>=2500000,\"250万円以上の利益あり\",\"-\"))","v":"-"},{"$f":"IF('様式C_統括管理・責任医師'!J84=\"\",\"\",'様式C_統括管理・責任医師'!J84)","v":""},{"$f":"IF(I71=\"いいえ\",\"-\",IF('様式C_統括管理・責任医師'!L85>=2500000,\"250万円以上の利益あり\",\"-\"))","v":"-"},{"$f":"IF('様式C_統括管理・責任医師'!M84=\"\",\"\",'様式C_統括管理・責任医師'!M84)","v":""},null,null,{"$f":"IF('様式C_統括管理・責任医師'!N84=\"\",\"\",'様式C_統括管理・責任医師'!N84)","v":""}]
[null,null,"Q4．対象薬剤製薬企業等の役員に就任しているか？\n\n・　役員とは、株式会社の代表取締役・取締役、合同会社の代表者等代表権限を有する者、監査役をいう。",null,null,"本人",{"$f":"IF('様式C_統括管理・責任医師'!G86=\"\",\"\",'様式C_統括管理・責任医師'!G86)","v":""},null,{"$f":"IF('様式C_統括管理・責任医師'!J86=\"\",\"\",'様式C_統括管理・責任医師'!J86)","v":""},null,{"$f":"IF('様式C_統括管理・責任医師'!M86=\"\",\"\",'様式C_統括管理・責任医師'!M86)","v":""},null,null,{"$f":"IF('様式C_統括管理・責任医師'!N86=\"\",\"\",'様式C_統括管理・責任医師'!N86)","v":""}]
[null,null,null,null,null,"申告者と生計を同じにする配偶者及びその一親等の親族",{"$f":"IF('様式C_統括管理・責任医師'!G87=\"\",\"\",'様式C_統括管理・責任医師'!G87)","v":""},null,{"$f":"IF('様式C_統括管理・責任医師'!J87=\"\",\"\",'様式C_統括管理・責任医師'!J87)","v":""},null,{"$f":"IF('様式C_統括管理・責任医師'!M87=\"\",\"\",'様式C_統括管理・責任医師'!M87)","v":""},null,null,{"$f":"IF('様式C_統括管理・責任医師'!N87=\"\",\"\",'様式C_統括管理・責任医師'!N87)","v":""}]
[null,null,"Q5.対象薬剤製薬企業等の株式を保有しているか？対象薬剤製薬企業等に出資を行っているか？\n\n・株式の保有については、公開株式については５％以上、未公開株式は1株以上、新株予約権は１個以上をいう。これに該当しない場合は、「なし」とすること。",null,null,"本人",{"$f":"IF('様式C_統括管理・責任医師'!G88=\"\",\"\",'様式C_統括管理・責任医師'!G88)","v":""},{"$f":"IF(G74=\"いいえ\",\"-\",IF('様式C_統括管理・責任医師'!I88=\"はい\",\"株式保有\",\"株式保有なし\"))","v":"株式保有なし"},{"$f":"IF('様式C_統括管理・責任医師'!J88=\"\",\"\",'様式C_統括管理・責任医師'!J88)","v":""},{"$f":"IF(I74=\"いいえ\",\"-\",IF('様式C_統括管理・責任医師'!L88=\"はい\",\"株式保有\",\"株式保有なし\"))","v":"株式保有なし"},{"$f":"IF('様式C_統括管理・責任医師'!M88=\"\",\"\",'様式C_統括管理・責任医師'!M88)","v":""},null,null,{"$f":"IF('様式C_統括管理・責任医師'!N88=\"\",\"\",'様式C_統括管理・責任医師'!N88)","v":""}]
[null,null,null,null,null,"申告者と生計を同じにする配偶者及びその一親等の親族",{"$f":"IF('様式C_統括管理・責任医師'!G90=\"\",\"\",'様式C_統括管理・責任医師'!G90)","v":""},{"$f":"IF(G75=\"いいえ\",\"-\",IF('様式C_統括管理・責任医師'!I90=\"はい\",\"株式保有\",\"株式保有なし\"))","v":"株式保有なし"},{"$f":"IF('様式C_統括管理・責任医師'!J90=\"\",\"\",'様式C_統括管理・責任医師'!J90)","v":""},{"$f":"IF(I75=\"いいえ\",\"-\",IF('様式C_統括管理・責任医師'!L90=\"はい\",\"株式保有\",\"株式保有なし\"))","v":"株式保有なし"},{"$f":"IF('様式C_統括管理・責任医師'!M90=\"\",\"\",'様式C_統括管理・責任医師'!M90)","v":""},null,null,{"$f":"IF('様式C_統括管理・責任医師'!N90=\"\",\"\",'様式C_統括管理・責任医師'!N90)","v":""}]
[null,null,"Q6.その他、対象薬剤製薬企業等の関与があるか？",null,null,"本人",{"$f":"IF('様式C_統括管理・責任医師'!G92=\"\",\"\",'様式C_統括管理・責任医師'!G92)","v":""},{"$f":"IF(G76=\"いいえ\",\"-\",IF('様式C_統括管理・責任医師'!I92=\"はい\",\"知的財産への関与有り\",\"知的財産への関与なし\"))","v":"知的財産への関与なし"},{"$f":"IF('様式C_統括管理・責任医師'!J92=\"\",\"\",'様式C_統括管理・責任医師'!J92)","v":""},{"$f":"IF(I76=\"いいえ\",\"-\",IF('様式C_統括管理・責任医師'!L92=\"はい\",\"知的財産への関与有り\",\"知的財産への関与なし\"))","v":"知的財産への関与なし"},{"$f":"IF('様式C_統括管理・責任医師'!M92=\"\",\"\",'様式C_統括管理・責任医師'!M92)","v":""},null,null,{"$f":"IF('様式C_統括管理・責任医師'!N92=\"\",\"\",'様式C_統括管理・責任医師'!N92)","v":""}]
[null,null,null,null,null,"申告者と生計を同じにする配偶者及びその一親等の親族",{"$f":"IF('様式C_統括管理・責任医師'!G94=\"\",\"\",'様式C_統括管理・責任医師'!G94)","v":""},{"$f":"IF(G77=\"いいえ\",\"-\",IF('様式C_統括管理・責任医師'!I94=\"はい\",\"知的財産への関与有り\",\"知的財産への関与なし\"))","v":"知的財産への関与なし"},{"$f":"IF('様式C_統括管理・責任医師'!J94=\"\",\"\",'様式C_統括管理・責任医師'!J94)","v":""},{"$f":"IF(I77=\"いいえ\",\"-\",IF('様式C_統括管理・責任医師'!L94=\"はい\",\"知的財産への関与有り\",\"知的財産への関与なし\"))","v":"知的財産への関与なし"},{"$f":"IF('様式C_統括管理・責任医師'!M94=\"\",\"\",'様式C_統括管理・責任医師'!M94)","v":""},null,null,{"$f":"IF('様式C_統括管理・責任医師'!N94=\"\",\"\",'様式C_統括管理・責任医師'!N94)","v":""}]
[]
[null,null,null,null,"本研究の対象薬剤製薬企業等の名称：","④",{"$f":"IF(G25=\"\",\"\",G25)","v":""}]
[]
[null,null,"COI状況の有無",null,null,null,"前年度",null,"今年度",null,"COI管理計画",null,null,null,"COIについての事実確認","COI管理計画の確認状況","COI管理に対する助言・勧告の内容\n(該当ある場合(自由記載))"]
[null,null,null,null,null,null,"有無","詳細","有無","詳細"]
[]
[null,null,"Q１．対象薬剤製薬企業等からの寄附金の総額が、年間合計200万円を超えているか？",null,null,"本人",{"$f":"IF('様式C_統括管理・責任医師'!G102=\"\",\"\",'様式C_統括管理・責任医師'!G102)","v":""},null,{"$f":"IF('様式C_統括管理・責任医師'!J102=\"\",\"\",'様式C_統括管理・責任医師'!J102)","v":""},null,{"$f":"IF('様式C_統括管理・責任医師'!M102=\"\",\"\",'様式C_統括管理・責任医師'!M102)","v":""},null,null,{"$f":"IF('様式C_統括管理・責任医師'!N102=\"\",\"\",'様式C_統括管理・責任医師'!N102)","v":""}]
[null,null,"Q２.　対象薬剤製薬企業等が提供する寄附講座に所属しているか？",null,null,"本人",{"$f":"IF('様式C_統括管理・責任医師'!G103=\"\",\"\",'様式C_統括管理・責任医師'!G103)","v":""},{"$f":"IF('様式C_統括管理・責任医師'!I104=\"有\",\"給与あり\",IF('様式C_統括管理・責任医師'!I104=\"無\",\"給与なし\",\"-\"))","v":"-"},{"$f":"IF('様式C_統括管理・責任医師'!J103=\"\",\"\",'様式C_統括管理・責任医師'!J103)","v":""},{"$f":"IF('様式C_統括管理・責任医師'!L90=\"有\",\"給与あり\",IF('様式C_統括管理・責任医師'!L90=\"無\",\"給与なし\",\"-\"))","v":"-"},{"$f":"IF('様式C_統括管理・責任医師'!M103=\"\",\"\",'様式C_統括管理・責任医師'!M103)","v":""},null,null,{"$f":"IF('様式C_統括管理・責任医師'!N103=\"\",\"\",'様式C_統括管理・責任医師'!N103)","v":""}]
[null,null,"Q3．対象薬剤製薬企業等からの年間合計100万円以上の個人的利益があるか？\n　\n・　個人的利益とは、給与・講演・原稿執筆・コンサルティング・知的所有権・贈答・接遇等による収入をいう。",null,null,"本人",{"$f":"IF('様式C_統括管理・責任医師'!G105=\"\",\"\",'様式C_統括管理・責任医師'!G105)","v":""},{"$f":"IF(G86=\"いいえ\",\"-\",IF('様式C_統括管理・責任医師'!I106>=2500000,\"250万円以上の利益あり\",\"-\"))","v":"-"},{"$f":"IF('様式C_統括管理・責任医師'!J105=\"\",\"\",'様式C_統括管理・責任医師'!J105)","v":""},{"$f":"IF(I86=\"いいえ\",\"-\",IF('様式C_統括管理・責任医師'!L106>=2500000,\"250万円以上の利益あり\",\"-\"))","v":"-"},{"$f":"IF('様式C_統括管理・責任医師'!M105=\"\",\"\",'様式C_統括管理・責任医師'!M105)","v":""},null,null,{"$f":"IF('様式C_統括管理・責任医師'!N105=\"\",\"\",'様式C_統括管理・責任医師'!N105)","v":""}]
[null,null,null,null,null,"申告者と生計を同じにする配偶者及びその一親等の親族",{"$f":"IF('様式C_統括管理・責任医師'!G107=\"\",\"\",'様式C_統括管理・責任医師'!G107)","v":""},{"$f":"IF(G87=\"いいえ\",\"-\",IF('様式C_統括管理・責任医師'!I108>=2500000,\"250万円以上の利益あり\",\"-\"))","v":"-"},{"$f":"IF('様式C_統括管理・責任医師'!J107=\"\",\"\",'様式C_統括管理・責任医師'!J107)","v":""},{"$f":"IF(I87=\"いいえ\",\"-\",IF('様式C_統括管理・責任医師'!L108>=2500000,\"250万円以上の利益あり\",\"-\"))","v":"-"},{"$f":"IF('様式C_統括管理・責任医師'!M107=\"\",\"\",'様式C_統括管理・責任医師'!M107)","v":""},null,null,{"$f":"IF('様式C_統括管理・責任医師'!N107=\"\",\"\",'様式C_統括管理・責任医師'!N107)","v":""}]
[null,null,"Q4．対象薬剤製薬企業等の役員に就任しているか？\n\n・　役員とは、株式会社の代表取締役・取締役、合同会社の代表者等代表権限を有する者、監査役をいう。",null,null,"本人",{"$f":"IF('様式C_統括管理・責任医師'!G109=\"\",\"\",'様式C_統括管理・責任医師'!G109)","v":""},null,{"$f":"IF('様式C_統括管理・責任医師'!J109=\"\",\"\",'様式C_統括管理・責任医師'!J109)","v":""},null,{"$f":"IF('様式C_統括管理・責任医師'!M109=\"\",\"\",'様式C_統括管理・責任医師'!M109)","v":""},null,null,{"$f":"IF('様式C_統括管理・責任医師'!N109=\"\",\"\",'様式C_統括管理・責任医師'!N109)","v":""}]
[null,null,null,null,null,"申告者と生計を同じにする配偶者及びその一親等の親族",{"$f":"IF('様式C_統括管理・責任医師'!G110=\"\",\"\",'様式C_統括管理・責任医師'!G110)","v":""},null,{"$f":"IF('様式C_統括管理・責任医師'!J110=\"\",\"\",'様式C_統括管理・責任医師'!J110)","v":""},null,{"$f":"IF('様式C_統括管理・責任医師'!M110=\"\",\"\",'様式C_統括管理・責任医師'!M110)","v":""},null,null,{"$f":"IF('様式C_統括管理・責任医師'!N110=\"\",\"\",'様式C_統括管理・責任医師'!N110)","v":""}]
[null,null,"Q5.対象薬剤製薬企業等の株式を保有しているか？対象薬剤製薬企業等に出資を行っているか？\n\n・株式の保有については、公開株式については５％以上、未公開株式は1株以上、新株予約権は１個以上をいう。これに該当しない場合は、「なし」とすること。",null,null,"本人",{"$f":"IF('様式C_統括管理・責任医師'!G111=\"\",\"\",'様式C_統括管理・責任医師'!G111)","v":""},{"$f":"IF(G90=\"いいえ\",\"-\",IF('様式C_統括管理・責任医師'!I111=\"はい\",\"株式保有\",\"株式保有なし\"))","v":"株式保有なし"},{"$f":"IF('様式C_統括管理・責任医師'!J111=\"\",\"\",'様式C_統括管理・責任医師'!J111)","v":""},{"$f":"IF(I90=\"いいえ\",\"-\",IF('様式C_統括管理・責任医師'!L111=\"はい\",\"株式保有\",\"株式保有なし\"))","v":"株式保有なし"},{"$f":"IF('様式C_統括管理・責任医師'!M111=\"\",\"\",'様式C_統括管理・責任医師'!M111)","v":""},null,null,{"$f":"IF('様式C_統括管理・責任医師'!N111=\"\",\"\",'様式C_統括管理・責任医師'!N111)","v":""}]
[null,null,null,null,null,"申告者と生計を同じにする配偶者及びその一親等の親族",{"$f":"IF('様式C_統括管理・責任医師'!G113=\"\",\"\",'様式C_統括管理・責任医師'!G113)","v":""},{"$f":"IF(G91=\"いいえ\",\"-\",IF('様式C_統括管理・責任医師'!I113=\"はい\",\"株式保有\",\"株式保有なし\"))","v":"株式保有なし"},{"$f":"IF('様式C_統括管理・責任医師'!J113=\"\",\"\",'様式C_統括管理・責任医師'!J113)","v":""},{"$f":"IF(I91=\"いいえ\",\"-\",IF('様式C_統括管理・責任医師'!L113=\"はい\",\"株式保有\",\"株式保有なし\"))","v":"株式保有なし"},{"$f":"IF('様式C_統括管理・責任医師'!M113=\"\",\"\",'様式C_統括管理・責任医師'!M113)","v":""},null,null,{"$f":"IF('様式C_統括管理・責任医師'!N113=\"\",\"\",'様式C_統括管理・責任医師'!N113)","v":""}]
[null,null,"Q6.その他、対象薬剤製薬企業等の関与があるか？",null,null,"本人",{"$f":"IF('様式C_統括管理・責任医師'!G115=\"\",\"\",'様式C_統括管理・責任医師'!G115)","v":""},{"$f":"IF(G92=\"いいえ\",\"-\",IF('様式C_統括管理・責任医師'!I115=\"はい\",\"知的財産への関与有り\",\"知的財産への関与なし\"))","v":"知的財産への関与なし"},{"$f":"IF('様式C_統括管理・責任医師'!J115=\"\",\"\",'様式C_統括管理・責任医師'!J115)","v":""},{"$f":"IF(I92=\"いいえ\",\"-\",IF('様式C_統括管理・責任医師'!L115=\"はい\",\"知的財産への関与有り\",\"知的財産への関与なし\"))","v":"知的財産への関与なし"},{"$f":"IF('様式C_統括管理・責任医師'!M115=\"\",\"\",'様式C_統括管理・責任医師'!M115)","v":""},null,null,{"$f":"IF('様式C_統括管理・責任医師'!N115=\"\",\"\",'様式C_統括管理・責任医師'!N115)","v":""}]
[null,null,null,null,null,"申告者と生計を同じにする配偶者及びその一親等の親族",{"$f":"IF('様式C_統括管理・責任医師'!G117=\"\",\"\",'様式C_統括管理・責任医師'!G117)","v":""},{"$f":"IF(G93=\"いいえ\",\"-\",IF('様式C_統括管理・責任医師'!I117=\"はい\",\"知的財産への関与有り\",\"知的財産への関与なし\"))","v":"知的財産への関与なし"},{"$f":"IF('様式C_統括管理・責任医師'!J117=\"\",\"\",'様式C_統括管理・責任医師'!J117)","v":""},{"$f":"IF(I93=\"いいえ\",\"-\",IF('様式C_統括管理・責任医師'!L117=\"はい\",\"知的財産への関与有り\",\"知的財産への関与なし\"))","v":"知的財産への関与なし"},{"$f":"IF('様式C_統括管理・責任医師'!M117=\"\",\"\",'様式C_統括管理・責任医師'!M117)","v":""},null,null,{"$f":"IF('様式C_統括管理・責任医師'!N117=\"\",\"\",'様式C_統括管理・責任医師'!N117)","v":""}]
[]
[null,null,null,null,"本研究の対象薬剤製薬企業等の名称：","⑤",{"$f":"IF(G26=\"\",\"\",G26)","v":""}]
[]
[null,null,"COI状況の有無",null,null,null,"前年度",null,"今年度",null,"COI管理計画",null,null,null,"COIについての事実確認","COI管理計画の確認状況","COI管理に対する助言・勧告の内容\n(該当ある場合(自由記載))"]
[null,null,null,null,null,null,"有無","詳細","有無","詳細"]
[]
[null,null,"Q１．対象薬剤製薬企業等からの寄附金の総額が、年間合計200万円を超えているか？",null,null,"本人",{"$f":"IF('様式C_統括管理・責任医師'!G125=\"\",\"\",'様式C_統括管理・責任医師'!G125)","v":""},null,{"$f":"IF('様式C_統括管理・責任医師'!J125=\"\",\"\",'様式C_統括管理・責任医師'!J125)","v":""},null,{"$f":"IF('様式C_統括管理・責任医師'!M125=\"\",\"\",'様式C_統括管理・責任医師'!M125)","v":""},null,null,{"$f":"IF('様式C_統括管理・責任医師'!N125=\"\",\"\",'様式C_統括管理・責任医師'!N125)","v":""}]
[null,null,"Q２.　対象薬剤製薬企業等が提供する寄附講座に所属しているか？",null,null,"本人",{"$f":"IF('様式C_統括管理・責任医師'!G126=\"\",\"\",'様式C_統括管理・責任医師'!G126)","v":""},{"$f":"IF('様式C_統括管理・責任医師'!I127=\"有\",\"給与あり\",IF('様式C_統括管理・責任医師'!I127=\"無\",\"給与なし\",\"-\"))","v":"-"},{"$f":"IF('様式C_統括管理・責任医師'!J126=\"\",\"\",'様式C_統括管理・責任医師'!J126)","v":""},{"$f":"IF('様式C_統括管理・責任医師'!L127=\"有\",\"給与あり\",IF('様式C_統括管理・責任医師'!L127=\"無\",\"給与なし\",\"-\"))","v":"-"},{"$f":"IF('様式C_統括管理・責任医師'!M126=\"\",\"\",'様式C_統括管理・責任医師'!M126)","v":""},null,null,{"$f":"IF('様式C_統括管理・責任医師'!N126=\"\",\"\",'様式C_統括管理・責任医師'!N126)","v":""}]
[null,null,"Q3．対象薬剤製薬企業等からの年間合計100万円以上の個人的利益があるか？\n　\n・　個人的利益とは、給与・講演・原稿執筆・コンサルティング・知的所有権・贈答・接遇等による収入をいう。",null,null,"本人",{"$f":"IF('様式C_統括管理・責任医師'!G128=\"\",\"\",'様式C_統括管理・責任医師'!G128)","v":""},{"$f":"IF(G102=\"いいえ\",\"-\",IF('様式C_統括管理・責任医師'!I129>=2500000,\"250万円以上の利益あり\",\"-\"))","v":"-"},{"$f":"IF('様式C_統括管理・責任医師'!J128=\"\",\"\",'様式C_統括管理・責任医師'!J128)","v":""},{"$f":"IF(I102=\"いいえ\",\"-\",IF('様式C_統括管理・責任医師'!L129>=2500000,\"250万円以上の利益あり\",\"-\"))","v":"-"},{"$f":"IF('様式C_統括管理・責任医師'!M128=\"\",\"\",'様式C_統括管理・責任医師'!M128)","v":""},null,null,{"$f":"IF('様式C_統括管理・責任医師'!N128=\"\",\"\",'様式C_統括管理・責任医師'!N128)","v":""}]
[null,null,null,null,null,"申告者と生計を同じにする配偶者及びその一親等の親族",{"$f":"IF('様式C_統括管理・責任医師'!G130=\"\",\"\",'様式C_統括管理・責任医師'!G130)","v":""},{"$f":"IF(G103=\"いいえ\",\"-\",IF('様式C_統括管理・責任医師'!I131>=2500000,\"250万円以上の利益あり\",\"-\"))","v":"-"},{"$f":"IF('様式C_統括管理・責任医師'!J130=\"\",\"\",'様式C_統括管理・責任医師'!J130)","v":""},{"$f":"IF(I103=\"いいえ\",\"-\",IF('様式C_統括管理・責任医師'!L131>=2500000,\"250万円以上の利益あり\",\"-\"))","v":"-"},{"$f":"IF('様式C_統括管理・責任医師'!M130=\"\",\"\",'様式C_統括管理・責任医師'!M130)","v":""},null,null,{"$f":"IF('様式C_統括管理・責任医師'!N130=\"\",\"\",'様式C_統括管理・責任医師'!N130)","v":""}]
[null,null,"Q4．対象薬剤製薬企業等の役員に就任しているか？\n\n・　役員とは、株式会社の代表取締役・取締役、合同会社の代表者等代表権限を有する者、監査役をいう。",null,null,"本人",{"$f":"IF('様式C_統括管理・責任医師'!G132=\"\",\"\",'様式C_統括管理・責任医師'!G132)","v":""},null,{"$f":"IF('様式C_統括管理・責任医師'!J132=\"\",\"\",'様式C_統括管理・責任医師'!J132)","v":""},null,{"$f":"IF('様式C_統括管理・責任医師'!M132=\"\",\"\",'様式C_統括管理・責任医師'!M132)","v":""},null,null,{"$f":"IF('様式C_統括管理・責任医師'!N132=\"\",\"\",'様式C_統括管理・責任医師'!N132)","v":""}]
[null,null,null,null,null,"申告者と生計を同じにする配偶者及びその一親等の親族",{"$f":"IF('様式C_統括管理・責任医師'!G133=\"\",\"\",'様式C_統括管理・責任医師'!G133)","v":""},null,{"$f":"IF('様式C_統括管理・責任医師'!J133=\"\",\"\",'様式C_統括管理・責任医師'!J133)","v":""},null,{"$f":"IF('様式C_統括管理・責任医師'!M133=\"\",\"\",'様式C_統括管理・責任医師'!M133)","v":""},null,null,{"$f":"IF('様式C_統括管理・責任医師'!N133=\"\",\"\",'様式C_統括管理・責任医師'!N133)","v":""}]
[null,null,"Q5.対象薬剤製薬企業等の株式を保有しているか？対象薬剤製薬企業等に出資を行っているか？\n\n・株式の保有については、公開株式については５％以上、未公開株式は1株以上、新株予約権は１個以上をいう。これに該当しない場合は、「なし」とすること。",null,null,"本人",{"$f":"IF('様式C_統括管理・責任医師'!G134=\"\",\"\",'様式C_統括管理・責任医師'!G134)","v":""},{"$f":"IF(G106=\"いいえ\",\"-\",IF('様式C_統括管理・責任医師'!I134=\"はい\",\"株式保有\",\"株式保有なし\"))","v":"株式保有なし"},{"$f":"IF('様式C_統括管理・責任医師'!J134=\"\",\"\",'様式C_統括管理・責任医師'!J134)","v":""},{"$f":"IF(I106=\"いいえ\",\"-\",IF('様式C_統括管理・責任医師'!L134=\"はい\",\"株式保有\",\"株式保有なし\"))","v":"株式保有なし"},{"$f":"IF('様式C_統括管理・責任医師'!M134=\"\",\"\",'様式C_統括管理・責任医師'!M134)","v":""},null,null,{"$f":"IF('様式C_統括管理・責任医師'!N134=\"\",\"\",'様式C_統括管理・責任医師'!N134)","v":""}]
[null,null,null,null,null,"申告者と生計を同じにする配偶者及びその一親等の親族",{"$f":"IF('様式C_統括管理・責任医師'!G136=\"\",\"\",'様式C_統括管理・責任医師'!G136)","v":""},{"$f":"IF(G107=\"いいえ\",\"-\",IF('様式C_統括管理・責任医師'!I136=\"はい\",\"株式保有\",\"株式保有なし\"))","v":"株式保有なし"},{"$f":"IF('様式C_統括管理・責任医師'!J136=\"\",\"\",'様式C_統括管理・責任医師'!J136)","v":""},{"$f":"IF(I107=\"いいえ\",\"-\",IF('様式C_統括管理・責任医師'!L136=\"はい\",\"株式保有\",\"株式保有なし\"))","v":"株式保有なし"},{"$f":"IF('様式C_統括管理・責任医師'!M136=\"\",\"\",'様式C_統括管理・責任医師'!M136)","v":""},null,null,{"$f":"IF('様式C_統括管理・責任医師'!N136=\"\",\"\",'様式C_統括管理・責任医師'!N136)","v":""}]
[null,null,"Q6.その他、対象薬剤製薬企業等の関与があるか？",null,null,"本人",{"$f":"IF('様式C_統括管理・責任医師'!G138=\"\",\"\",'様式C_統括管理・責任医師'!G138)","v":""},{"$f":"IF(G108=\"いいえ\",\"-\",IF('様式C_統括管理・責任医師'!I138=\"はい\",\"知的財産への関与有り\",\"知的財産への関与なし\"))","v":"知的財産への関与なし"},{"$f":"IF('様式C_統括管理・責任医師'!J138=\"\",\"\",'様式C_統括管理・責任医師'!J138)","v":""},{"$f":"IF(I108=\"いいえ\",\"-\",IF('様式C_統括管理・責任医師'!L138=\"はい\",\"知的財産への関与有り\",\"知的財産への関与なし\"))","v":"知的財産への関与なし"},{"$f":"IF('様式C_統括管理・責任医師'!M138=\"\",\"\",'様式C_統括管理・責任医師'!M138)","v":""},null,null,{"$f":"IF('様式C_統括管理・責任医師'!N138=\"\",\"\",'様式C_統括管理・責任医師'!N138)","v":""}]
[null,null,null,null,null,"申告者と生計を同じにする配偶者及びその一親等の親族",{"$f":"IF('様式C_統括管理・責任医師'!G140=\"\",\"\",'様式C_統括管理・責任医師'!G140)","v":""},{"$f":"IF(G109=\"いいえ\",\"-\",IF('様式C_統括管理・責任医師'!I140=\"はい\",\"知的財産への関与有り\",\"知的財産への関与なし\"))","v":"知的財産への関与なし"},{"$f":"IF('様式C_統括管理・責任医師'!J140=\"\",\"\",'様式C_統括管理・責任医師'!J140)","v":""},{"$f":"IF(I109=\"いいえ\",\"-\",IF('様式C_統括管理・責任医師'!L140=\"はい\",\"知的財産への関与有り\",\"知的財産への関与なし\"))","v":"知的財産への関与なし"},{"$f":"IF('様式C_統括管理・責任医師'!M140=\"\",\"\",'様式C_統括管理・責任医師'!M140)","v":""},null,null,{"$f":"IF('様式C_統括管理・責任医師'!N140=\"\",\"\",'様式C_統括管理・責任医師'!N140)","v":""}]
[]
[null,null,null,null,"本研究の対象薬剤製薬企業等の名称：","⑥",{"$f":"IF(G27=\"\",\"\",G27)","v":""}]
[]
[null,null,"COI状況の有無",null,null,null,"前年度",null,"今年度",null,"COI管理計画",null,null,null,"COIについての事実確認","COI管理計画の確認状況","COI管理に対する助言・勧告の内容\n(該当ある場合(自由記載))"]
[null,null,null,null,null,null,"有無","詳細","有無","詳細"]
[]
[null,null,"Q１．対象薬剤製薬企業等からの寄附金の総額が、年間合計200万円を超えているか？",null,null,"本人",{"$f":"IF('様式C_統括管理・責任医師'!G148=\"\",\"\",'様式C_統括管理・責任医師'!G148)","v":""},null,{"$f":"IF('様式C_統括管理・責任医師'!J148=\"\",\"\",'様式C_統括管理・責任医師'!J148)","v":""},null,{"$f":"IF('様式C_統括管理・責任医師'!M148=\"\",\"\",'様式C_統括管理・責任医師'!M148)","v":""},null,null,{"$f":"IF('様式C_統括管理・責任医師'!N148=\"\",\"\",'様式C_統括管理・責任医師'!N148)","v":""}]
[null,null,"Q２.　対象薬剤製薬企業等が提供する寄附講座に所属しているか？",null,null,"本人",{"$f":"IF('様式C_統括管理・責任医師'!G149=\"\",\"\",'様式C_統括管理・責任医師'!G149)","v":""},{"$f":"IF('様式C_統括管理・責任医師'!I150=\"有\",\"給与あり\",IF('様式C_統括管理・責任医師'!I150=\"無\",\"給与なし\",\"-\"))","v":"-"},{"$f":"IF('様式C_統括管理・責任医師'!J149=\"\",\"\",'様式C_統括管理・責任医師'!J149)","v":""},{"$f":"IF('様式C_統括管理・責任医師'!L150=\"有\",\"給与あり\",IF('様式C_統括管理・責任医師'!L150=\"無\",\"給与なし\",\"-\"))","v":"-"},{"$f":"IF('様式C_統括管理・責任医師'!M149=\"\",\"\",'様式C_統括管理・責任医師'!M149)","v":""},null,null,{"$f":"IF('様式C_統括管理・責任医師'!N149=\"\",\"\",'様式C_統括管理・責任医師'!N149)","v":""}]
[null,null,"Q3．対象薬剤製薬企業等からの年間合計100万円以上の個人的利益があるか？\n　\n・　個人的利益とは、給与・講演・原稿執筆・コンサルティング・知的所有権・贈答・接遇等による収入をいう。",null,null,"本人",{"$f":"IF('様式C_統括管理・責任医師'!G151=\"\",\"\",'様式C_統括管理・責任医師'!G151)","v":""},{"$f":"IF(G118=\"いいえ\",\"-\",IF('様式C_統括管理・責任医師'!I152>=2500000,\"250万円以上の利益あり\",\"-\"))","v":"-"},{"$f":"IF('様式C_統括管理・責任医師'!J151=\"\",\"\",'様式C_統括管理・責任医師'!J151)","v":""},{"$f":"IF(I118=\"いいえ\",\"-\",IF('様式C_統括管理・責任医師'!L152>=2500000,\"250万円以上の利益あり\",\"-\"))","v":"-"},{"$f":"IF('様式C_統括管理・責任医師'!M151=\"\",\"\",'様式C_統括管理・責任医師'!M151)","v":""},null,null,{"$f":"IF('様式C_統括管理・責任医師'!N151=\"\",\"\",'様式C_統括管理・責任医師'!N151)","v":""}]
[null,null,null,null,null,"申告者と生計を同じにする配偶者及びその一親等の親族",{"$f":"IF('様式C_統括管理・責任医師'!G153=\"\",\"\",'様式C_統括管理・責任医師'!G153)","v":""},{"$f":"IF(G119=\"いいえ\",\"-\",IF('様式C_統括管理・責任医師'!I154>=2500000,\"250万円以上の利益あり\",\"-\"))","v":"-"},{"$f":"IF('様式C_統括管理・責任医師'!J153=\"\",\"\",'様式C_統括管理・責任医師'!J153)","v":""},{"$f":"IF(I119=\"いいえ\",\"-\",IF('様式C_統括管理・責任医師'!L154>=2500000,\"250万円以上の利益あり\",\"-\"))","v":"-"},{"$f":"IF('様式C_統括管理・責任医師'!M153=\"\",\"\",'様式C_統括管理・責任医師'!M153)","v":""},null,null,{"$f":"IF('様式C_統括管理・責任医師'!N153=\"\",\"\",'様式C_統括管理・責任医師'!N153)","v":""}]
[null,null,"Q4．対象薬剤製薬企業等の役員に就任しているか？\n\n・　役員とは、株式会社の代表取締役・取締役、合同会社の代表者等代表権限を有する者、監査役をいう。",null,null,"本人",{"$f":"IF('様式C_統括管理・責任医師'!G155=\"\",\"\",'様式C_統括管理・責任医師'!G155)","v":""},null,{"$f":"IF('様式C_統括管理・責任医師'!J155=\"\",\"\",'様式C_統括管理・責任医師'!J155)","v":""},null,{"$f":"IF('様式C_統括管理・責任医師'!M155=\"\",\"\",'様式C_統括管理・責任医師'!M155)","v":""},null,null,{"$f":"IF('様式C_統括管理・責任医師'!N155=\"\",\"\",'様式C_統括管理・責任医師'!N155)","v":""}]
[null,null,null,null,null,"申告者と生計を同じにする配偶者及びその一親等の親族",{"$f":"IF('様式C_統括管理・責任医師'!G156=\"\",\"\",'様式C_統括管理・責任医師'!G156)","v":""},null,{"$f":"IF('様式C_統括管理・責任医師'!J156=\"\",\"\",'様式C_統括管理・責任医師'!J156)","v":""},null,{"$f":"IF('様式C_統括管理・責任医師'!M156=\"\",\"\",'様式C_統括管理・責任医師'!M156)","v":""},null,null,{"$f":"IF('様式C_統括管理・責任医師'!N156=\"\",\"\",'様式C_統括管理・責任医師'!N156)","v":""}]
[null,null,"Q5.対象薬剤製薬企業等の株式を保有しているか？対象薬剤製薬企業等に出資を行っているか？\n\n・株式の保有については、公開株式については５％以上、未公開株式は1株以上、新株予約権は１個以上をいう。これに該当しない場合は、「なし」とすること。",null,null,"本人",{"$f":"IF('様式C_統括管理・責任医師'!G157=\"\",\"\",'様式C_統括管理・責任医師'!G157)","v":""},{"$f":"IF(G122=\"いいえ\",\"-\",IF('様式C_統括管理・責任医師'!I157=\"はい\",\"株式保有\",\"株式保有なし\"))","v":"株式保有なし"},{"$f":"IF('様式C_統括管理・責任医師'!J157=\"\",\"\",'様式C_統括管理・責任医師'!J157)","v":""},{"$f":"IF(I122=\"いいえ\",\"-\",IF('様式C_統括管理・責任医師'!L157=\"はい\",\"株式保有\",\"株式保有なし\"))","v":"株式保有なし"},{"$f":"IF('様式C_統括管理・責任医師'!M157=\"\",\"\",'様式C_統括管理・責任医師'!M157)","v":""},null,null,{"$f":"IF('様式C_統括管理・責任医師'!N157=\"\",\"\",'様式C_統括管理・責任医師'!N157)","v":""}]
[null,null,null,null,null,"申告者と生計を同じにする配偶者及びその一親等の親族",{"$f":"IF('様式C_統括管理・責任医師'!G159=\"\",\"\",'様式C_統括管理・責任医師'!G159)","v":""},{"$f":"IF(G123=\"いいえ\",\"-\",IF('様式C_統括管理・責任医師'!I159=\"はい\",\"株式保有\",\"株式保有なし\"))","v":"株式保有なし"},{"$f":"IF('様式C_統括管理・責任医師'!J159=\"\",\"\",'様式C_統括管理・責任医師'!J159)","v":""},{"$f":"IF(I123=\"いいえ\",\"-\",IF('様式C_統括管理・責任医師'!L159=\"はい\",\"株式保有\",\"株式保有なし\"))","v":"株式保有なし"},{"$f":"IF('様式C_統括管理・責任医師'!M159=\"\",\"\",'様式C_統括管理・責任医師'!M159)","v":""},null,null,{"$f":"IF('様式C_統括管理・責任医師'!N159=\"\",\"\",'様式C_統括管理・責任医師'!N159)","v":""}]
[null,null,"Q6.その他、対象薬剤製薬企業等の関与があるか？",null,null,"本人",{"$f":"IF('様式C_統括管理・責任医師'!G161=\"\",\"\",'様式C_統括管理・責任医師'!G161)","v":""},{"$f":"IF(G124=\"いいえ\",\"-\",IF('様式C_統括管理・責任医師'!I161=\"はい\",\"知的財産への関与有り\",\"知的財産への関与なし\"))","v":"知的財産への関与なし"},{"$f":"IF('様式C_統括管理・責任医師'!J161=\"\",\"\",'様式C_統括管理・責任医師'!J161)","v":""},{"$f":"IF(I124=\"いいえ\",\"-\",IF('様式C_統括管理・責任医師'!L161=\"はい\",\"知的財産への関与有り\",\"知的財産への関与なし\"))","v":"知的財産への関与なし"},{"$f":"IF('様式C_統括管理・責任医師'!M161=\"\",\"\",'様式C_統括管理・責任医師'!M161)","v":""},null,null,{"$f":"IF('様式C_統括管理・責任医師'!N161=\"\",\"\",'様式C_統括管理・責任医師'!N161)","v":""}]
[null,null,null,null,null,"申告者と生計を同じにする配偶者及びその一親等の親族",{"$f":"IF('様式C_統括管理・責任医師'!G163=\"\",\"\",'様式C_統括管理・責任医師'!G163)","v":""},{"$f":"IF(G125=\"いいえ\",\"-\",IF('様式C_統括管理・責任医師'!I163=\"はい\",\"知的財産への関与有り\",\"知的財産への関与なし\"))","v":"知的財産への関与なし"},{"$f":"IF('様式C_統括管理・責任医師'!J163=\"\",\"\",'様式C_統括管理・責任医師'!J163)","v":""},{"$f":"IF(I125=\"いいえ\",\"-\",IF('様式C_統括管理・責任医師'!L163=\"はい\",\"知的財産への関与有り\",\"知的財産への関与なし\"))","v":"知的財産への関与なし"},{"$f":"IF('様式C_統括管理・責任医師'!M163=\"\",\"\",'様式C_統括管理・責任医師'!M163)","v":""},null,null,{"$f":"IF('様式C_統括管理・責任医師'!N163=\"\",\"\",'様式C_統括管理・責任医師'!N163)","v":""}]
[]
[null,null,null,null,"本研究の対象薬剤製薬企業等の名称：","⑦",{"$f":"IF(G28=\"\",\"\",G28)","v":""}]
[]
[null,null,"COI状況の有無",null,null,null,"前年度",null,"今年度",null,"COI管理計画",null,null,null,"COIについての事実確認","COI管理計画の確認状況","COI管理に対する助言・勧告の内容\n(該当ある場合(自由記載))"]
[null,null,null,null,null,null,"有無","詳細","有無","詳細"]
[]
[null,null,"Q１．対象薬剤製薬企業等からの寄附金の総額が、年間合計200万円を超えているか？",null,null,"本人",{"$f":"IF('様式C_統括管理・責任医師'!G171=\"\",\"\",'様式C_統括管理・責任医師'!G171)","v":""},null,{"$f":"IF('様式C_統括管理・責任医師'!J171=\"\",\"\",'様式C_統括管理・責任医師'!J171)","v":""},null,{"$f":"IF('様式C_統括管理・責任医師'!M171=\"\",\"\",'様式C_統括管理・責任医師'!M171)","v":""},null,null,{"$f":"IF('様式C_統括管理・責任医師'!N171=\"\",\"\",'様式C_統括管理・責任医師'!N171)","v":""}]
[null,null,"Q２.　対象薬剤製薬企業等が提供する寄附講座に所属しているか？",null,null,"本人",{"$f":"IF('様式C_統括管理・責任医師'!G172=\"\",\"\",'様式C_統括管理・責任医師'!G172)","v":""},{"$f":"IF('様式C_統括管理・責任医師'!I173=\"有\",\"給与あり\",IF('様式C_統括管理・責任医師'!I173=\"無\",\"給与なし\",\"-\"))","v":"-"},{"$f":"IF('様式C_統括管理・責任医師'!J172=\"\",\"\",'様式C_統括管理・責任医師'!J172)","v":""},{"$f":"IF('様式C_統括管理・責任医師'!L173=\"有\",\"給与あり\",IF('様式C_統括管理・責任医師'!L173=\"無\",\"給与なし\",\"-\"))","v":"-"},{"$f":"IF('様式C_統括管理・責任医師'!M172=\"\",\"\",'様式C_統括管理・責任医師'!M172)","v":""},null,null,{"$f":"IF('様式C_統括管理・責任医師'!N172=\"\",\"\",'様式C_統括管理・責任医師'!N172)","v":""}]
[null,null,"Q3．対象薬剤製薬企業等からの年間合計100万円以上の個人的利益があるか？\n　\n・　個人的利益とは、給与・講演・原稿執筆・コンサルティング・知的所有権・贈答・接遇等による収入をいう。",null,null,"本人",{"$f":"IF('様式C_統括管理・責任医師'!G174=\"\",\"\",'様式C_統括管理・責任医師'!G174)","v":""},{"$f":"IF(G134=\"いいえ\",\"-\",IF('様式C_統括管理・責任医師'!I175>=2500000,\"250万円以上の利益あり\",\"-\"))","v":"-"},{"$f":"IF('様式C_統括管理・責任医師'!J174=\"\",\"\",'様式C_統括管理・責任医師'!J174)","v":""},{"$f":"IF(I134=\"いいえ\",\"-\",IF('様式C_統括管理・責任医師'!L175>=2500000,\"250万円以上の利益あり\",\"-\"))","v":"-"},{"$f":"IF('様式C_統括管理・責任医師'!M174=\"\",\"\",'様式C_統括管理・責任医師'!M174)","v":""},null,null,{"$f":"IF('様式C_統括管理・責任医師'!N174=\"\",\"\",'様式C_統括管理・責任医師'!N174)","v":""}]
[null,null,null,null,null,"申告者と生計を同じにする配偶者及びその一親等の親族",{"$f":"IF('様式C_統括管理・責任医師'!G176=\"\",\"\",'様式C_統括管理・責任医師'!G176)","v":""},{"$f":"IF(G135=\"いいえ\",\"-\",IF('様式C_統括管理・責任医師'!I177>=2500000,\"250万円以上の利益あり\",\"-\"))","v":"-"},{"$f":"IF('様式C_統括管理・責任医師'!J176=\"\",\"\",'様式C_統括管理・責任医師'!J176)","v":""},{"$f":"IF(I135=\"いいえ\",\"-\",IF('様式C_統括管理・責任医師'!L177>=2500000,\"250万円以上の利益あり\",\"-\"))","v":"-"},{"$f":"IF('様式C_統括管理・責任医師'!M176=\"\",\"\",'様式C_統括管理・責任医師'!M176)","v":""},null,null,{"$f":"IF('様式C_統括管理・責任医師'!N176=\"\",\"\",'様式C_統括管理・責任医師'!N176)","v":""}]
[null,null,"Q4．対象薬剤製薬企業等の役員に就任しているか？\n\n・　役員とは、株式会社の代表取締役・取締役、合同会社の代表者等代表権限を有する者、監査役をいう。",null,null,"本人",{"$f":"IF('様式C_統括管理・責任医師'!G178=\"\",\"\",'様式C_統括管理・責任医師'!G178)","v":""},null,{"$f":"IF('様式C_統括管理・責任医師'!J178=\"\",\"\",'様式C_統括管理・責任医師'!J178)","v":""},null,{"$f":"IF('様式C_統括管理・責任医師'!M178=\"\",\"\",'様式C_統括管理・責任医師'!M178)","v":""},null,null,{"$f":"IF('様式C_統括管理・責任医師'!N178=\"\",\"\",'様式C_統括管理・責任医師'!N178)","v":""}]
[null,null,null,null,null,"申告者と生計を同じにする配偶者及びその一親等の親族",{"$f":"IF('様式C_統括管理・責任医師'!G179=\"\",\"\",'様式C_統括管理・責任医師'!G179)","v":""},null,{"$f":"IF('様式C_統括管理・責任医師'!J179=\"\",\"\",'様式C_統括管理・責任医師'!J179)","v":""},null,{"$f":"IF('様式C_統括管理・責任医師'!M179=\"\",\"\",'様式C_統括管理・責任医師'!M179)","v":""},null,null,{"$f":"IF('様式C_統括管理・責任医師'!N179=\"\",\"\",'様式C_統括管理・責任医師'!N179)","v":""}]
[null,null,"Q5.対象薬剤製薬企業等の株式を保有しているか？対象薬剤製薬企業等に出資を行っているか？\n\n・株式の保有については、公開株式については５％以上、未公開株式は1株以上、新株予約権は１個以上をいう。これに該当しない場合は、「なし」とすること。",null,null,"本人",{"$f":"IF('様式C_統括管理・責任医師'!G180=\"\",\"\",'様式C_統括管理・責任医師'!G180)","v":""},{"$f":"IF(G138=\"いいえ\",\"-\",IF('様式C_統括管理・責任医師'!I180=\"はい\",\"株式保有\",\"株式保有なし\"))","v":"株式保有なし"},{"$f":"IF('様式C_統括管理・責任医師'!J180=\"\",\"\",'様式C_統括管理・責任医師'!J180)","v":""},{"$f":"IF(I138=\"いいえ\",\"-\",IF('様式C_統括管理・責任医師'!L180=\"はい\",\"株式保有\",\"株式保有なし\"))","v":"株式保有なし"},{"$f":"IF('様式C_統括管理・責任医師'!M180=\"\",\"\",'様式C_統括管理・責任医師'!M180)","v":""},null,null,{"$f":"IF('様式C_統括管理・責任医師'!N180=\"\",\"\",'様式C_統括管理・責任医師'!N180)","v":""}]
[null,null,null,null,null,"申告者と生計を同じにする配偶者及びその一親等の親族",{"$f":"IF('様式C_統括管理・責任医師'!G182=\"\",\"\",'様式C_統括管理・責任医師'!G182)","v":""},{"$f":"IF(G139=\"いいえ\",\"-\",IF('様式C_統括管理・責任医師'!I182=\"はい\",\"株式保有\",\"株式保有なし\"))","v":"株式保有なし"},{"$f":"IF('様式C_統括管理・責任医師'!J182=\"\",\"\",'様式C_統括管理・責任医師'!J182)","v":""},{"$f":"IF(I139=\"いいえ\",\"-\",IF('様式C_統括管理・責任医師'!L182=\"はい\",\"株式保有\",\"株式保有なし\"))","v":"株式保有なし"},{"$f":"IF('様式C_統括管理・責任医師'!M182=\"\",\"\",'様式C_統括管理・責任医師'!M182)","v":""},null,null,{"$f":"IF('様式C_統括管理・責任医師'!N182=\"\",\"\",'様式C_統括管理・責任医師'!N182)","v":""}]
[null,null,"Q6.その他、対象薬剤製薬企業等の関与があるか？",null,null,"本人",{"$f":"IF('様式C_統括管理・責任医師'!G184=\"\",\"\",'様式C_統括管理・責任医師'!G184)","v":""},{"$f":"IF(G140=\"いいえ\",\"-\",IF('様式C_統括管理・責任医師'!I184=\"はい\",\"知的財産への関与有り\",\"知的財産への関与なし\"))","v":"知的財産への関与なし"},{"$f":"IF('様式C_統括管理・責任医師'!J184=\"\",\"\",'様式C_統括管理・責任医師'!J184)","v":""},{"$f":"IF(I140=\"いいえ\",\"-\",IF('様式C_統括管理・責任医師'!L184=\"はい\",\"知的財産への関与有り\",\"知的財産への関与なし\"))","v":"知的財産への関与なし"},{"$f":"IF('様式C_統括管理・責任医師'!M184=\"\",\"\",'様式C_統括管理・責任医師'!M184)","v":""},null,null,{"$f":"IF('様式C_統括管理・責任医師'!N184=\"\",\"\",'様式C_統括管理・責任医師'!N184)","v":""}]
[null,null,null,null,null,"申告者と生計を同じにする配偶者及びその一親等の親族",{"$f":"IF('様式C_統括管理・責任医師'!G186=\"\",\"\",'様式C_統括管理・責任医師'!G186)","v":""},{"$f":"IF(G141=\"いいえ\",\"-\",IF('様式C_統括管理・責任医師'!I186=\"はい\",\"知的財産への関与有り\",\"知的財産への関与なし\"))","v":"知的財産への関与なし"},{"$f":"IF('様式C_統括管理・責任医師'!J186=\"\",\"\",'様式C_統括管理・責任医師'!J186)","v":""},{"$f":"IF(I141=\"いいえ\",\"-\",IF('様式C_統括管理・責任医師'!L186=\"はい\",\"知的財産への関与有り\",\"知的財産への関与なし\"))","v":"知的財産への関与なし"},{"$f":"IF('様式C_統括管理・責任医師'!M186=\"\",\"\",'様式C_統括管理・責任医師'!M186)","v":""},null,null,{"$f":"IF('様式C_統括管理・責任医師'!N186=\"\",\"\",'様式C_統括管理・責任医師'!N186)","v":""}]

{"sheet":"様式D_研究分担医師等","index":5,"n_rows":134,"n_cols":17,"rows_kept":134,"cut":false,"hidden":false,"merged":[[62,2,63,4],[64,2,65,4],[66,2,67,4],[68,2,69,4],[73,2,75,5],[76,2,76,4],[77,2,77,4],[78,2,79,4],[80,2,81,4],[82,2,83,4],[84,2,85,4],[89,2,91,5],[92,2,92,4],[93,2,93,4],[98,2,99,4],[100,2,101,4],[105,2,107,5],[108,2,108,4],[109,2,109,4],[110,2,111,4],[112,2,113,4],[130,2,131,4],[132,2,133,4],[114,2,115,4],[116,2,117,4],[121,2,123,5],[124,2,124,4],[125,2,125,4],[126,2,127,4],[128,2,129,4],[57,2,59,5],[60,2,60,4],[60,10,60,12],[61,2,61,4],[61,10,61,12],[62,10,62,12],[63,10,63,12],[64,10,64,12],[65,10,65,12],[66,10,66,12],[67,10,67,12],[68,10,68,12],[69,10,69,12],[71,6,71,16],[74,7,75,7],[74,8,75,8],[73,6,73,7],[73,8,73,9],[73,14,75,14],[73,15,75,15],[73,16,75,16],[74,6,75,6],[74,9,75,9],[73,10,75,13],[76,10,76,12],[77,10,77,12],[78,10,78,12],[79,10,79,12],[80,10,80,12],[81,10,81,12],[94,2,95,4],[96,2,97,4],[92,10,92,12],[93,10,93,12],[94,10,94,12],[95,10,95,12],[96,10,96,12],[97,10,97,12],[98,10,98,12],[121,6,121,7],[122,6,123,6],[122,7,123,7],[115,10,115,12],[116,10,116,12],[117,10,117,12],[119,6,119,16],[121,8,121,9],[121,10,123,13],[121,16,123,16],[105,14,107,14],[105,15,107,15],[105,6,105,7],[106,6,107,6],[106,7,107,7],[106,8,107,8],[106,9,107,9],[99,10,99,12],[100,10,100,12],[101,10,101,12],[103,6,103,16],[105,8,105,9],[105,10,107,13],[105,16,107,16],[108,10,108,12],[109,10,109,12],[110,10,110,12],[111,10,111,12],[112,10,112,12],[113,10,113,12],[114,10,114,12],[121,14,123,14],[121,15,123,15],[129,10,129,12],[130,10,130,12],[131,10,131,12],[132,10,132,12],[133,10,133,12],[122,8,123,8],[122,9,123,9],[124,10,124,12],[125,10,125,12],[126,10,126,12],[127,10,127,12],[128,10,128,12],[17,6,17,10],[17,11,17,16],[18,6,18,10],[18,11,18,16],[19,6,19,10],[19,11,19,16],[20,6,20,10],[20,11,20,16],[23,6,23,16],[25,8,25,9],[25,10,27,13],[25,14,27,14],[25,15,27,15],[25,16,27,16],[35,10,35,12],[36,10,36,12],[28,10,28,12],[29,10,29,12],[30,10,30,12],[31,10,31,12],[32,10,32,12],[33,10,33,12],[34,10,34,12],[41,6,41,7],[42,6,43,6],[42,7,43,7],[42,8,43,8],[42,9,43,9],[26,8,27,8],[26,9,27,9],[37,10,37,12],[39,6,39,16],[41,8,41,9],[41,10,43,13],[41,16,43,16],[49,10,49,12],[50,10,50,12],[41,14,43,14],[41,15,43,15],[44,10,44,12],[45,10,45,12],[46,10,46,12],[47,10,47,12],[48,10,48,12],[58,6,59,6],[58,7,59,7],[58,8,59,8],[58,9,59,9],[55,6,55,16],[57,6,57,7],[57,8,57,9],[57,10,59,13],[57,14,59,14],[57,15,59,15],[57,16,59,16],[0,5,0,11],[2,2,3,16],[4,2,5,2],[4,3,5,7],[4,12,4,13],[4,14,4,16],[5,14,5,16],[5,12,5,13],[6,12,6,13],[6,14,6,16],[7,13,8,16],[8,3,8,4],[9,6,11,11],[9,12,11,16],[12,6,12,8],[14,6,14,10],[14,11,14,16],[15,6,15,10],[15,11,15,16],[16,6,16,10],[16,11,16,16],[25,6,25,7],[26,6,27,6],[26,7,27,7],[9,3,9,4],[10,3,10,4],[14,2,20,4],[22,2,22,4],[25,2,27,5],[28,2,28,4],[29,2,29,4],[46,2,47,4],[48,2,49,4],[50,2,51,4],[51,10,51,12],[52,2,53,4],[52,10,52,12],[53,10,53,12],[30,2,31,4],[32,2,33,4],[34,2,35,4],[36,2,37,4],[41,2,43,5],[44,2,44,4],[45,2,45,4],[89,10,91,13],[89,14,91,14],[89,15,91,15],[89,16,91,16],[90,6,91,6],[90,7,91,7],[90,8,91,8],[90,9,91,9],[82,10,82,12],[83,10,83,12],[84,10,84,12],[85,10,85,12],[87,6,87,16],[89,6,89,7],[89,8,89,9]]}
[null,null,null,null,null,"様式D＜研究分担医師等用＞　利益相反状況確認報告書",null,null,null,null,null,null,null,null,null,null,"ver1.0"]
[null,null,"研究責任医師殿"]
[null,null,"本研究課題の対象薬剤製薬企業等との関係について、事実確認の結果等を報告します。"]
[]
[null,null,"研究課題：",{"$f":"IF('様式A'!B10=\"\",\"\",'様式A'!B10)","v":""},null,null,null,null,null,null,null,null,"日　　付"]
[null,null,null,null,null,null,null,null,null,null,null,null,"実施医療機関名 あるいは 所属機関名"]
[null,null,null,null,null,null,null,null,null,null,null,null,"実施医療機関の長の氏名 あるいは \n所属機関の長の氏名"]
[null,null,"被確認者：",null,null,null,null,null,null,null,null,null,null," 例：研究責任医師が実施機関の管理者のため、他の者が確認を行った"]
[null,null,"所属機関",{"$f":"IF('様式C_研究分担医師等'!M6=\"\",\"\",'様式C_研究分担医師等'!M6)","v":""},null,null,"【特記事項(任意)】（様式Cより）",null,null,null,null,null,"【特記事項(任意)】"]
[null,null,"立  　場",{"$f":"IF('様式C_研究分担医師等'!M7=\"\",\"\",'様式C_研究分担医師等'!M7)","v":""},null,null,{"$f":"IF('様式C_研究分担医師等'!K10=\"\",\"\",'様式C_研究分担医師等'!K10)","v":""}]
[null,null,"氏　　名",{"$f":"IF('様式C_研究分担医師等'!M8=\"\",\"\",'様式C_研究分担医師等'!M8)","v":""}]
[]
[]
[null,null,"1. 本研究の対象薬剤製薬企業等について"]
[null,null,"本研究に用いる医薬品等を製造販売し、若しくはしようとする医薬品等製造販売業者又はその特殊関係者（対象薬品製薬企業等）の名称",null,null,"①",{"$f":"IF('様式C_研究分担医師等'!G12=\"\",\"\",'様式C_研究分担医師等'!G12)","v":""},null,null,null,null,{"$f":"IF('様式C_研究分担医師等'!J12=\"\",\"\",'様式C_研究分担医師等'!J12)","v":""}]
[null,null,null,null,null,"②",{"$f":"IF('様式C_研究分担医師等'!G13=\"\",\"\",'様式C_研究分担医師等'!G13)","v":""},null,null,null,null,{"$f":"IF('様式C_研究分担医師等'!J13=\"\",\"\",'様式C_研究分担医師等'!J13)","v":""}]
[null,null,null,null,null,"③",{"$f":"IF('様式C_研究分担医師等'!G14=\"\",\"\",'様式C_研究分担医師等'!G14)","v":""},null,null,null,null,{"$f":"IF('様式C_研究分担医師等'!J14=\"\",\"\",'様式C_研究分担医師等'!J14)","v":""}]
[null,null,null,null,null,"④",{"$f":"IF('様式C_研究分担医師等'!G15=\"\",\"\",'様式C_研究分担医師等'!G15)","v":""},null,null,null,null,{"$f":"IF('様式C_研究分担医師等'!J15=\"\",\"\",'様式C_研究分担医師等'!J15)","v":""}]
[null,null,null,null,null,"⑤",{"$f":"IF('様式C_研究分担医師等'!G16=\"\",\"\",'様式C_研究分担医師等'!G16)","v":""},null,null,null,null,{"$f":"IF('様式C_研究分担医師等'!J16=\"\",\"\",'様式C_研究分担医師等'!J16)","v":""}]
[null,null,null,null,null,"⑥",{"$f":"IF('様式C_研究分担医師等'!G17=\"\",\"\",'様式C_研究分担医師等'!G17)","v":""},null,null,null,null,{"$f":"IF('様式C_研究分担医師等'!J17=\"\",\"\",'様式C_研究分担医師等'!J17)","v":""}]
[null,null,null,null,null,"⑦",{"$f":"IF('様式C_研究分担医師等'!G18=\"\",\"\",'様式C_研究分担医師等'!G18)","v":""},null,null,null,null,{"$f":"IF('様式C_研究分担医師等'!J18=\"\",\"\",'様式C_研究分担医師等'!J18)","v":""}]
[]
[null,null,"2. 本研究の対象薬剤製薬企業等との利益相反報告"]
[null,null,null,null,"本研究の対象薬剤製薬企業等の名：","①",{"$f":"IF(G15=\"\",\"\",G15)","v":""}]
[]
[null,null,"COI状況の有無",null,null,null,"前年度",null,"今年度",null,"COI管理計画",null,null,null,"COIについての事実確認","COI管理計画の確認状況","COI管理に対する助言・勧告の内容\n(該当ある場合(自由記載))"]
[null,null,null,null,null,null,"有無","詳細","有無","詳細"]
[]
[null,null,"Q１．対象薬剤製薬企業等からの寄附金の総額が、年間合計200万円を超えているか？",null,null,"本人",{"$f":"IF('様式C_研究分担医師等'!G26=\"\",\"\",'様式C_研究分担医師等'!G26)","v":""},null,{"$f":"IF('様式C_研究分担医師等'!J26=\"\",\"\",'様式C_研究分担医師等'!J26)","v":""},null,{"$f":"IF('様式C_研究分担医師等'!M26=\"\",\"\",'様式C_研究分担医師等'!M26)","v":""},null,null,{"$f":"IF('様式C_研究分担医師等'!N26=\"\",\"\",'様式C_研究分担医師等'!N26)","v":""}]
[null,null,"Q２.　対象薬剤製薬企業等が提供する寄附講座に所属しているか？",null,null,"本人",{"$f":"IF('様式C_研究分担医師等'!G27=\"\",\"\",'様式C_研究分担医師等'!G27)","v":""},{"$f":"IF('様式C_研究分担医師等'!I28=\"有\",\"給与あり\",IF('様式C_研究分担医師等'!I28=\"無\",\"給与なし\",\"-\"))","v":"-"},{"$f":"IF('様式C_研究分担医師等'!J27=\"\",\"\",'様式C_研究分担医師等'!J27)","v":""},{"$f":"IF('様式C_研究分担医師等'!L28=\"有\",\"給与あり\",IF('様式C_研究分担医師等'!L28=\"無\",\"給与なし\",\"-\"))","v":"-"},{"$f":"IF('様式C_研究分担医師等'!M27=\"\",\"\",'様式C_研究分担医師等'!M27)","v":""},null,null,{"$f":"IF('様式C_研究分担医師等'!N27=\"\",\"\",'様式C_研究分担医師等'!N27)","v":""}]
[null,null,"Q3．対象薬剤製薬企業等からの年間合計100万円以上の個人的利益があるか？\n　\n・　個人的利益とは、給与・講演・原稿執筆・コンサルティング・知的所有権・贈答・接遇等による収入をいう。",null,null,"本人",{"$f":"IF('様式C_研究分担医師等'!G29=\"\",\"\",'様式C_研究分担医師等'!G29)","v":""},{"$f":"IF(G31=\"いいえ\",\"-\",IF('様式C_研究分担医師等'!I30>=2500000,\"250万円以上の利益あり\",\"-\"))","v":"-"},{"$f":"IF('様式C_研究分担医師等'!J29=\"\",\"\",'様式C_研究分担医師等'!J29)","v":""},{"$f":"IF(I31=\"いいえ\",\"-\",IF('様式C_研究分担医師等'!L30>=2500000,\"250万円以上の利益あり\",\"-\"))","v":"-"},{"$f":"IF('様式C_研究分担医師等'!M29=\"\",\"\",'様式C_研究分担医師等'!M29)","v":""},null,null,{"$f":"IF('様式C_研究分担医師等'!N29=\"\",\"\",'様式C_研究分担医師等'!N29)","v":""}]
[null,null,null,null,null,"申告者と生計を同じにする配偶者及びその一親等の親族",{"$f":"IF('様式C_研究分担医師等'!G31=\"\",\"\",'様式C_研究分担医師等'!G31)","v":""},{"$f":"IF(G32=\"いいえ\",\"-\",IF('様式C_研究分担医師等'!I32>=2500000,\"250万円以上の利益あり\",\"-\"))","v":"-"},{"$f":"IF('様式C_研究分担医師等'!J31=\"\",\"\",'様式C_研究分担医師等'!J31)","v":""},{"$f":"IF(I32=\"いいえ\",\"-\",IF('様式C_研究分担医師等'!L32>=2500000,\"250万円以上の利益あり\",\"-\"))","v":"-"},{"$f":"IF('様式C_研究分担医師等'!M31=\"\",\"\",'様式C_研究分担医師等'!M31)","v":""},null,null,{"$f":"IF('様式C_研究分担医師等'!N31=\"\",\"\",'様式C_研究分担医師等'!N31)","v":""}]
[null,null,"Q4．対象薬剤製薬企業等の役員に就任しているか？\n\n・　役員とは、株式会社の代表取締役・取締役、合同会社の代表者等代表権限を有する者、監査役をいう。",null,null,"本人",{"$f":"IF('様式C_研究分担医師等'!G33=\"\",\"\",'様式C_研究分担医師等'!G33)","v":""},null,{"$f":"IF('様式C_研究分担医師等'!J33=\"\",\"\",'様式C_研究分担医師等'!J33)","v":""},null,{"$f":"IF('様式C_研究分担医師等'!M33=\"\",\"\",'様式C_研究分担医師等'!M33)","v":""},null,null,{"$f":"IF('様式C_研究分担医師等'!N33=\"\",\"\",'様式C_研究分担医師等'!N33)","v":""}]
[null,null,null,null,null,"申告者と生計を同じにする配偶者及びその一親等の親族",{"$f":"IF('様式C_研究分担医師等'!G34=\"\",\"\",'様式C_研究分担医師等'!G34)","v":""},null,{"$f":"IF('様式C_研究分担医師等'!J34=\"\",\"\",'様式C_研究分担医師等'!J34)","v":""},null,{"$f":"IF('様式C_研究分担医師等'!M34=\"\",\"\",'様式C_研究分担医師等'!M34)","v":""},null,null,{"$f":"IF('様式C_研究分担医師等'!N34=\"\",\"\",'様式C_研究分担医師等'!N34)","v":""}]
[null,null,"Q5.対象薬剤製薬企業等の株式を保有しているか？対象薬剤製薬企業等に出資を行っているか？\n\n・株式の保有については、公開株式については５％以上、未公開株式は1株以上、新株予約権は１個以上をいう。これに該当しない場合は、「なし」とすること。",null,null,"本人",{"$f":"IF('様式C_研究分担医師等'!G35=\"\",\"\",'様式C_研究分担医師等'!G35)","v":""},{"$f":"IF(G35=\"いいえ\",\"-\",IF('様式C_研究分担医師等'!I35=\"はい\",\"株式保有\",\"株式保有なし\"))","v":"株式保有なし"},{"$f":"IF('様式C_研究分担医師等'!J35=\"\",\"\",'様式C_研究分担医師等'!J35)","v":""},{"$f":"IF(I35=\"いいえ\",\"-\",IF('様式C_研究分担医師等'!L35=\"はい\",\"株式保有\",\"株式保有なし\"))","v":"株式保有なし"},{"$f":"IF('様式C_研究分担医師等'!M35=\"\",\"\",'様式C_研究分担医師等'!M35)","v":""},null,null,{"$f":"IF('様式C_研究分担医師等'!N35=\"\",\"\",'様式C_研究分担医師等'!N35)","v":""}]
[null,null,null,null,null,"申告者と生計を同じにする配偶者及びその一親等の親族",{"$f":"IF('様式C_研究分担医師等'!G37=\"\",\"\",'様式C_研究分担医師等'!G37)","v":""},{"$f":"IF(G36=\"いいえ\",\"-\",IF('様式C_研究分担医師等'!I37=\"はい\",\"株式保有\",\"株式保有なし\"))","v":"株式保有なし"},{"$f":"IF('様式C_研究分担医師等'!J37=\"\",\"\",'様式C_研究分担医師等'!J37)","v":""},{"$f":"IF(I36=\"いいえ\",\"-\",IF('様式C_研究分担医師等'!L37=\"はい\",\"株式保有\",\"株式保有なし\"))","v":"株式保有なし"},{"$f":"IF('様式C_研究分担医師等'!M37=\"\",\"\",'様式C_研究分担医師等'!M37)","v":""},null,null,{"$f":"IF('様式C_研究分担医師等'!N37=\"\",\"\",'様式C_研究分担医師等'!N37)","v":""}]
[null,null,"Q6.その他、対象薬剤製薬企業等の関与があるか？",null,null,"本人",{"$f":"IF('様式C_研究分担医師等'!G39=\"\",\"\",'様式C_研究分担医師等'!G39)","v":""},{"$f":"IF(G37=\"いいえ\",\"-\",IF('様式C_研究分担医師等'!I39=\"はい\",\"知的財産への関与有り\",\"知的財産への関与なし\"))","v":"知的財産への関与なし"},{"$f":"IF('様式C_研究分担医師等'!J39=\"\",\"\",'様式C_研究分担医師等'!J39)","v":""},{"$f":"IF(I37=\"いいえ\",\"-\",IF('様式C_研究分担医師等'!L39=\"はい\",\"知的財産への関与有り\",\"知的財産への関与なし\"))","v":"知的財産への関与なし"},{"$f":"IF('様式C_研究分担医師等'!M39=\"\",\"\",'様式C_研究分担医師等'!M39)","v":""},null,null,{"$f":"IF('様式C_研究分担医師等'!N39=\"\",\"\",'様式C_研究分担医師等'!N39)","v":""}]
[null,null,null,null,null,"申告者と生計を同じにする配偶者及びその一親等の親族",{"$f":"IF('様式C_研究分担医師等'!G41=\"\",\"\",'様式C_研究分担医師等'!G41)","v":""},{"$f":"IF(G38=\"いいえ\",\"-\",IF('様式C_研究分担医師等'!I41=\"はい\",\"知的財産への関与有り\",\"知的財産への関与なし\"))","v":"知的財産への関与なし"},{"$f":"IF('様式C_研究分担医師等'!J41=\"\",\"\",'様式C_研究分担医師等'!J41)","v":""},{"$f":"IF(I38=\"いいえ\",\"-\",IF('様式C_研究分担医師等'!L41=\"はい\",\"知的財産への関与有り\",\"知的財産への関与なし\"))","v":"知的財産への関与なし"},{"$f":"IF('様式C_研究分担医師等'!M41=\"\",\"\",'様式C_研究分担医師等'!M41)","v":""},null,null,{"$f":"IF('様式C_研究分担医師等'!N41=\"\",\"\",'様式C_研究分担医師等'!N41)","v":""}]
[]
[null,null,null,null,"本研究の対象薬剤製薬企業等の名：","②",{"$f":"IF(G16=\"\",\"\",G16)","v":""}]
[]
[null,null,"COI状況の有無",null,null,null,"前年度",null,"今年度",null,"COI管理計画",null,null,null,"COIについての事実確認","COI管理計画の確認状況","COI管理に対する助言・勧告の内容\n(該当ある場合(自由記載))"]
[null,null,null,null,null,null,"有無","詳細","有無","詳細"]
[]
[null,null,"Q１．対象薬剤製薬企業等からの寄附金の総額が、年間合計200万円を超えているか？",null,null,"本人",{"$f":"IF('様式C_研究分担医師等'!G49=\"\",\"\",'様式C_研究分担医師等'!G49)","v":""},null,{"$f":"IF('様式C_研究分担医師等'!J49=\"\",\"\",'様式C_研究分担医師等'!J49)","v":""},null,{"$f":"IF('様式C_研究分担医師等'!M49=\"\",\"\",'様式C_研究分担医師等'!M49)","v":""},null,null,{"$f":"IF('様式C_研究分担医師等'!N49=\"\",\"\",'様式C_研究分担医師等'!N49)","v":""}]
[null,null,"Q２.　対象薬剤製薬企業等が提供する寄附講座に所属しているか？",null,null,"本人",{"$f":"IF('様式C_研究分担医師等'!G50=\"\",\"\",'様式C_研究分担医師等'!G50)","v":""},{"$f":"IF('様式C_研究分担医師等'!I51=\"有\",\"給与あり\",IF('様式C_研究分担医師等'!I51=\"無\",\"給与なし\",\"-\"))","v":"-"},{"$f":"IF('様式C_研究分担医師等'!J50=\"\",\"\",'様式C_研究分担医師等'!J50)","v":""},{"$f":"IF('様式C_研究分担医師等'!L51=\"有\",\"給与あり\",IF('様式C_研究分担医師等'!L51=\"無\",\"給与なし\",\"-\"))","v":"-"},{"$f":"IF('様式C_研究分担医師等'!M50=\"\",\"\",'様式C_研究分担医師等'!M50)","v":""},null,null,{"$f":"IF('様式C_研究分担医師等'!N50=\"\",\"\",'様式C_研究分担医師等'!N50)","v":""}]
[null,null,"Q3．対象薬剤製薬企業等からの年間合計100万円以上の個人的利益があるか？\n　\n・　個人的利益とは、給与・講演・原稿執筆・コンサルティング・知的所有権・贈答・接遇等による収入をいう。",null,null,"本人",{"$f":"IF('様式C_研究分担医師等'!G52=\"\",\"\",'様式C_研究分担医師等'!G52)","v":""},{"$f":"IF(G47=\"いいえ\",\"-\",IF('様式C_研究分担医師等'!I53>=2500000,\"250万円以上の利益あり\",\"-\"))","v":"-"},{"$f":"IF('様式C_研究分担医師等'!J52=\"\",\"\",'様式C_研究分担医師等'!J52)","v":""},{"$f":"IF(I47=\"いいえ\",\"-\",IF('様式C_研究分担医師等'!L53>=2500000,\"250万円以上の利益あり\",\"-\"))","v":"-"},{"$f":"IF('様式C_研究分担医師等'!M52=\"\",\"\",'様式C_研究分担医師等'!M52)","v":""},null,null,{"$f":"IF('様式C_研究分担医師等'!N52=\"\",\"\",'様式C_研究分担医師等'!N52)","v":""}]
[null,null,null,null,null,"申告者と生計を同じにする配偶者及びその一親等の親族",{"$f":"IF('様式C_研究分担医師等'!G54=\"\",\"\",'様式C_研究分担医師等'!G54)","v":""},{"$f":"IF(G55=\"いいえ\",\"-\",IF('様式C_研究分担医師等'!I55>=2500000,\"250万円以上の利益あり\",\"-\"))","v":"-"},{"$f":"IF('様式C_研究分担医師等'!J54=\"\",\"\",'様式C_研究分担医師等'!J54)","v":""},{"$f":"IF(I55=\"いいえ\",\"-\",IF('様式C_研究分担医師等'!L55>=2500000,\"250万円以上の利益あり\",\"-\"))","v":"-"},{"$f":"IF('様式C_研究分担医師等'!M54=\"\",\"\",'様式C_研究分担医師等'!M54)","v":""},null,null,{"$f":"IF('様式C_研究分担医師等'!N54=\"\",\"\",'様式C_研究分担医師等'!N54)","v":""}]
[null,null,"Q4．対象薬剤製薬企業等の役員に就任しているか？\n\n・　役員とは、株式会社の代表取締役・取締役、合同会社の代表者等代表権限を有する者、監査役をいう。",null,null,"本人",{"$f":"IF('様式C_研究分担医師等'!G56=\"\",\"\",'様式C_研究分担医師等'!G56)","v":""},null,{"$f":"IF('様式C_研究分担医師等'!J56=\"\",\"\",'様式C_研究分担医師等'!J56)","v":""},null,{"$f":"IF('様式C_研究分担医師等'!M56=\"\",\"\",'様式C_研究分担医師等'!M56)","v":""},null,null,{"$f":"IF('様式C_研究分担医師等'!N56=\"\",\"\",'様式C_研究分担医師等'!N56)","v":""}]
[null,null,null,null,null,"申告者と生計を同じにする配偶者及びその一親等の親族",{"$f":"IF('様式C_研究分担医師等'!G57=\"\",\"\",'様式C_研究分担医師等'!G57)","v":""},null,{"$f":"IF('様式C_研究分担医師等'!J57=\"\",\"\",'様式C_研究分担医師等'!J57)","v":""},null,{"$f":"IF('様式C_研究分担医師等'!M57=\"\",\"\",'様式C_研究分担医師等'!M57)","v":""},null,null,{"$f":"IF('様式C_研究分担医師等'!N57=\"\",\"\",'様式C_研究分担医師等'!N57)","v":""}]
[null,null,"Q5.対象薬剤製薬企業等の株式を保有しているか？対象薬剤製薬企業等に出資を行っているか？\n\n・株式の保有については、公開株式については５％以上、未公開株式は1株以上、新株予約権は１個以上をいう。これに該当しない場合は、「なし」とすること。",null,null,"本人",{"$f":"IF('様式C_研究分担医師等'!G58=\"\",\"\",'様式C_研究分担医師等'!G58)","v":""},{"$f":"IF(G51=\"いいえ\",\"-\",IF('様式C_研究分担医師等'!I58=\"はい\",\"株式保有\",\"株式保有なし\"))","v":"株式保有なし"},{"$f":"IF('様式C_研究分担医師等'!J58=\"\",\"\",'様式C_研究分担医師等'!J58)","v":""},{"$f":"IF(I51=\"いいえ\",\"-\",IF('様式C_研究分担医師等'!L58=\"はい\",\"株式保有\",\"株式保有なし\"))","v":"株式保有なし"},{"$f":"IF('様式C_研究分担医師等'!M58=\"\",\"\",'様式C_研究分担医師等'!M58)","v":""},null,null,{"$f":"IF('様式C_研究分担医師等'!N58=\"\",\"\",'様式C_研究分担医師等'!N58)","v":""}]
[null,null,null,null,null,"申告者と生計を同じにする配偶者及びその一親等の親族",{"$f":"IF('様式C_研究分担医師等'!G60=\"\",\"\",'様式C_研究分担医師等'!G60)","v":""},{"$f":"IF(G52=\"いいえ\",\"-\",IF('様式C_研究分担医師等'!I60=\"はい\",\"株式保有\",\"株式保有なし\"))","v":"株式保有なし"},{"$f":"IF('様式C_研究分担医師等'!J60=\"\",\"\",'様式C_研究分担医師等'!J60)","v":""},{"$f":"IF(I52=\"いいえ\",\"-\",IF('様式C_研究分担医師等'!L60=\"はい\",\"株式保有\",\"株式保有なし\"))","v":"株式保有なし"},{"$f":"IF('様式C_研究分担医師等'!M60=\"\",\"\",'様式C_研究分担医師等'!M60)","v":""},null,null,{"$f":"IF('様式C_研究分担医師等'!N60=\"\",\"\",'様式C_研究分担医師等'!N60)","v":""}]
[null,null,"Q6.その他、対象薬剤製薬企業等の関与があるか？",null,null,"本人",{"$f":"IF('様式C_研究分担医師等'!G62=\"\",\"\",'様式C_研究分担医師等'!G62)","v":""},{"$f":"IF(G53=\"いいえ\",\"-\",IF('様式C_研究分担医師等'!I62=\"はい\",\"知的財産への関与有り\",\"知的財産への関与なし\"))","v":"知的財産への関与なし"},{"$f":"IF('様式C_研究分担医師等'!J62=\"\",\"\",'様式C_研究分担医師等'!J62)","v":""},{"$f":"IF(I53=\"いいえ\",\"-\",IF('様式C_研究分担医師等'!L62=\"はい\",\"知的財産への関与有り\",\"知的財産への関与なし\"))","v":"知的財産への関与なし"},{"$f":"IF('様式C_研究分担医師等'!M62=\"\",\"\",'様式C_研究分担医師等'!M62)","v":""},null,null,{"$f":"IF('様式C_研究分担医師等'!N62=\"\",\"\",'様式C_研究分担医師等'!N62)","v":""}]
[null,null,null,null,null,"申告者と生計を同じにする配偶者及びその一親等の親族",{"$f":"IF('様式C_研究分担医師等'!G64=\"\",\"\",'様式C_研究分担医師等'!G64)","v":""},{"$f":"IF(G54=\"いいえ\",\"-\",IF('様式C_研究分担医師等'!I64=\"はい\",\"知的財産への関与有り\",\"知的財産への関与なし\"))","v":"知的財産への関与なし"},{"$f":"IF('様式C_研究分担医師等'!J64=\"\",\"\",'様式C_研究分担医師等'!J64)","v":""},{"$f":"IF(I54=\"いいえ\",\"-\",IF('様式C_研究分担医師等'!L64=\"はい\",\"知的財産への関与有り\",\"知的財産への関与なし\"))","v":"知的財産への関与なし"},{"$f":"IF('様式C_研究分担医師等'!M64=\"\",\"\",'様式C_研究分担医師等'!M64)","v":""},null,null,{"$f":"IF('様式C_研究分担医師等'!N64=\"\",\"\",'様式C_研究分担医師等'!N64)","v":""}]
[]
[null,null,null,null,"本研究の対象薬剤製薬企業等の名：","③",{"$f":"IF(G17=\"\",\"\",G17)","v":""}]
[]
[null,null,"COI状況の有無",null,null,null,"前年度",null,"今年度",null,"COI管理計画",null,null,null,"COIについての事実確認","COI管理計画の確認状況","COI管理に対する助言・勧告の内容\n(該当ある場合(自由記載))"]
[null,null,null,null,null,null,"有無","詳細","有無","詳細"]
[]
[null,null,"Q１．対象薬剤製薬企業等からの寄附金の総額が、年間合計200万円を超えているか？",null,null,"本人",{"$f":"IF('様式C_研究分担医師等'!G72=\"\",\"\",'様式C_研究分担医師等'!G72)","v":""},null,{"$f":"IF('様式C_研究分担医師等'!J72=\"\",\"\",'様式C_研究分担医師等'!J72)","v":""},null,{"$f":"IF('様式C_研究分担医師等'!M72=\"\",\"\",'様式C_研究分担医師等'!M72)","v":""},null,null,{"$f":"IF('様式C_研究分担医師等'!N72=\"\",\"\",'様式C_研究分担医師等'!N72)","v":""}]
[null,null,"Q２.　対象薬剤製薬企業等が提供する寄附講座に所属しているか？",null,null,"本人",{"$f":"IF('様式C_研究分担医師等'!G73=\"\",\"\",'様式C_研究分担医師等'!G73)","v":""},{"$f":"IF('様式C_研究分担医師等'!I74=\"有\",\"給与あり\",IF('様式C_研究分担医師等'!I74=\"無\",\"給与なし\",\"-\"))","v":"-"},{"$f":"IF('様式C_研究分担医師等'!J73=\"\",\"\",'様式C_研究分担医師等'!J73)","v":""},{"$f":"IF('様式C_研究分担医師等'!L74=\"有\",\"給与あり\",IF('様式C_研究分担医師等'!L74=\"無\",\"給与なし\",\"-\"))","v":"-"},{"$f":"IF('様式C_研究分担医師等'!M73=\"\",\"\",'様式C_研究分担医師等'!M73)","v":""},null,null,{"$f":"IF('様式C_研究分担医師等'!N73=\"\",\"\",'様式C_研究分担医師等'!N73)","v":""}]
[null,null,"Q3．対象薬剤製薬企業等からの年間合計100万円以上の個人的利益があるか？\n　\n・　個人的利益とは、給与・講演・原稿執筆・コンサルティング・知的所有権・贈答・接遇等による収入をいう。",null,null,"本人",{"$f":"IF('様式C_研究分担医師等'!G75=\"\",\"\",'様式C_研究分担医師等'!G75)","v":""},{"$f":"IF(G63=\"いいえ\",\"-\",IF('様式C_研究分担医師等'!I76>=2500000,\"250万円以上の利益あり\",\"-\"))","v":"-"},{"$f":"IF('様式C_研究分担医師等'!J75=\"\",\"\",'様式C_研究分担医師等'!J75)","v":""},{"$f":"IF(I63=\"いいえ\",\"-\",IF('様式C_研究分担医師等'!L76>=2500000,\"250万円以上の利益あり\",\"-\"))","v":"-"},{"$f":"IF('様式C_研究分担医師等'!M75=\"\",\"\",'様式C_研究分担医師等'!M75)","v":""},null,null,{"$f":"IF('様式C_研究分担医師等'!N75=\"\",\"\",'様式C_研究分担医師等'!N75)","v":""}]
[null,null,null,null,null,"申告者と生計を同じにする配偶者及びその一親等の親族",{"$f":"IF('様式C_研究分担医師等'!G77=\"\",\"\",'様式C_研究分担医師等'!G77)","v":""},{"$f":"IF(G78=\"いいえ\",\"-\",IF('様式C_研究分担医師等'!I78>=2500000,\"250万円以上の利益あり\",\"-\"))","v":"-"},{"$f":"IF('様式C_研究分担医師等'!J77=\"\",\"\",'様式C_研究分担医師等'!J77)","v":""},{"$f":"IF(I78=\"いいえ\",\"-\",IF('様式C_研究分担医師等'!L78>=2500000,\"250万円以上の利益あり\",\"-\"))","v":"-"},{"$f":"IF('様式C_研究分担医師等'!M77=\"\",\"\",'様式C_研究分担医師等'!M77)","v":""},null,null,{"$f":"IF('様式C_研究分担医師等'!N77=\"\",\"\",'様式C_研究分担医師等'!N77)","v":""}]
[null,null,"Q4．対象薬剤製薬企業等の役員に就任しているか？\n\n・　役員とは、株式会社の代表取締役・取締役、合同会社の代表者等代表権限を有する者、監査役をいう。",null,null,"本人",{"$f":"IF('様式C_研究分担医師等'!G79=\"\",\"\",'様式C_研究分担医師等'!G79)","v":""},null,{"$f":"IF('様式C_研究分担医師等'!J79=\"\",\"\",'様式C_研究分担医師等'!J79)","v":""},null,{"$f":"IF('様式C_研究分担医師等'!M79=\"\",\"\",'様式C_研究分担医師等'!M79)","v":""},null,null,{"$f":"IF('様式C_研究分担医師等'!N79=\"\",\"\",'様式C_研究分担医師等'!N79)","v":""}]
[null,null,null,null,null,"申告者と生計を同じにする配偶者及びその一親等の親族",{"$f":"IF('様式C_研究分担医師等'!G80=\"\",\"\",'様式C_研究分担医師等'!G80)","v":""},null,{"$f":"IF('様式C_研究分担医師等'!J80=\"\",\"\",'様式C_研究分担医師等'!J80)","v":""},null,{"$f":"IF('様式C_研究分担医師等'!M80=\"\",\"\",'様式C_研究分担医師等'!M80)","v":""},null,null,{"$f":"IF('様式C_研究分担医師等'!N80=\"\",\"\",'様式C_研究分担医師等'!N80)","v":""}]
[null,null,"Q5.対象薬剤製薬企業等の株式を保有しているか？対象薬剤製薬企業等に出資を行っているか？\n\n・株式の保有については、公開株式については５％以上、未公開株式は1株以上、新株予約権は１個以上をいう。これに該当しない場合は、「なし」とすること。",null,null,"本人",{"$f":"IF('様式C_研究分担医師等'!G81=\"\",\"\",'様式C_研究分担医師等'!G81)","v":""},{"$f":"IF(G67=\"いいえ\",\"-\",IF('様式C_研究分担医師等'!I81=\"はい\",\"株式保有\",\"株式保有なし\"))","v":"株式保有なし"},{"$f":"IF('様式C_研究分担医師等'!J81=\"\",\"\",'様式C_研究分担医師等'!J81)","v":""},{"$f":"IF(I67=\"いいえ\",\"-\",IF('様式C_研究分担医師等'!L81=\"はい\",\"株式保有\",\"株式保有なし\"))","v":"株式保有なし"},{"$f":"IF('様式C_研究分担医師等'!M81=\"\",\"\",'様式C_研究分担医師等'!M81)","v":""},null,null,{"$f":"IF('様式C_研究分担医師等'!N81=\"\",\"\",'様式C_研究分担医師等'!N81)","v":""}]
[null,null,null,null,null,"申告者と生計を同じにする配偶者及びその一親等の親族",{"$f":"IF('様式C_研究分担医師等'!G83=\"\",\"\",'様式C_研究分担医師等'!G83)","v":""},{"$f":"IF(G68=\"いいえ\",\"-\",IF('様式C_研究分担医師等'!I83=\"はい\",\"株式保有\",\"株式保有なし\"))","v":"株式保有なし"},{"$f":"IF('様式C_研究分担医師等'!J83=\"\",\"\",'様式C_研究分担医師等'!J83)","v":""},{"$f":"IF(I68=\"いいえ\",\"-\",IF('様式C_研究分担医師等'!L83=\"はい\",\"株式保有\",\"株式保有なし\"))","v":"株式保有なし"},{"$f":"IF('様式C_研究分担医師等'!M83=\"\",\"\",'様式C_研究分担医師等'!M83)","v":""},null,null,{"$f":"IF('様式C_研究分担医師等'!N83=\"\",\"\",'様式C_研究分担医師等'!N83)","v":""}]
[null,null,"Q6.その他、対象薬剤製薬企業等の関与があるか？",null,null,"本人",{"$f":"IF('様式C_研究分担医師等'!G85=\"\",\"\",'様式C_研究分担医師等'!G85)","v":""},{"$f":"IF(G69=\"いいえ\",\"-\",IF('様式C_研究分担医師等'!I85=\"はい\",\"知的財産への関与有り\",\"知的財産への関与なし\"))","v":"知的財産への関与なし"},{"$f":"IF('様式C_研究分担医師等'!J85=\"\",\"\",'様式C_研究分担医師等'!J85)","v":""},{"$f":"IF(I69=\"いいえ\",\"-\",IF('様式C_研究分担医師等'!L85=\"はい\",\"知的財産への関与有り\",\"知的財産への関与なし\"))","v":"知的財産への関与なし"},{"$f":"IF('様式C_研究分担医師等'!M85=\"\",\"\",'様式C_研究分担医師等'!M85)","v":""},null,null,{"$f":"IF('様式C_研究分担医師等'!N85=\"\",\"\",'様式C_研究分担医師等'!N85)","v":""}]
[null,null,null,null,null,"申告者と生計を同じにする配偶者及びその一親等の親族",{"$f":"IF('様式C_研究分担医師等'!G87=\"\",\"\",'様式C_研究分担医師等'!G87)","v":""},{"$f":"IF(G70=\"いいえ\",\"-\",IF('様式C_研究分担医師等'!I87=\"はい\",\"知的財産への関与有り\",\"知的財産への関与なし\"))","v":"知的財産への関与なし"},{"$f":"IF('様式C_研究分担医師等'!J87=\"\",\"\",'様式C_研究分担医師等'!J87)","v":""},{"$f":"IF(I70=\"いいえ\",\"-\",IF('様式C_研究分担医師等'!L87=\"はい\",\"知的財産への関与有り\",\"知的財産への関与なし\"))","v":"知的財産への関与なし"},{"$f":"IF('様式C_研究分担医師等'!M87=\"\",\"\",'様式C_研究分担医師等'!M87)","v":""},null,null,{"$f":"IF('様式C_研究分担医師等'!N87=\"\",\"\",'様式C_研究分担医師等'!N87)","v":""}]
[]
[null,null,null,null,"本研究の対象薬剤製薬企業等の名：","④",{"$f":"IF(G18=\"\",\"\",G18)","v":""}]
[]
[null,null,"COI状況の有無",null,null,null,"前年度",null,"今年度",null,"COI管理計画",null,null,null,"COIについての事実確認","COI管理計画の確認状況","COI管理に対する助言・勧告の内容\n(該当ある場合(自由記載))"]
[null,null,null,null,null,null,"有無","詳細","有無","詳細"]
[]
[null,null,"Q１．対象薬剤製薬企業等からの寄附金の総額が、年間合計200万円を超えているか？",null,null,"本人",{"$f":"IF('様式C_研究分担医師等'!G95=\"\",\"\",'様式C_研究分担医師等'!G95)","v":""},null,{"$f":"IF('様式C_研究分担医師等'!J95=\"\",\"\",'様式C_研究分担医師等'!J95)","v":""},null,{"$f":"IF('様式C_研究分担医師等'!M95=\"\",\"\",'様式C_研究分担医師等'!M95)","v":""},null,null,{"$f":"IF('様式C_研究分担医師等'!N95=\"\",\"\",'様式C_研究分担医師等'!N95)","v":""}]
[null,null,"Q２.　対象薬剤製薬企業等が提供する寄附講座に所属しているか？",null,null,"本人",{"$f":"IF('様式C_研究分担医師等'!G96=\"\",\"\",'様式C_研究分担医師等'!G96)","v":""},{"$f":"IF('様式C_研究分担医師等'!I97=\"有\",\"給与あり\",IF('様式C_研究分担医師等'!I97=\"無\",\"給与なし\",\"-\"))","v":"-"},{"$f":"IF('様式C_研究分担医師等'!J96=\"\",\"\",'様式C_研究分担医師等'!J96)","v":""},{"$f":"IF('様式C_研究分担医師等'!L97=\"有\",\"給与あり\",IF('様式C_研究分担医師等'!L97=\"無\",\"給与なし\",\"-\"))","v":"-"},{"$f":"IF('様式C_研究分担医師等'!M96=\"\",\"\",'様式C_研究分担医師等'!M96)","v":""},null,null,{"$f":"IF('様式C_研究分担医師等'!N96=\"\",\"\",'様式C_研究分担医師等'!N96)","v":""}]
[null,null,"Q3．対象薬剤製薬企業等からの年間合計100万円以上の個人的利益があるか？\n　\n・　個人的利益とは、給与・講演・原稿執筆・コンサルティング・知的所有権・贈答・接遇等による収入をいう。",null,null,"本人",{"$f":"IF('様式C_研究分担医師等'!G98=\"\",\"\",'様式C_研究分担医師等'!G98)","v":""},{"$f":"IF(G79=\"いいえ\",\"-\",IF('様式C_研究分担医師等'!I99>=2500000,\"250万円以上の利益あり\",\"-\"))","v":"-"},{"$f":"IF('様式C_研究分担医師等'!J98=\"\",\"\",'様式C_研究分担医師等'!J98)","v":""},{"$f":"IF(I79=\"いいえ\",\"-\",IF('様式C_研究分担医師等'!L99>=2500000,\"250万円以上の利益あり\",\"-\"))","v":"-"},{"$f":"IF('様式C_研究分担医師等'!M98=\"\",\"\",'様式C_研究分担医師等'!M98)","v":""},null,null,{"$f":"IF('様式C_研究分担医師等'!N98=\"\",\"\",'様式C_研究分担医師等'!N98)","v":""}]
[null,null,null,null,null,"申告者と生計を同じにする配偶者及びその一親等の親族",{"$f":"IF('様式C_研究分担医師等'!G100=\"\",\"\",'様式C_研究分担医師等'!G100)","v":""},{"$f":"IF(G101=\"いいえ\",\"-\",IF('様式C_研究分担医師等'!I101>=2500000,\"250万円以上の利益あり\",\"-\"))","v":"-"},{"$f":"IF('様式C_研究分担医師等'!J100=\"\",\"\",'様式C_研究分担医師等'!J100)","v":""},{"$f":"IF(I101=\"いいえ\",\"-\",IF('様式C_研究分担医師等'!L101>=2500000,\"250万円以上の利益あり\",\"-\"))","v":"-"},{"$f":"IF('様式C_研究分担医師等'!M100=\"\",\"\",'様式C_研究分担医師等'!M100)","v":""},null,null,{"$f":"IF('様式C_研究分担医師等'!N100=\"\",\"\",'様式C_研究分担医師等'!N100)","v":""}]
[null,null,"Q4．対象薬剤製薬企業等の役員に就任しているか？\n\n・　役員とは、株式会社の代表取締役・取締役、合同会社の代表者等代表権限を有する者、監査役をいう。",null,null,"本人",{"$f":"IF('様式C_研究分担医師等'!G102=\"\",\"\",'様式C_研究分担医師等'!G102)","v":""},null,{"$f":"IF('様式C_研究分担医師等'!J102=\"\",\"\",'様式C_研究分担医師等'!J102)","v":""},null,{"$f":"IF('様式C_研究分担医師等'!M102=\"\",\"\",'様式C_研究分担医師等'!M102)","v":""},null,null,{"$f":"IF('様式C_研究分担医師等'!N102=\"\",\"\",'様式C_研究分担医師等'!N102)","v":""}]
[null,null,null,null,null,"申告者と生計を同じにする配偶者及びその一親等の親族",{"$f":"IF('様式C_研究分担医師等'!G103=\"\",\"\",'様式C_研究分担医師等'!G103)","v":""},null,{"$f":"IF('様式C_研究分担医師等'!J103=\"\",\"\",'様式C_研究分担医師等'!J103)","v":""},null,{"$f":"IF('様式C_研究分担医師等'!M103=\"\",\"\",'様式C_研究分担医師等'!M103)","v":""},null,null,{"$f":"IF('様式C_研究分担医師等'!N103=\"\",\"\",'様式C_研究分担医師等'!N103)","v":""}]
[null,null,"Q5.対象薬剤製薬企業等の株式を保有しているか？対象薬剤製薬企業等に出資を行っているか？\n\n・株式の保有については、公開株式については５％以上、未公開株式は1株以上、新株予約権は１個以上をいう。これに該当しない場合は、「なし」とすること。",null,null,"本人",{"$f":"IF('様式C_研究分担医師等'!G104=\"\",\"\",'様式C_研究分担医師等'!G104)","v":""},{"$f":"IF(G83=\"いいえ\",\"-\",IF('様式C_研究分担医師等'!I104=\"はい\",\"株式保有\",\"株式保有なし\"))","v":"株式保有なし"},{"$f":"IF('様式C_研究分担医師等'!J104=\"\",\"\",'様式C_研究分担医師等'!J104)","v":""},{"$f":"IF(I83=\"いいえ\",\"-\",IF('様式C_研究分担医師等'!L104=\"はい\",\"株式保有\",\"株式保有なし\"))","v":"株式保有なし"},{"$f":"IF('様式C_研究分担医師等'!M104=\"\",\"\",'様式C_研究分担医師等'!M104)","v":""},null,null,{"$f":"IF('様式C_研究分担医師等'!N104=\"\",\"\",'様式C_研究分担医師等'!N104)","v":""}]
[null,null,null,null,null,"申告者と生計を同じにする配偶者及びその一親等の親族",{"$f":"IF('様式C_研究分担医師等'!G106=\"\",\"\",'様式C_研究分担医師等'!G106)","v":""},{"$f":"IF(G84=\"いいえ\",\"-\",IF('様式C_研究分担医師等'!I106=\"はい\",\"株式保有\",\"株式保有なし\"))","v":"株式保有なし"},{"$f":"IF('様式C_研究分担医師等'!J106=\"\",\"\",'様式C_研究分担医師等'!J106)","v":""},{"$f":"IF(I84=\"いいえ\",\"-\",IF('様式C_研究分担医師等'!L106=\"はい\",\"株式保有\",\"株式保有なし\"))","v":"株式保有なし"},{"$f":"IF('様式C_研究分担医師等'!M106=\"\",\"\",'様式C_研究分担医師等'!M106)","v":""},null,null,{"$f":"IF('様式C_研究分担医師等'!N106=\"\",\"\",'様式C_研究分担医師等'!N106)","v":""}]
[null,null,"Q6.その他、対象薬剤製薬企業等の関与があるか？",null,null,"本人",{"$f":"IF('様式C_研究分担医師等'!G108=\"\",\"\",'様式C_研究分担医師等'!G108)","v":""},{"$f":"IF(G85=\"いいえ\",\"-\",IF('様式C_研究分担医師等'!I108=\"はい\",\"知的財産への関与有り\",\"知的財産への関与なし\"))","v":"知的財産への関与なし"},{"$f":"IF('様式C_研究分担医師等'!J108=\"\",\"\",'様式C_研究分担医師等'!J108)","v":""},{"$f":"IF(I85=\"いいえ\",\"-\",IF('様式C_研究分担医師等'!L108=\"はい\",\"知的財産への関与有り\",\"知的財産への関与なし\"))","v":"知的財産への関与なし"},{"$f":"IF('様式C_研究分担医師等'!M108=\"\",\"\",'様式C_研究分担医師等'!M108)","v":""},null,null,{"$f":"IF('様式C_研究分担医師等'!N108=\"\",\"\",'様式C_研究分担医師等'!N108)","v":""}]
[null,null,null,null,null,"申告者と生計を同じにする配偶者及びその一親等の親族",{"$f":"IF('様式C_研究分担医師等'!G110=\"\",\"\",'様式C_研究分担医師等'!G110)","v":""},{"$f":"IF(G86=\"いいえ\",\"-\",IF('様式C_研究分担医師等'!I110=\"はい\",\"知的財産への関与有り\",\"知的財産への関与なし\"))","v":"知的財産への関与なし"},{"$f":"IF('様式C_研究分担医師等'!J110=\"\",\"\",'様式C_研究分担医師等'!J110)","v":""},{"$f":"IF(I86=\"いいえ\",\"-\",IF('様式C_研究分担医師等'!L110=\"はい\",\"知的財産への関与有り\",\"知的財産への関与なし\"))","v":"知的財産への関与なし"},{"$f":"IF('様式C_研究分担医師等'!M110=\"\",\"\",'様式C_研究分担医師等'!M110)","v":""},null,null,{"$f":"IF('様式C_研究分担医師等'!N110=\"\",\"\",'様式C_研究分担医師等'!N110)","v":""}]
[]
[null,null,null,null,"本研究の対象薬剤製薬企業等の名：","⑤",{"$f":"IF(G19=\"\",\"\",G19)","v":""}]
[]
[null,null,"COI状況の有無",null,null,null,"前年度",null,"今年度",null,"COI管理計画",null,null,null,"COIについての事実確認","COI管理計画の確認状況","COI管理に対する助言・勧告の内容\n(該当ある場合(自由記載))"]
[null,null,null,null,null,null,"有無","詳細","有無","詳細"]
[]
[null,null,"Q１．対象薬剤製薬企業等からの寄附金の総額が、年間合計200万円を超えているか？",null,null,"本人",{"$f":"IF('様式C_研究分担医師等'!G118=\"\",\"\",'様式C_研究分担医師等'!G118)","v":""},null,{"$f":"IF('様式C_研究分担医師等'!J118=\"\",\"\",'様式C_研究分担医師等'!J118)","v":""},null,{"$f":"IF('様式C_研究分担医師等'!M118=\"\",\"\",'様式C_研究分担医師等'!M118)","v":""},null,null,{"$f":"IF('様式C_研究分担医師等'!N118=\"\",\"\",'様式C_研究分担医師等'!N118)","v":""}]
[null,null,"Q２.　対象薬剤製薬企業等が提供する寄附講座に所属しているか？",null,null,"本人",{"$f":"IF('様式C_研究分担医師等'!G119=\"\",\"\",'様式C_研究分担医師等'!G119)","v":""},{"$f":"IF('様式C_研究分担医師等'!I120=\"有\",\"給与あり\",IF('様式C_研究分担医師等'!I120=\"無\",\"給与なし\",\"-\"))","v":"-"},{"$f":"IF('様式C_研究分担医師等'!J119=\"\",\"\",'様式C_研究分担医師等'!J119)","v":""},{"$f":"IF('様式C_研究分担医師等'!L120=\"有\",\"給与あり\",IF('様式C_研究分担医師等'!L120=\"無\",\"給与なし\",\"-\"))","v":"-"},{"$f":"IF('様式C_研究分担医師等'!M119=\"\",\"\",'様式C_研究分担医師等'!M119)","v":""},null,null,{"$f":"IF('様式C_研究分担医師等'!N119=\"\",\"\",'様式C_研究分担医師等'!N119)","v":""}]
[null,null,"Q3．対象薬剤製薬企業等からの年間合計100万円以上の個人的利益があるか？\n　\n・　個人的利益とは、給与・講演・原稿執筆・コンサルティング・知的所有権・贈答・接遇等による収入をいう。",null,null,"本人",{"$f":"IF('様式C_研究分担医師等'!G121=\"\",\"\",'様式C_研究分担医師等'!G121)","v":""},{"$f":"IF(G95=\"いいえ\",\"-\",IF('様式C_研究分担医師等'!I122>=2500000,\"250万円以上の利益あり\",\"-\"))","v":"-"},{"$f":"IF('様式C_研究分担医師等'!J121=\"\",\"\",'様式C_研究分担医師等'!J121)","v":""},{"$f":"IF(I95=\"いいえ\",\"-\",IF('様式C_研究分担医師等'!L122>=2500000,\"250万円以上の利益あり\",\"-\"))","v":"-"},{"$f":"IF('様式C_研究分担医師等'!M121=\"\",\"\",'様式C_研究分担医師等'!M121)","v":""},null,null,{"$f":"IF('様式C_研究分担医師等'!N121=\"\",\"\",'様式C_研究分担医師等'!N121)","v":""}]
[null,null,null,null,null,"申告者と生計を同じにする配偶者及びその一親等の親族",{"$f":"IF('様式C_研究分担医師等'!G123=\"\",\"\",'様式C_研究分担医師等'!G123)","v":""},{"$f":"IF(G124=\"いいえ\",\"-\",IF('様式C_研究分担医師等'!I124>=2500000,\"250万円以上の利益あり\",\"-\"))","v":"-"},{"$f":"IF('様式C_研究分担医師等'!J123=\"\",\"\",'様式C_研究分担医師等'!J123)","v":""},{"$f":"IF(I124=\"いいえ\",\"-\",IF('様式C_研究分担医師等'!L124>=2500000,\"250万円以上の利益あり\",\"-\"))","v":"-"},{"$f":"IF('様式C_研究分担医師等'!M123=\"\",\"\",'様式C_研究分担医師等'!M123)","v":""},null,null,{"$f":"IF('様式C_研究分担医師等'!N123=\"\",\"\",'様式C_研究分担医師等'!N123)","v":""}]
[null,null,"Q4．対象薬剤製薬企業等の役員に就任しているか？\n\n・　役員とは、株式会社の代表取締役・取締役、合同会社の代表者等代表権限を有する者、監査役をいう。",null,null,"本人",{"$f":"IF('様式C_研究分担医師等'!G125=\"\",\"\",'様式C_研究分担医師等'!G125)","v":""},null,{"$f":"IF('様式C_研究分担医師等'!J125=\"\",\"\",'様式C_研究分担医師等'!J125)","v":""},null,{"$f":"IF('様式C_研究分担医師等'!M125=\"\",\"\",'様式C_研究分担医師等'!M125)","v":""},null,null,{"$f":"IF('様式C_研究分担医師等'!N125=\"\",\"\",'様式C_研究分担医師等'!N125)","v":""}]
[null,null,null,null,null,"申告者と生計を同じにする配偶者及びその一親等の親族",{"$f":"IF('様式C_研究分担医師等'!G126=\"\",\"\",'様式C_研究分担医師等'!G126)","v":""},null,{"$f":"IF('様式C_研究分担医師等'!J126=\"\",\"\",'様式C_研究分担医師等'!J126)","v":""},null,{"$f":"IF('様式C_研究分担医師等'!M126=\"\",\"\",'様式C_研究分担医師等'!M126)","v":""},null,null,{"$f":"IF('様式C_研究分担医師等'!N126=\"\",\"\",'様式C_研究分担医師等'!N126)","v":""}]
[null,null,"Q5.対象薬剤製薬企業等の株式を保有しているか？対象薬剤製薬企業等に出資を行っているか？\n\n・株式の保有については、公開株式については５％以上、未公開株式は1株以上、新株予約権は１個以上をいう。これに該当しない場合は、「なし」とすること。",null,null,"本人",{"$f":"IF('様式C_研究分担医師等'!G127=\"\",\"\",'様式C_研究分担医師等'!G127)","v":""},{"$f":"IF(G99=\"いいえ\",\"-\",IF('様式C_研究分担医師等'!I127=\"はい\",\"株式保有\",\"株式保有なし\"))","v":"株式保有なし"},{"$f":"IF('様式C_研究分担医師等'!J127=\"\",\"\",'様式C_研究分担医師等'!J127)","v":""},{"$f":"IF(I99=\"いいえ\",\"-\",IF('様式C_研究分担医師等'!L127=\"はい\",\"株式保有\",\"株式保有なし\"))","v":"株式保有なし"},{"$f":"IF('様式C_研究分担医師等'!M127=\"\",\"\",'様式C_研究分担医師等'!M127)","v":""},null,null,{"$f":"IF('様式C_研究分担医師等'!N127=\"\",\"\",'様式C_研究分担医師等'!N127)","v":""}]
[null,null,null,null,null,"申告者と生計を同じにする配偶者及びその一親等の親族",{"$f":"IF('様式C_研究分担医師等'!G129=\"\",\"\",'様式C_研究分担医師等'!G129)","v":""},{"$f":"IF(G100=\"いいえ\",\"-\",IF('様式C_研究分担医師等'!I129=\"はい\",\"株式保有\",\"株式保有なし\"))","v":"株式保有なし"},{"$f":"IF('様式C_研究分担医師等'!J129=\"\",\"\",'様式C_研究分担医師等'!J129)","v":""},{"$f":"IF(I100=\"いいえ\",\"-\",IF('様式C_研究分担医師等'!L129=\"はい\",\"株式保有\",\"株式保有なし\"))","v":"株式保有なし"},{"$f":"IF('様式C_研究分担医師等'!M129=\"\",\"\",'様式C_研究分担医師等'!M129)","v":""},null,null,{"$f":"IF('様式C_研究分担医師等'!N129=\"\",\"\",'様式C_研究分担医師等'!N129)","v":""}]
[null,null,"Q6.その他、対象薬剤製薬企業等の関与があるか？",null,null,"本人",{"$f":"IF('様式C_研究分担医師等'!G131=\"\",\"\",'様式C_研究分担医師等'!G131)","v":""},{"$f":"IF(G101=\"いいえ\",\"-\",IF('様式C_研究分担医師等'!I131=\"はい\",\"知的財産への関与有り\",\"知的財産への関与なし\"))","v":"知的財産への関与なし"},{"$f":"IF('様式C_研究分担医師等'!J131=\"\",\"\",'様式C_研究分担医師等'!J131)","v":""},{"$f":"IF(I101=\"いいえ\",\"-\",IF('様式C_研究分担医師等'!L131=\"はい\",\"知的財産への関与有り\",\"知的財産への関与なし\"))","v":"知的財産への関与なし"},{"$f":"IF('様式C_研究分担医師等'!M131=\"\",\"\",'様式C_研究分担医師等'!M131)","v":""},null,null,{"$f":"IF('様式C_研究分担医師等'!N131=\"\",\"\",'様式C_研究分担医師等'!N131)","v":""}]
[null,null,null,null,null,"申告者と生計を同じにする配偶者及びその一親等の親族",{"$f":"IF('様式C_研究分担医師等'!G133=\"\",\"\",'様式C_研究分担医師等'!G133)","v":""},{"$f":"IF(G102=\"いいえ\",\"-\",IF('様式C_研究分担医師等'!I133=\"はい\",\"知的財産への関与有り\",\"知的財産への関与なし\"))","v":"知的財産への関与なし"},{"$f":"IF('様式C_研究分担医師等'!J133=\"\",\"\",'様式C_研究分担医師等'!J133)","v":""},{"$f":"IF(I102=\"いいえ\",\"-\",IF('様式C_研究分担医師等'!L133=\"はい\",\"知的財産への関与有り\",\"知的財産への関与なし\"))","v":"知的財産への関与なし"},{"$f":"IF('様式C_研究分担医師等'!M133=\"\",\"\",'様式C_研究分担医師等'!M133)","v":""},null,null,{"$f":"IF('様式C_研究分担医師等'!N133=\"\",\"\",'様式C_研究分担医師等'!N133)","v":""}]
[]
[null,null,null,null,"本研究の対象薬剤製薬企業等の名：","⑥",{"$f":"IF(G20=\"\",\"\",G20)","v":""}]
[]
[null,null,"COI状況の有無",null,null,null,"前年度",null,"今年度",null,"COI管理計画",null,null,null,"COIについての事実確認","COI管理計画の確認状況","COI管理に対する助言・勧告の内容\n(該当ある場合(自由記載))"]
[null,null,null,null,null,null,"有無","詳細","有無","詳細"]
[]
[null,null,"Q１．対象薬剤製薬企業等からの寄附金の総額が、年間合計200万円を超えているか？",null,null,"本人",{"$f":"IF('様式C_研究分担医師等'!G141=\"\",\"\",'様式C_研究分担医師等'!G141)","v":""},null,{"$f":"IF('様式C_研究分担医師等'!J141=\"\",\"\",'様式C_研究分担医師等'!J141)","v":""},null,{"$f":"IF('様式C_研究分担医師等'!M141=\"\",\"\",'様式C_研究分担医師等'!M141)","v":""},null,null,{"$f":"IF('様式C_研究分担医師等'!N141=\"\",\"\",'様式C_研究分担医師等'!N141)","v":""}]
[null,null,"Q２.　対象薬剤製薬企業等が提供する寄附講座に所属しているか？",null,null,"本人",{"$f":"IF('様式C_研究分担医師等'!G142=\"\",\"\",'様式C_研究分担医師等'!G142)","v":""},{"$f":"IF('様式C_研究分担医師等'!I143=\"有\",\"給与あり\",IF('様式C_研究分担医師等'!I143=\"無\",\"給与なし\",\"-\"))","v":"-"},{"$f":"IF('様式C_研究分担医師等'!J142=\"\",\"\",'様式C_研究分担医師等'!J142)","v":""},{"$f":"IF('様式C_研究分担医師等'!L143=\"有\",\"給与あり\",IF('様式C_研究分担医師等'!L143=\"無\",\"給与なし\",\"-\"))","v":"-"},{"$f":"IF('様式C_研究分担医師等'!M142=\"\",\"\",'様式C_研究分担医師等'!M142)","v":""},null,null,{"$f":"IF('様式C_研究分担医師等'!N142=\"\",\"\",'様式C_研究分担医師等'!N142)","v":""}]
[null,null,"Q3．対象薬剤製薬企業等からの年間合計100万円以上の個人的利益があるか？\n　\n・　個人的利益とは、給与・講演・原稿執筆・コンサルティング・知的所有権・贈答・接遇等による収入をいう。",null,null,"本人",{"$f":"IF('様式C_研究分担医師等'!G144=\"\",\"\",'様式C_研究分担医師等'!G144)","v":""},{"$f":"IF(G111=\"いいえ\",\"-\",IF('様式C_研究分担医師等'!I145>=2500000,\"250万円以上の利益あり\",\"-\"))","v":"-"},{"$f":"IF('様式C_研究分担医師等'!J144=\"\",\"\",'様式C_研究分担医師等'!J144)","v":""},{"$f":"IF(I111=\"いいえ\",\"-\",IF('様式C_研究分担医師等'!L145>=2500000,\"250万円以上の利益あり\",\"-\"))","v":"-"},{"$f":"IF('様式C_研究分担医師等'!M144=\"\",\"\",'様式C_研究分担医師等'!M144)","v":""},null,null,{"$f":"IF('様式C_研究分担医師等'!N144=\"\",\"\",'様式C_研究分担医師等'!N144)","v":""}]
[null,null,null,null,null,"申告者と生計を同じにする配偶者及びその一親等の親族",{"$f":"IF('様式C_研究分担医師等'!G146=\"\",\"\",'様式C_研究分担医師等'!G146)","v":""},{"$f":"IF(G112=\"いいえ\",\"-\",IF('様式C_研究分担医師等'!I147>=2500000,\"250万円以上の利益あり\",\"-\"))","v":"-"},{"$f":"IF('様式C_研究分担医師等'!J146=\"\",\"\",'様式C_研究分担医師等'!J146)","v":""},{"$f":"IF(I112=\"いいえ\",\"-\",IF('様式C_研究分担医師等'!L147>=2500000,\"250万円以上の利益あり\",\"-\"))","v":"-"},{"$f":"IF('様式C_研究分担医師等'!M146=\"\",\"\",'様式C_研究分担医師等'!M146)","v":""},null,null,{"$f":"IF('様式C_研究分担医師等'!N146=\"\",\"\",'様式C_研究分担医師等'!N146)","v":""}]
[null,null,"Q4．対象薬剤製薬企業等の役員に就任しているか？\n\n・　役員とは、株式会社の代表取締役・取締役、合同会社の代表者等代表権限を有する者、監査役をいう。",null,null,"本人",{"$f":"IF('様式C_研究分担医師等'!G148=\"\",\"\",'様式C_研究分担医師等'!G148)","v":""},null,{"$f":"IF('様式C_研究分担医師等'!J148=\"\",\"\",'様式C_研究分担医師等'!J148)","v":""},null,{"$f":"IF('様式C_研究分担医師等'!M148=\"\",\"\",'様式C_研究分担医師等'!M148)","v":""},null,null,{"$f":"IF('様式C_研究分担医師等'!N148=\"\",\"\",'様式C_研究分担医師等'!N148)","v":""}]
[null,null,null,null,null,"申告者と生計を同じにする配偶者及びその一親等の親族",{"$f":"IF('様式C_研究分担医師等'!G149=\"\",\"\",'様式C_研究分担医師等'!G149)","v":""},null,{"$f":"IF('様式C_研究分担医師等'!J149=\"\",\"\",'様式C_研究分担医師等'!J149)","v":""},null,{"$f":"IF('様式C_研究分担医師等'!M149=\"\",\"\",'様式C_研究分担医師等'!M149)","v":""},null,null,{"$f":"IF('様式C_研究分担医師等'!N149=\"\",\"\",'様式C_研究分担医師等'!N149)","v":""}]
[null,null,"Q5.対象薬剤製薬企業等の株式を保有しているか？対象薬剤製薬企業等に出資を行っているか？\n\n・株式の保有については、公開株式については５％以上、未公開株式は1株以上、新株予約権は１個以上をいう。これに該当しない場合は、「なし」とすること。",null,null,"本人",{"$f":"IF('様式C_研究分担医師等'!G150=\"\",\"\",'様式C_研究分担医師等'!G150)","v":""},{"$f":"IF(G115=\"いいえ\",\"-\",IF('様式C_研究分担医師等'!I150=\"はい\",\"株式保有\",\"株式保有なし\"))","v":"株式保有なし"},{"$f":"IF('様式C_研究分担医師等'!J150=\"\",\"\",'様式C_研究分担医師等'!J150)","v":""},{"$f":"IF(I115=\"いいえ\",\"-\",IF('様式C_研究分担医師等'!L150=\"はい\",\"株式保有\",\"株式保有なし\"))","v":"株式保有なし"},{"$f":"IF('様式C_研究分担医師等'!M150=\"\",\"\",'様式C_研究分担医師等'!M150)","v":""},null,null,{"$f":"IF('様式C_研究分担医師等'!N150=\"\",\"\",'様式C_研究分担医師等'!N150)","v":""}]
[null,null,null,null,null,"申告者と生計を同じにする配偶者及びその一親等の親族",{"$f":"IF('様式C_研究分担医師等'!G152=\"\",\"\",'様式C_研究分担医師等'!G152)","v":""},{"$f":"IF(G116=\"いいえ\",\"-\",IF('様式C_研究分担医師等'!I152=\"はい\",\"株式保有\",\"株式保有なし\"))","v":"株式保有なし"},{"$f":"IF('様式C_研究分担医師等'!J152=\"\",\"\",'様式C_研究分担医師等'!J152)","v":""},{"$f":"IF(I116=\"いいえ\",\"-\",IF('様式C_研究分担医師等'!L152=\"はい\",\"株式保有\",\"株式保有なし\"))","v":"株式保有なし"},{"$f":"IF('様式C_研究分担医師等'!M152=\"\",\"\",'様式C_研究分担医師等'!M152)","v":""},null,null,{"$f":"IF('様式C_研究分担医師等'!N152=\"\",\"\",'様式C_研究分担医師等'!N152)","v":""}]
[null,null,"Q6.その他、対象薬剤製薬企業等の関与があるか？",null,null,"本人",{"$f":"IF('様式C_研究分担医師等'!G154=\"\",\"\",'様式C_研究分担医師等'!G154)","v":""},{"$f":"IF(G117=\"いいえ\",\"-\",IF('様式C_研究分担医師等'!I154=\"はい\",\"知的財産への関与有り\",\"知的財産への関与なし\"))","v":"知的財産への関与なし"},{"$f":"IF('様式C_研究分担医師等'!J154=\"\",\"\",'様式C_研究分担医師等'!J154)","v":""},{"$f":"IF(I117=\"いいえ\",\"-\",IF('様式C_研究分担医師等'!L154=\"はい\",\"知的財産への関与有り\",\"知的財産への関与なし\"))","v":"知的財産への関与なし"},{"$f":"IF('様式C_研究分担医師等'!M154=\"\",\"\",'様式C_研究分担医師等'!M154)","v":""},null,null,{"$f":"IF('様式C_研究分担医師等'!N154=\"\",\"\",'様式C_研究分担医師等'!N154)","v":""}]
[null,null,null,null,null,"申告者と生計を同じにする配偶者及びその一親等の親族",{"$f":"IF('様式C_研究分担医師等'!G156=\"\",\"\",'様式C_研究分担医師等'!G156)","v":""},{"$f":"IF(G118=\"いいえ\",\"-\",IF('様式C_研究分担医師等'!I156=\"はい\",\"知的財産への関与有り\",\"知的財産への関与なし\"))","v":"知的財産への関与なし"},{"$f":"IF('様式C_研究分担医師等'!J156=\"\",\"\",'様式C_研究分担医師等'!J156)","v":""},{"$f":"IF(I118=\"いいえ\",\"-\",IF('様式C_研究分担医師等'!L156=\"はい\",\"知的財産への関与有り\",\"知的財産への関与なし\"))","v":"知的財産への関与なし"},{"$f":"IF('様式C_研究分担医師等'!M156=\"\",\"\",'様式C_研究分担医師等'!M156)","v":""},null,null,{"$f":"IF('様式C_研究分担医師等'!N156=\"\",\"\",'様式C_研究分担医師等'!N156)","v":""}]
[]
[null,null,null,null,"本研究の対象薬剤製薬企業等の名：","⑦",{"$f":"IF(G21=\"\",\"\",G21)","v":""}]
[]
[null,null,"COI状況の有無",null,null,null,"前年度",null,"今年度",null,"COI管理計画",null,null,null,"COIについての事実確認","COI管理計画の確認状況","COI管理に対する助言・勧告の内容\n(該当ある場合(自由記載))"]
[null,null,null,null,null,null,"有無","詳細","有無","詳細"]
[]
[null,null,"Q１．対象薬剤製薬企業等からの寄附金の総額が、年間合計200万円を超えているか？",null,null,"本人",{"$f":"IF('様式C_研究分担医師等'!G164=\"\",\"\",'様式C_研究分担医師等'!G164)","v":""},null,{"$f":"IF('様式C_研究分担医師等'!J164=\"\",\"\",'様式C_研究分担医師等'!J164)","v":""},null,{"$f":"IF('様式C_研究分担医師等'!M164=\"\",\"\",'様式C_研究分担医師等'!M164)","v":""},null,null,{"$f":"IF('様式C_研究分担医師等'!N164=\"\",\"\",'様式C_研究分担医師等'!N164)","v":""}]
[null,null,"Q２.　対象薬剤製薬企業等が提供する寄附講座に所属しているか？",null,null,"本人",{"$f":"IF('様式C_研究分担医師等'!G165=\"\",\"\",'様式C_研究分担医師等'!G165)","v":""},{"$f":"IF('様式C_研究分担医師等'!I166=\"有\",\"給与あり\",IF('様式C_研究分担医師等'!I166=\"無\",\"給与なし\",\"-\"))","v":"-"},{"$f":"IF('様式C_研究分担医師等'!J165=\"\",\"\",'様式C_研究分担医師等'!J165)","v":""},{"$f":"IF('様式C_研究分担医師等'!L166=\"有\",\"給与あり\",IF('様式C_研究分担医師等'!L166=\"無\",\"給与なし\",\"-\"))","v":"-"},{"$f":"IF('様式C_研究分担医師等'!M165=\"\",\"\",'様式C_研究分担医師等'!M165)","v":""},null,null,{"$f":"IF('様式C_研究分担医師等'!N165=\"\",\"\",'様式C_研究分担医師等'!N165)","v":""}]
[null,null,"Q3．対象薬剤製薬企業等からの年間合計100万円以上の個人的利益があるか？\n　\n・　個人的利益とは、給与・講演・原稿執筆・コンサルティング・知的所有権・贈答・接遇等による収入をいう。",null,null,"本人",{"$f":"IF('様式C_研究分担医師等'!G167=\"\",\"\",'様式C_研究分担医師等'!G167)","v":""},{"$f":"IF(G127=\"いいえ\",\"-\",IF('様式C_研究分担医師等'!I168>=2500000,\"250万円以上の利益あり\",\"-\"))","v":"-"},{"$f":"IF('様式C_研究分担医師等'!J167=\"\",\"\",'様式C_研究分担医師等'!J167)","v":""},{"$f":"IF(I127=\"いいえ\",\"-\",IF('様式C_研究分担医師等'!L168>=2500000,\"250万円以上の利益あり\",\"-\"))","v":"-"},{"$f":"IF('様式C_研究分担医師等'!M167=\"\",\"\",'様式C_研究分担医師等'!M167)","v":""},null,null,{"$f":"IF('様式C_研究分担医師等'!N167=\"\",\"\",'様式C_研究分担医師等'!N167)","v":""}]
[null,null,null,null,null,"申告者と生計を同じにする配偶者及びその一親等の親族",{"$f":"IF('様式C_研究分担医師等'!G169=\"\",\"\",'様式C_研究分担医師等'!G169)","v":""},{"$f":"IF(G128=\"いいえ\",\"-\",IF('様式C_研究分担医師等'!I170>=2500000,\"250万円以上の利益あり\",\"-\"))","v":"-"},{"$f":"IF('様式C_研究分担医師等'!J169=\"\",\"\",'様式C_研究分担医師等'!J169)","v":""},{"$f":"IF(I128=\"いいえ\",\"-\",IF('様式C_研究分担医師等'!L170>=2500000,\"250万円以上の利益あり\",\"-\"))","v":"-"},{"$f":"IF('様式C_研究分担医師等'!M169=\"\",\"\",'様式C_研究分担医師等'!M169)","v":""},null,null,{"$f":"IF('様式C_研究分担医師等'!N169=\"\",\"\",'様式C_研究分担医師等'!N169)","v":""}]
[null,null,"Q4．対象薬剤製薬企業等の役員に就任しているか？\n\n・　役員とは、株式会社の代表取締役・取締役、合同会社の代表者等代表権限を有する者、監査役をいう。",null,null,"本人",{"$f":"IF('様式C_研究分担医師等'!G171=\"\",\"\",'様式C_研究分担医師等'!G171)","v":""},null,{"$f":"IF('様式C_研究分担医師等'!J171=\"\",\"\",'様式C_研究分担医師等'!J171)","v":""},null,{"$f":"IF('様式C_研究分担医師等'!M171=\"\",\"\",'様式C_研究分担医師等'!M171)","v":""},null,null,{"$f":"IF('様式C_研究分担医師等'!N171=\"\",\"\",'様式C_研究分担医師等'!N171)","v":""}]
[null,null,null,null,null,"申告者と生計を同じにする配偶者及びその一親等の親族",{"$f":"IF('様式C_研究分担医師等'!G172=\"\",\"\",'様式C_研究分担医師等'!G172)","v":""},null,{"$f":"IF('様式C_研究分担医師等'!J172=\"\",\"\",'様式C_研究分担医師等'!J172)","v":""},null,{"$f":"IF('様式C_研究分担医師等'!M172=\"\",\"\",'様式C_研究分担医師等'!M172)","v":""},null,null,{"$f":"IF('様式C_研究分担医師等'!N172=\"\",\"\",'様式C_研究分担医師等'!N172)","v":""}]
[null,null,"Q5.対象薬剤製薬企業等の株式を保有しているか？対象薬剤製薬企業等に出資を行っているか？\n\n・株式の保有については、公開株式については５％以上、未公開株式は1株以上、新株予約権は１個以上をいう。これに該当しない場合は、「なし」とすること。",null,null,"本人",{"$f":"IF('様式C_研究分担医師等'!G173=\"\",\"\",'様式C_研究分担医師等'!G173)","v":""},{"$f":"IF(G131=\"いいえ\",\"-\",IF('様式C_研究分担医師等'!I173=\"はい\",\"株式保有\",\"株式保有なし\"))","v":"株式保有なし"},{"$f":"IF('様式C_研究分担医師等'!J173=\"\",\"\",'様式C_研究分担医師等'!J173)","v":""},{"$f":"IF(I131=\"いいえ\",\"-\",IF('様式C_研究分担医師等'!L173=\"はい\",\"株式保有\",\"株式保有なし\"))","v":"株式保有なし"},{"$f":"IF('様式C_研究分担医師等'!M173=\"\",\"\",'様式C_研究分担医師等'!M173)","v":""},null,null,{"$f":"IF('様式C_研究分担医師等'!N173=\"\",\"\",'様式C_研究分担医師等'!N173)","v":""}]
[null,null,null,null,null,"申告者と生計を同じにする配偶者及びその一親等の親族",{"$f":"IF('様式C_研究分担医師等'!G175=\"\",\"\",'様式C_研究分担医師等'!G175)","v":""},{"$f":"IF(G132=\"いいえ\",\"-\",IF('様式C_研究分担医師等'!I175=\"はい\",\"株式保有\",\"株式保有なし\"))","v":"株式保有なし"},{"$f":"IF('様式C_研究分担医師等'!J175=\"\",\"\",'様式C_研究分担医師等'!J175)","v":""},{"$f":"IF(I132=\"いいえ\",\"-\",IF('様式C_研究分担医師等'!L175=\"はい\",\"株式保有\",\"株式保有なし\"))","v":"株式保有なし"},{"$f":"IF('様式C_研究分担医師等'!M175=\"\",\"\",'様式C_研究分担医師等'!M175)","v":""},null,null,{"$f":"IF('様式C_研究分担医師等'!N175=\"\",\"\",'様式C_研究分担医師等'!N175)","v":""}]
[null,null,"Q6.その他、対象薬剤製薬企業等の関与があるか？",null,null,"本人",{"$f":"IF('様式C_研究分担医師等'!G177=\"\",\"\",'様式C_研究分担医師等'!G177)","v":""},{"$f":"IF(G133=\"いいえ\",\"-\",IF('様式C_研究分担医師等'!I177=\"はい\",\"知的財産への関与有り\",\"知的財産への関与なし\"))","v":"知的財産への関与なし"},{"$f":"IF('様式C_研究分担医師等'!J177=\"\",\"\",'様式C_研究分担医師等'!J177)","v":""},{"$f":"IF(I133=\"いいえ\",\"-\",IF('様式C_研究分担医師等'!L177=\"はい\",\"知的財産への関与有り\",\"知的財産への関与なし\"))","v":"知的財産への関与なし"},{"$f":"IF('様式C_研究分担医師等'!M177=\"\",\"\",'様式C_研究分担医師等'!M177)","v":""},null,null,{"$f":"IF('様式C_研究分担医師等'!N177=\"\",\"\",'様式C_研究分担医師等'!N177)","v":""}]
[null,null,null,null,null,"申告者と生計を同じにする配偶者及びその一親等の親族",{"$f":"IF('様式C_研究分担医師等'!G179=\"\",\"\",'様式C_研究分担医師等'!G179)","v":""},{"$f":"IF(G134=\"いいえ\",\"-\",IF('様式C_研究分担医師等'!I179=\"はい\",\"知的財産への関与有り\",\"知的財産への関与なし\"))","v":"知的財産への関与なし"},{"$f":"IF('様式C_研究分担医師等'!J179=\"\",\"\",'様式C_研究分担医師等'!J179)","v":""},{"$f":"IF(I134=\"いいえ\",\"-\",IF('様式C_研究分担医師等'!L179=\"はい\",\"知的財産への関与有り\",\"知的財産への関与なし\"))","v":"知的財産への関与なし"},{"$f":"IF('様式C_研究分担医師等'!M179=\"\",\"\",'様式C_研究分担医師等'!M179)","v":""},null,null,{"$f":"IF('様式C_研究分担医師等'!N179=\"\",\"\",'様式C_研究分担医師等'!N179)","v":""}]

{"sheet":"様式E","index":6,"n_rows":148,"n_cols":12,"rows_kept":148,"cut":false,"hidden":false,"merged":[[21,0,29,1],[21,2,24,2],[26,2,27,2],[28,2,29,2],[30,2,33,2],[35,2,36,2],[37,2,38,2],[62,2,63,2],[64,2,65,2],[69,0,69,2],[81,0,81,2],[93,0,93,2],[105,0,105,2],[39,2,42,2],[44,2,45,2],[46,2,47,2],[48,2,51,2],[53,2,54,2],[55,2,56,2],[57,2,60,2],[104,0,104,1],[116,0,116,1],[117,0,117,2],[30,0,38,1],[39,0,47,1],[48,0,56,1],[57,0,65,1],[68,0,68,1],[80,0,80,1],[92,0,92,1],[39,10,42,10],[39,11,42,11],[35,5,36,9],[35,10,36,10],[35,11,36,11],[37,5,38,9],[37,10,38,10],[37,11,38,11],[39,5,42,9],[1,0,1,12],[2,9,2,11],[3,0,4,0],[3,1,4,4],[3,9,3,11],[4,9,4,11],[5,9,5,11],[7,8,10,11],[12,8,15,11],[6,4,6,5],[7,4,7,5],[8,4,8,5],[9,4,9,5],[10,4,10,5],[11,4,11,5],[12,4,12,5],[13,4,13,5],[14,4,14,5],[17,0,17,1],[17,5,17,7],[20,0,20,1],[20,2,20,4],[20,5,20,9],[21,5,24,9],[21,10,24,10],[21,11,24,11],[25,5,25,9],[26,5,27,9],[26,10,27,10],[26,11,27,11],[28,5,29,9],[28,10,29,10],[28,11,29,11],[30,5,33,9],[30,10,33,10],[30,11,33,11],[34,5,34,9],[55,5,56,9],[55,10,56,10],[55,11,56,11],[95,4,95,9],[96,4,96,9],[97,4,97,9],[98,4,98,9],[99,4,99,9],[100,4,100,9],[101,4,101,9],[102,4,102,9],[104,2,104,11],[105,3,105,5],[106,3,106,9],[107,4,107,9],[108,4,108,9],[109,4,109,9],[110,4,110,9],[111,4,111,9],[112,4,112,9],[113,4,113,9],[114,4,114,9],[116,2,116,11],[117,3,117,5],[125,4,125,9],[126,4,126,9],[118,3,118,9],[119,4,119,9],[120,4,120,9],[121,4,121,9],[122,4,122,9],[123,4,123,9],[124,4,124,9],[43,5,43,9],[44,5,45,9],[44,10,45,10],[44,11,45,11],[46,5,47,9],[46,10,47,10],[46,11,47,11],[48,5,51,9],[48,10,51,10],[48,11,51,11],[52,5,52,9],[53,5,54,9],[53,10,54,10],[53,11,54,11],[57,5,60,9],[57,10,60,10],[57,11,60,11],[61,5,61,9],[62,5,63,9],[62,10,63,10],[62,11,63,11],[64,5,65,9],[64,10,65,10],[64,11,65,11],[68,2,68,11],[69,3,69,5],[70,3,70,9],[71,4,71,9],[72,4,72,9],[73,4,73,9],[74,4,74,9],[75,4,75,9],[76,4,76,9],[77,4,77,9],[78,4,78,9],[80,2,80,11],[81,3,81,5],[82,3,82,9],[83,4,83,9],[84,4,84,9],[85,4,85,9],[86,4,86,9],[87,4,87,9],[88,4,88,9],[89,4,89,9],[90,4,90,9],[92,2,92,11],[93,3,93,5],[94,3,94,9]]}
[null,null,null,null,null,null,null,null,null,null,null,"ver1.0"]
["様式E　利益相反管理計画"]
[null,null,null,null,null,null,null,null,"日付"]
["研究課題：",{"$f":"IF('様式B'!D3=\"\",\"\",'様式B'!D3)","v":""},null,null,null,null,null,null,"所属機関"]
[null,null,null,null,null,null,null,null,"立場"]
[null,null,null,null,null,null,null,null,"氏名"]
["立場","氏名",null,"立場","氏名",null,null,null,"【特記事項(任意)】（様式Bより）"]
[{"$f":"IF('様式C_統括管理・責任医師'!C10=\"\",\"\",'様式C_統括管理・責任医師'!C10)","v":""},{"$f":"IF('様式C_統括管理・責任医師'!D10=\"\",\"\",'様式C_統括管理・責任医師'!D10)","v":""},null,{"$f":"IF('様式C_統括管理・責任医師'!F10=\"\",\"\",'様式C_統括管理・責任医師'!F10)","v":""},{"$f":"IF('様式C_統括管理・責任医師'!H10=\"\",\"\",'様式C_統括管理・責任医師'!H10)","v":""},null,null,null,{"$f":"IF('様式B'!C6=\"\",\"\",'様式B'!C6)","v":""}]
[{"$f":"IF('様式C_統括管理・責任医師'!C11=\"\",\"\",'様式C_統括管理・責任医師'!C11)","v":""},{"$f":"IF('様式C_統括管理・責任医師'!D11=\"\",\"\",'様式C_統括管理・責任医師'!D11)","v":""},null,{"$f":"IF('様式C_統括管理・責任医師'!F11=\"\",\"\",'様式C_統括管理・責任医師'!F11)","v":""},{"$f":"IF('様式C_統括管理・責任医師'!H11=\"\",\"\",'様式C_統括管理・責任医師'!H11)","v":""}]
[{"$f":"IF('様式C_統括管理・責任医師'!C12=\"\",\"\",'様式C_統括管理・責任医師'!C12)","v":""},{"$f":"IF('様式C_統括管理・責任医師'!D12=\"\",\"\",'様式C_統括管理・責任医師'!D12)","v":""},null,{"$f":"IF('様式C_統括管理・責任医師'!F12=\"\",\"\",'様式C_統括管理・責任医師'!F12)","v":""},{"$f":"IF('様式C_統括管理・責任医師'!H12=\"\",\"\",'様式C_統括管理・責任医師'!H12)","v":""}]
[{"$f":"IF('様式C_統括管理・責任医師'!C13=\"\",\"\",'様式C_統括管理・責任医師'!C13)","v":""},{"$f":"IF('様式C_統括管理・責任医師'!D13=\"\",\"\",'様式C_統括管理・責任医師'!D13)","v":""},null,{"$f":"IF('様式C_統括管理・責任医師'!F13=\"\",\"\",'様式C_統括管理・責任医師'!F13)","v":""},{"$f":"IF('様式C_統括管理・責任医師'!H13=\"\",\"\",'様式C_統括管理・責任医師'!H13)","v":""}]
[{"$f":"IF('様式C_統括管理・責任医師'!C14=\"\",\"\",'様式C_統括管理・責任医師'!C14)","v":""},{"$f":"IF('様式C_統括管理・責任医師'!D14=\"\",\"\",'様式C_統括管理・責任医師'!D14)","v":""},null,{"$f":"IF('様式C_統括管理・責任医師'!F14=\"\",\"\",'様式C_統括管理・責任医師'!F14)","v":""},{"$f":"IF('様式C_統括管理・責任医師'!H14=\"\",\"\",'様式C_統括管理・責任医師'!H14)","v":""},null,null,null,"【特記事項(任意)】"]
[{"$f":"IF('様式C_統括管理・責任医師'!C15=\"\",\"\",'様式C_統括管理・責任医師'!C15)","v":""},{"$f":"IF('様式C_統括管理・責任医師'!D15=\"\",\"\",'様式C_統括管理・責任医師'!D15)","v":""},null,{"$f":"IF('様式C_統括管理・責任医師'!F15=\"\",\"\",'様式C_統括管理・責任医師'!F15)","v":""},{"$f":"IF('様式C_統括管理・責任医師'!H15=\"\",\"\",'様式C_統括管理・責任医師'!H15)","v":""}]
[{"$f":"IF('様式C_統括管理・責任医師'!C16=\"\",\"\",'様式C_統括管理・責任医師'!C16)","v":""},{"$f":"IF('様式C_統括管理・責任医師'!D16=\"\",\"\",'様式C_統括管理・責任医師'!D16)","v":""},null,{"$f":"IF('様式C_統括管理・責任医師'!F16=\"\",\"\",'様式C_統括管理・責任医師'!F16)","v":""},{"$f":"IF('様式C_統括管理・責任医師'!H16=\"\",\"\",'様式C_統括管理・責任医師'!H16)","v":""}]
[{"$f":"IF('様式C_統括管理・責任医師'!C17=\"\",\"\",'様式C_統括管理・責任医師'!C17)","v":""},{"$f":"IF('様式C_統括管理・責任医師'!D17=\"\",\"\",'様式C_統括管理・責任医師'!D17)","v":""},null,{"$f":"IF('様式C_統括管理・責任医師'!F17=\"\",\"\",'様式C_統括管理・責任医師'!F17)","v":""},{"$f":"IF('様式C_統括管理・責任医師'!H17=\"\",\"\",'様式C_統括管理・責任医師'!H17)","v":""}]
[]
["本研究に関与する対象薬剤製薬企業等との関与（様式X）"]
[null,null,{"$f":"IF(A18=\"有効性又は安全性を明らかにする医薬品等の製販等\",\"申告対象外\",IF(A18=\"有効性又は安全性を明らかにする医薬品等の製販等に属する個人\",\"申告対象外\",\"\"))","v":""},null,{"$f":"IF(C18=\"申告対象外\",\"基準1と基準5\",IF(D18=\"\",\"\",IF(D18=\"1000万円以上\",\"基準1と基準5\",\"---\")))","v":""},{"$f":"IF(E18=\"基準1と基準5\",\"基準１に従い研究計画書及び説明文書に記載し、研究結果の公表時に開示する。基準5に従い研究期間中に監査を受ける。\",\"\")","v":""}]
[]
["本研究に関与する製薬企業等についての利益相反管理計画（研究に対する関与）",null,null,null,null,null,null,null,null,null,null,"統括管理者が認定委員会に提出する際に記載すること。"]
["本研究に関与する製薬企業等の名称",null,"利益相反の内容",null,null,"COI管理計画",null,null,null,null,"研究計画書へのCOI記載※","説明文書でのCOI開示※"]
[{"$f":"IF(ISNA(VLOOKUP(1,'様式B'!$A$15:$F$41,6,FALSE)),\"\",VLOOKUP(1,'様式B'!$A$15:$F$41,6,FALSE))","v":""},null,{"$f":"IF(F22=\"\",\"\",\"研究資金等を提供(Q2)\")","v":""},{"$f":"IF(C22=\"\",\"\",\"研究費の受入形態\")","v":""},{"$f":"IF(A22=\"\",\"\",IF(ISNA(VLOOKUP(A22&\"1\",管計2,2,FALSE)),\"\",VLOOKUP(A22&\"1\",管計2,2,FALSE)))","v":""},{"$f":"IF(ISNA(VLOOKUP(A22,管理計画Q2,4,FALSE)),\"\",VLOOKUP(A22,管理計画Q2,4,FALSE))","v":""}]
[null,null,null,{"$f":"IF(C22=\"\",\"\",\"受入方法\")","v":""},{"$f":"IF(A22=\"\",\"\",IF(ISNA(VLOOKUP(A22&\"2\",管計2,2,FALSE)),\"\",VLOOKUP(A22&\"2\",管計2,2,FALSE)))","v":""}]
[null,null,null,{"$f":"IF(C22=\"\",\"\",\"受入金額\")","v":""},{"$f":"IF(A22=\"\",\"\",IF(ISNA(VLOOKUP(A22&\"3\",管計2,2,FALSE)),\"\",VLOOKUP(A22&\"3\",管計2,2,FALSE)))","v":""}]
[null,null,null,{"$f":"IF(C22=\"\",\"\",\"契約締結状況\")","v":""},{"$f":"IF(A22=\"\",\"\",IF(ISNA(VLOOKUP(A22&\"4\",管計2,2,FALSE)),\"\",VLOOKUP(A22&\"4\",管計2,2,FALSE)))","v":""}]
[null,null,{"$f":"IF(F26=\"\",\"\",\"物品、施設等の提供・貸与(Q3)\")","v":""},{"$f":"IF(C26=\"\",\"\",\"物品、施設等の内容\")","v":""},{"$f":"IF(A22=\"\",\"\",IF(ISNA(VLOOKUP(A22,管計3,2,FALSE)),\"\",VLOOKUP(A22,管計3,2,FALSE)))","v":""},{"$f":"IF(ISNA(VLOOKUP($A22,管理計画Q3,4,FALSE)),\"\",VLOOKUP($A22,管理計画Q3,4,FALSE))","v":""}]
[null,null,{"$f":"IF(F27=\"\",\"\",\"役務提供(Q4)\")","v":""},{"$f":"IF(C27=\"\",\"\",\"受領する役務の内容\")","v":""},{"$f":"IF(A22=\"\",\"\",IF(ISNA(VLOOKUP(A22&\"1\",管計4,2,FALSE)),\"\",VLOOKUP(A22&\"1\",管計4,2,FALSE)))","v":""},{"$f":"IF(ISNA(VLOOKUP($A22,管理計画Q4,4,FALSE)),\"\",VLOOKUP($A22,管理計画Q4,4,FALSE))","v":""}]
[null,null,null,{"$f":"IF(C27=\"\",\"\",\"対象薬剤製薬企業の特定役務への関与の有無\")","v":""},{"$f":"IF(A22=\"\",\"\",IF(ISNA(VLOOKUP(A22&\"2\",管計4,2,FALSE)),\"\",VLOOKUP(A22&\"2\",管計4,2,FALSE)))","v":""}]
[null,null,{"$f":"IF(F29=\"\",\"\",\"製薬企業等の在籍者の従事(Q5)\")","v":""},{"$f":"IF(C29=\"\",\"\",\"製薬企業等の在籍者の従事の内容\")","v":""},{"$f":"IF(A22=\"\",\"\",IF(ISNA(VLOOKUP(A22&\"1\",管計5,2,FALSE)),\"\",VLOOKUP(A22&\"1\",管計5,2,FALSE)))","v":""},{"$f":"IF(ISNA(VLOOKUP($A22,管理計画Q5,4,FALSE)),\"\",VLOOKUP($A22,管理計画Q5,4,FALSE))","v":""}]
[null,null,null,{"$f":"IF(C29=\"\",\"\",\"対象薬剤製薬企業等の在籍者の特定役務への従事の有無\")","v":""},{"$f":"IF(A22=\"\",\"\",IF(ISNA(VLOOKUP(A22&\"2\",管計5,2,FALSE)),\"\",VLOOKUP(A22&\"2\",管計5,2,FALSE)))","v":""}]
[{"$f":"IF(ISNA(VLOOKUP(2,'様式B'!$A$15:$F$41,6,FALSE)),\"\",VLOOKUP(2,'様式B'!$A$15:$F$41,6,FALSE))","v":""},null,{"$f":"IF(F31=\"\",\"\",\"研究資金等を提供(Q2)\")","v":""},{"$f":"IF(C31=\"\",\"\",\"研究費の受入形態\")","v":""},{"$f":"IF(A31=\"\",\"\",IF(ISNA(VLOOKUP(A31&\"1\",管計2,2,FALSE)),\"\",VLOOKUP(A31&\"1\",管計2,2,FALSE)))","v":""},{"$f":"IF(ISNA(VLOOKUP(A31,管理計画Q2,4,FALSE)),\"\",VLOOKUP(A31,管理計画Q2,4,FALSE))","v":""}]
[null,null,null,{"$f":"IF(C31=\"\",\"\",\"受入方法\")","v":""},{"$f":"IF(A31=\"\",\"\",IF(ISNA(VLOOKUP(A31&\"2\",管計2,2,FALSE)),\"\",VLOOKUP(A31&\"2\",管計2,2,FALSE)))","v":""}]
[null,null,null,{"$f":"IF(C31=\"\",\"\",\"受入金額\")","v":""},{"$f":"IF(A31=\"\",\"\",IF(ISNA(VLOOKUP(A31&\"3\",管計2,2,FALSE)),\"\",VLOOKUP(A31&\"3\",管計2,2,FALSE)))","v":""}]
[null,null,null,{"$f":"IF(C31=\"\",\"\",\"契約締結状況\")","v":""},{"$f":"IF(A31=\"\",\"\",IF(ISNA(VLOOKUP(A31&\"4\",管計2,2,FALSE)),\"\",VLOOKUP(A31&\"4\",管計2,2,FALSE)))","v":""}]
[null,null,{"$f":"IF(F35=\"\",\"\",\"物品、施設等の提供・貸与(Q3)\")","v":""},{"$f":"IF(C35=\"\",\"\",\"物品、施設等の内容\")","v":""},{"$f":"IF(A31=\"\",\"\",IF(ISNA(VLOOKUP(A31,管計3,2,FALSE)),\"\",VLOOKUP(A31,管計3,2,FALSE)))","v":""},{"$f":"IF(ISNA(VLOOKUP($A31,管理計画Q3,4,FALSE)),\"\",VLOOKUP($A31,管理計画Q3,4,FALSE))","v":""}]
[null,null,{"$f":"IF(F36=\"\",\"\",\"役務提供(Q4)\")","v":""},{"$f":"IF(C36=\"\",\"\",\"受領する役務の内容\")","v":""},{"$f":"IF(A31=\"\",\"\",IF(ISNA(VLOOKUP(A31&\"1\",管計4,2,FALSE)),\"\",VLOOKUP(A31&\"1\",管計4,2,FALSE)))","v":""},{"$f":"IF(ISNA(VLOOKUP($A31,管理計画Q4,4,FALSE)),\"\",VLOOKUP($A31,管理計画Q4,4,FALSE))","v":""}]
[null,null,null,{"$f":"IF(C36=\"\",\"\",\"対象薬剤製薬企業の特定役務への関与の有無\")","v":""},{"$f":"IF(A31=\"\",\"\",IF(ISNA(VLOOKUP(A31&\"2\",管計4,2,FALSE)),\"\",VLOOKUP(A31&\"2\",管計4,2,FALSE)))","v":""}]
[null,null,{"$f":"IF(F38=\"\",\"\",\"製薬企業等の在籍者の従事(Q5)\")","v":""},{"$f":"IF(C38=\"\",\"\",\"製薬企業等の在籍者の従事の内容\")","v":""},{"$f":"IF(A31=\"\",\"\",IF(ISNA(VLOOKUP(A31&\"1\",管計5,2,FALSE)),\"\",VLOOKUP(A31&\"1\",管計5,2,FALSE)))","v":""},{"$f":"IF(ISNA(VLOOKUP($A31,管理計画Q5,4,FALSE)),\"\",VLOOKUP($A31,管理計画Q5,4,FALSE))","v":""}]
[null,null,null,{"$f":"IF(C38=\"\",\"\",\"対象薬剤製薬企業等の在籍者の特定役務への従事の有無\")","v":""},{"$f":"IF(A31=\"\",\"\",IF(ISNA(VLOOKUP(A31&\"2\",管計5,2,FALSE)),\"\",VLOOKUP(A31&\"2\",管計5,2,FALSE)))","v":""}]
[{"$f":"IF(ISNA(VLOOKUP(3,'様式B'!$A$15:$F$41,6,FALSE)),\"\",VLOOKUP(3,'様式B'!$A$15:$F$41,6,FALSE))","v":""},null,{"$f":"IF(F40=\"\",\"\",\"研究資金等を提供(Q2)\")","v":""},{"$f":"IF(C40=\"\",\"\",\"研究費の受入形態\")","v":""},{"$f":"IF(A40=\"\",\"\",IF(ISNA(VLOOKUP(A40&\"1\",管計2,2,FALSE)),\"\",VLOOKUP(A40&\"1\",管計2,2,FALSE)))","v":""},{"$f":"IF(ISNA(VLOOKUP(A40,管理計画Q2,4,FALSE)),\"\",VLOOKUP(A40,管理計画Q2,4,FALSE))","v":""}]
[null,null,null,{"$f":"IF(C40=\"\",\"\",\"受入方法\")","v":""},{"$f":"IF(A40=\"\",\"\",IF(ISNA(VLOOKUP(A40&\"2\",管計2,2,FALSE)),\"\",VLOOKUP(A40&\"2\",管計2,2,FALSE)))","v":""}]
[null,null,null,{"$f":"IF(C40=\"\",\"\",\"受入金額\")","v":""},{"$f":"IF(A40=\"\",\"\",IF(ISNA(VLOOKUP(A40&\"3\",管計2,2,FALSE)),\"\",VLOOKUP(A40&\"3\",管計2,2,FALSE)))","v":""}]
[null,null,null,{"$f":"IF(C40=\"\",\"\",\"契約締結状況\")","v":""},{"$f":"IF(A40=\"\",\"\",IF(ISNA(VLOOKUP(A40&\"4\",管計2,2,FALSE)),\"\",VLOOKUP(A40&\"4\",管計2,2,FALSE)))","v":""}]
[null,null,{"$f":"IF(F44=\"\",\"\",\"物品、施設等の提供・貸与(Q3)\")","v":""},{"$f":"IF(C44=\"\",\"\",\"物品、施設等の内容\")","v":""},{"$f":"IF(A40=\"\",\"\",IF(ISNA(VLOOKUP(A40,管計3,2,FALSE)),\"\",VLOOKUP(A40,管計3,2,FALSE)))","v":""},{"$f":"IF(ISNA(VLOOKUP($A40,管理計画Q3,4,FALSE)),\"\",VLOOKUP($A40,管理計画Q3,4,FALSE))","v":""}]
[null,null,{"$f":"IF(F45=\"\",\"\",\"役務提供(Q4)\")","v":""},{"$f":"IF(C45=\"\",\"\",\"受領する役務の内容\")","v":""},{"$f":"IF(A40=\"\",\"\",IF(ISNA(VLOOKUP(A40&\"1\",管計4,2,FALSE)),\"\",VLOOKUP(A40&\"1\",管計4,2,FALSE)))","v":""},{"$f":"IF(ISNA(VLOOKUP($A40,管理計画Q4,4,FALSE)),\"\",VLOOKUP($A40,管理計画Q4,4,FALSE))","v":""}]
[null,null,null,{"$f":"IF(C45=\"\",\"\",\"対象薬剤製薬企業の特定役務への関与の有無\")","v":""},{"$f":"IF(A40=\"\",\"\",IF(ISNA(VLOOKUP(A40&\"2\",管計4,2,FALSE)),\"\",VLOOKUP(A40&\"2\",管計4,2,FALSE)))","v":""}]
[null,null,{"$f":"IF(F47=\"\",\"\",\"製薬企業等の在籍者の従事(Q5)\")","v":""},{"$f":"IF(C47=\"\",\"\",\"製薬企業等の在籍者の従事の内容\")","v":""},{"$f":"IF(A40=\"\",\"\",IF(ISNA(VLOOKUP(A40&\"1\",管計5,2,FALSE)),\"\",VLOOKUP(A40&\"1\",管計5,2,FALSE)))","v":""},{"$f":"IF(ISNA(VLOOKUP($A40,管理計画Q5,4,FALSE)),\"\",VLOOKUP($A40,管理計画Q5,4,FALSE))","v":""}]
[null,null,null,{"$f":"IF(C47=\"\",\"\",\"対象薬剤製薬企業等の在籍者の特定役務への従事の有無\")","v":""},{"$f":"IF(A40=\"\",\"\",IF(ISNA(VLOOKUP(A40&\"2\",管計5,2,FALSE)),\"\",VLOOKUP(A40&\"2\",管計5,2,FALSE)))","v":""}]
[{"$f":"IF(ISNA(VLOOKUP(4,'様式B'!$A$15:$F$41,6,FALSE)),\"\",VLOOKUP(4,'様式B'!$A$15:$F$41,6,FALSE))","v":""},null,{"$f":"IF(F49=\"\",\"\",\"研究資金等を提供(Q2)\")","v":""},{"$f":"IF(C49=\"\",\"\",\"研究費の受入形態\")","v":""},{"$f":"IF(A49=\"\",\"\",IF(ISNA(VLOOKUP(A49&\"1\",管計2,2,FALSE)),\"\",VLOOKUP(A49&\"1\",管計2,2,FALSE)))","v":""},{"$f":"IF(ISNA(VLOOKUP(A49,管理計画Q2,4,FALSE)),\"\",VLOOKUP(A49,管理計画Q2,4,FALSE))","v":""}]
[null,null,null,{"$f":"IF(C49=\"\",\"\",\"受入方法\")","v":""},{"$f":"IF(A49=\"\",\"\",IF(ISNA(VLOOKUP(A49&\"2\",管計2,2,FALSE)),\"\",VLOOKUP(A49&\"2\",管計2,2,FALSE)))","v":""}]
[null,null,null,{"$f":"IF(C49=\"\",\"\",\"受入金額\")","v":""},{"$f":"IF(A49=\"\",\"\",IF(ISNA(VLOOKUP(A49&\"3\",管計2,2,FALSE)),\"\",VLOOKUP(A49&\"3\",管計2,2,FALSE)))","v":""}]
[null,null,null,{"$f":"IF(C49=\"\",\"\",\"契約締結状況\")","v":""},{"$f":"IF(A49=\"\",\"\",IF(ISNA(VLOOKUP(A49&\"4\",管計2,2,FALSE)),\"\",VLOOKUP(A49&\"4\",管計2,2,FALSE)))","v":""}]
[null,null,{"$f":"IF(F53=\"\",\"\",\"物品、施設等の提供・貸与(Q3)\")","v":""},{"$f":"IF(C53=\"\",\"\",\"物品、施設等の内容\")","v":""},{"$f":"IF(A49=\"\",\"\",IF(ISNA(VLOOKUP(A49,管計3,2,FALSE)),\"\",VLOOKUP(A49,管計3,2,FALSE)))","v":""},{"$f":"IF(ISNA(VLOOKUP($A49,管理計画Q3,4,FALSE)),\"\",VLOOKUP($A49,管理計画Q3,4,FALSE))","v":""}]
[null,null,{"$f":"IF(F54=\"\",\"\",\"役務提供(Q4)\")","v":""},{"$f":"IF(C54=\"\",\"\",\"受領する役務の内容\")","v":""},{"$f":"IF(A49=\"\",\"\",IF(ISNA(VLOOKUP(A49&\"1\",管計4,2,FALSE)),\"\",VLOOKUP(A49&\"1\",管計4,2,FALSE)))","v":""},{"$f":"IF(ISNA(VLOOKUP($A49,管理計画Q4,4,FALSE)),\"\",VLOOKUP($A49,管理計画Q4,4,FALSE))","v":""}]
[null,null,null,{"$f":"IF(C54=\"\",\"\",\"対象薬剤製薬企業の特定役務への関与の有無\")","v":""},{"$f":"IF(A49=\"\",\"\",IF(ISNA(VLOOKUP(A49&\"2\",管計4,2,FALSE)),\"\",VLOOKUP(A49&\"2\",管計4,2,FALSE)))","v":""}]
[null,null,{"$f":"IF(F56=\"\",\"\",\"製薬企業等の在籍者の従事(Q5)\")","v":""},{"$f":"IF(C56=\"\",\"\",\"製薬企業等の在籍者の従事の内容\")","v":""},{"$f":"IF(A49=\"\",\"\",IF(ISNA(VLOOKUP(A49&\"1\",管計5,2,FALSE)),\"\",VLOOKUP(A49&\"1\",管計5,2,FALSE)))","v":""},{"$f":"IF(ISNA(VLOOKUP($A49,管理計画Q5,4,FALSE)),\"\",VLOOKUP($A49,管理計画Q5,4,FALSE))","v":""}]
[null,null,null,{"$f":"IF(C56=\"\",\"\",\"対象薬剤製薬企業等の在籍者の特定役務への従事の有無\")","v":""},{"$f":"IF(A49=\"\",\"\",IF(ISNA(VLOOKUP(A49&\"2\",管計5,2,FALSE)),\"\",VLOOKUP(A49&\"2\",管計5,2,FALSE)))","v":""}]
[{"$f":"IF(ISNA(VLOOKUP(5,'様式B'!$A$15:$F$41,6,FALSE)),\"\",VLOOKUP(5,'様式B'!$A$15:$F$41,6,FALSE))","v":""},null,{"$f":"IF(F58=\"\",\"\",\"研究資金等を提供(Q2)\")","v":""},{"$f":"IF(C58=\"\",\"\",\"研究費の受入形態\")","v":""},{"$f":"IF(A58=\"\",\"\",IF(ISNA(VLOOKUP(A58&\"1\",管計2,2,FALSE)),\"\",VLOOKUP(A58&\"1\",管計2,2,FALSE)))","v":""},{"$f":"IF(ISNA(VLOOKUP(A58,管理計画Q2,4,FALSE)),\"\",VLOOKUP(A58,管理計画Q2,4,FALSE))","v":""}]
[null,null,null,{"$f":"IF(C58=\"\",\"\",\"受入方法\")","v":""},{"$f":"IF(A58=\"\",\"\",IF(ISNA(VLOOKUP(A58&\"2\",管計2,2,FALSE)),\"\",VLOOKUP(A58&\"2\",管計2,2,FALSE)))","v":""}]
[null,null,null,{"$f":"IF(C58=\"\",\"\",\"受入金額\")","v":""},{"$f":"IF(A58=\"\",\"\",IF(ISNA(VLOOKUP(A58&\"3\",管計2,2,FALSE)),\"\",VLOOKUP(A58&\"3\",管計2,2,FALSE)))","v":""}]
[null,null,null,{"$f":"IF(C58=\"\",\"\",\"契約締結状況\")","v":""},{"$f":"IF(A58=\"\",\"\",IF(ISNA(VLOOKUP(A58&\"4\",管計2,2,FALSE)),\"\",VLOOKUP(A58&\"4\",管計2,2,FALSE)))","v":""}]
[null,null,{"$f":"IF(F62=\"\",\"\",\"物品、施設等の提供・貸与(Q3)\")","v":""},{"$f":"IF(C62=\"\",\"\",\"物品、施設等の内容\")","v":""},{"$f":"IF(A58=\"\",\"\",IF(ISNA(VLOOKUP(A58,管計3,2,FALSE)),\"\",VLOOKUP(A58,管計3,2,FALSE)))","v":""},{"$f":"IF(ISNA(VLOOKUP($A58,管理計画Q3,4,FALSE)),\"\",VLOOKUP($A58,管理計画Q3,4,FALSE))","v":""}]
[null,null,{"$f":"IF(F63=\"\",\"\",\"役務提供(Q4)\")","v":""},{"$f":"IF(C63=\"\",\"\",\"受領する役務の内容\")","v":""},{"$f":"IF(A58=\"\",\"\",IF(ISNA(VLOOKUP(A58&\"1\",管計4,2,FALSE)),\"\",VLOOKUP(A58&\"1\",管計4,2,FALSE)))","v":""},{"$f":"IF(ISNA(VLOOKUP($A58,管理計画Q4,4,FALSE)),\"\",VLOOKUP($A58,管理計画Q4,4,FALSE))","v":""}]
[null,null,null,{"$f":"IF(C63=\"\",\"\",\"対象薬剤製薬企業の特定役務への関与の有無\")","v":""},{"$f":"IF(A58=\"\",\"\",IF(ISNA(VLOOKUP(A58&\"2\",管計4,2,FALSE)),\"\",VLOOKUP(A58&\"2\",管計4,2,FALSE)))","v":""}]
[null,null,{"$f":"IF(F65=\"\",\"\",\"製薬企業等の在籍者の従事(Q5)\")","v":""},{"$f":"IF(C65=\"\",\"\",\"製薬企業等の在籍者の従事の内容\")","v":""},{"$f":"IF(A58=\"\",\"\",IF(ISNA(VLOOKUP(A58&\"1\",管計5,2,FALSE)),\"\",VLOOKUP(A58&\"1\",管計5,2,FALSE)))","v":""},{"$f":"IF(ISNA(VLOOKUP($A58,管理計画Q5,4,FALSE)),\"\",VLOOKUP($A58,管理計画Q5,4,FALSE))","v":""}]
[null,null,null,{"$f":"IF(C65=\"\",\"\",\"対象薬剤製薬企業等の在籍者の特定役務への従事の有無\")","v":""},{"$f":"IF(A58=\"\",\"\",IF(ISNA(VLOOKUP(A58&\"2\",管計5,2,FALSE)),\"\",VLOOKUP(A58&\"2\",管計5,2,FALSE)))","v":""}]
[]
["本研究に関与する対象薬剤製薬企業等との利益相反管理計画（研究者個人に対する関与）"]
["本研究の対象薬剤製薬企業等の名称：",null,{"$f":"'使用不可_選択肢'!A22","v":""}]
["様式Cの提出が必要な全ての利益相反申告者について、"]
["立場","氏名","COI状況","COI管理計画 (管理計画はプルダウンで選択後、自由記載の場合のみ手入力してください）",null,null,null,null,null,null,"研究計画書へのCOI記載※","説明文書でのCOI開示※"]
[null,null,null,null,{"$f":"IF(D72=\"基準1\",\"基準１に従い研究計画書及び説明文書に記載し、研究結果の公表時に開示する。\",IF(D72=\"基準1と4と5\",\"基準１に従い研究計画書及び説明文書に記載し、研究結果の公表時に開示する。基準４と５に従い研究責任医師となることの妥当性、監査の必要性及び従事する業務を適切に管理する。\",IF(D72=\"基準1と6\",\"基準１に従い研究計画書及び説明文書に記載し、研究結果の公表時に開示する。基準６に従い従事する業務を適切に管理する。\",IF(D72=\"基準1と7\",\"基準１に従い研究計画書及び説明文書に記載し、研究結果の公表時に開示する。基準７に従い従事する業務を適切に管理する。\",IF(D72=\"助言・勧告（自由記載）\",\"\",\"\")))))","v":""}]
[null,null,null,null,""]
[null,null,null,null,""]
[null,null,null,null,""]
[null,null,null,null,""]
[null,null,null,null,""]
[null,null,null,null,""]
[null,null,null,null,""]
[]
["本研究の対象薬剤製薬企業等の名称：",null,{"$f":"'使用不可_選択肢'!A23","v":""}]
["様式Cの提出が必要な全ての利益相反申告者について、"]
["立場","氏名","COI状況","COI管理計画 (管理計画はプルダウンで選択後、自由記載の場合のみ手入力してください）",null,null,null,null,null,null,"研究計画書へのCOI記載※","説明文書でのCOI開示※"]
[null,null,null,null,{"$f":"IF(D84=\"基準1\",\"基準１に従い研究計画書及び説明文書に記載し、研究結果の公表時に開示する。\",IF(D84=\"基準1と4と5\",\"基準１に従い研究計画書及び説明文書に記載し、研究結果の公表時に開示する。基準４と５に従い研究責任医師となることの妥当性、監査の必要性及び従事する業務を適切に管理する。\",IF(D84=\"基準1と6\",\"基準１に従い研究計画書及び説明文書に記載し、研究結果の公表時に開示する。基準６に従い従事する業務を適切に管理する。\",IF(D84=\"基準1と7\",\"基準１に従い研究計画書及び説明文書に記載し、研究結果の公表時に開示する。基準７に従い従事する業務を適切に管理する。\",IF(D84=\"助言・勧告（自由記載）\",\"\",\"\")))))","v":""}]
[null,null,null,null,""]
[null,null,null,null,""]
[null,null,null,null,""]
[null,null,null,null,""]
[null,null,null,null,""]
[null,null,null,null,""]
[null,null,null,null,""]
[]
["本研究の対象薬剤製薬企業等の名称：",null,{"$f":"'使用不可_選択肢'!A24","v":""}]
["様式Cの提出が必要な全ての利益相反申告者について、"]
["立場","氏名","COI状況","COI管理計画 (管理計画はプルダウンで選択後、自由記載の場合のみ手入力してください）",null,null,null,null,null,null,"研究計画書へのCOI記載※","説明文書でのCOI開示※"]
[null,null,null,null,{"$f":"IF(D96=\"基準1\",\"基準１に従い研究計画書及び説明文書に記載し、研究結果の公表時に開示する。\",IF(D96=\"基準1と4と5\",\"基準１に従い研究計画書及び説明文書に記載し、研究結果の公表時に開示する。基準４と５に従い研究責任医師となることの妥当性、監査の必要性及び従事する業務を適切に管理する。\",IF(D96=\"基準1と6\",\"基準１に従い研究計画書及び説明文書に記載し、研究結果の公表時に開示する。基準６に従い従事する業務を適切に管理する。\",IF(D96=\"基準1と7\",\"基準１に従い研究計画書及び説明文書に記載し、研究結果の公表時に開示する。基準７に従い従事する業務を適切に管理する。\",IF(D96=\"助言・勧告（自由記載）\",\"\",\"\")))))","v":""}]
[null,null,null,null,""]
[null,null,null,null,""]
[null,null,null,null,""]
[null,null,null,null,""]
[null,null,null,null,""]
[null,null,null,null,""]
[null,null,null,null,""]
[]
["本研究の対象薬剤製薬企業等の名称：",null,{"$f":"'使用不可_選択肢'!A25","v":""}]
["様式Cの提出が必要な全ての利益相反申告者について、"]
["立場","氏名","COI状況","COI管理計画 (管理計画はプルダウンで選択後、自由記載の場合のみ手入力してください）",null,null,null,null,null,null,"研究計画書へのCOI記載※","説明文書でのCOI開示※"]
[null,null,null,null,{"$f":"IF(D108=\"基準1\",\"基準１に従い研究計画書及び説明文書に記載し、研究結果の公表時に開示する。\",IF(D108=\"基準1と4と5\",\"基準１に従い研究計画書及び説明文書に記載し、研究結果の公表時に開示する。基準４と５に従い研究責任医師となることの妥当性、監査の必要性及び従事する業務を適切に管理する。\",IF(D108=\"基準1と6\",\"基準１に従い研究計画書及び説明文書に記載し、研究結果の公表時に開示する。基準６に従い従事する業務を適切に管理する。\",IF(D108=\"基準1と7\",\"基準１に従い研究計画書及び説明文書に記載し、研究結果の公表時に開示する。基準７に従い従事する業務を適切に管理する。\",IF(D108=\"助言・勧告（自由記載）\",\"\",\"\")))))","v":""}]
[null,null,null,null,""]
[null,null,null,null,""]
[null,null,null,null,""]
[null,null,null,null,""]
[null,null,null,null,""]
[null,null,null,null,""]
[null,null,null,null,""]
[]
["本研究の対象薬剤製薬企業等の名称："]
["様式Cの提出が必要な全ての利益相反申告者について、"]
["立場","氏名","COI状況","COI管理計画 (管理計画はプルダウンで選択後、自由記載の場合のみ手入力してください）",null,null,null,null,null,null,"研究計画書へのCOI記載※","説明文書でのCOI開示※"]
[null,null,null,null,{"$f":"IF(D120=\"基準1\",\"基準１に従い研究計画書及び説明文書に記載し、研究結果の公表時に開示する。\",IF(D120=\"基準1と4と5\",\"基準１に従い研究計画書及び説明文書に記載し、研究結果の公表時に開示する。基準４と５に従い研究責任医師となることの妥当性、監査の必要性及び従事する業務を適切に管理する。\",IF(D120=\"基準1と6\",\"基準１に従い研究計画書及び説明文書に記載し、研究結果の公表時に開示する。基準６に従い従事する業務を適切に管理する。\",IF(D120=\"基準1と7\",\"基準１に従い研究計画書及び説明文書に記載し、研究結果の公表時に開示する。基準７に従い従事する業務を適切に管理する。\",IF(D120=\"助言・勧告（自由記載）\",\"\",\"\")))))","v":""}]
[null,null,null,null,""]
[null,null,null,null,""]
[null,null,null,null,""]
[null,null,null,null,""]
[null,null,null,null,""]
[null,null,null,null,""]
[null,null,null,null,""]
[]
[]
[]
[null,null,"（COI状況：選択肢）"]
[null,null,"Q1：寄附金の総額が年間200万円超"]
[null,null,"Q2：（本人）寄付講座に所属（給与無し）"]
[null,null,"Q2：（本人）寄付講座に所属（給与有り"]
[null,null,"Q3：（本人）年間100万円以上の個人的利益関係"]
[null,null,"Q3：（本人）年間250万円以上の個人的利益関係"]
[null,null,"Q3：（家族）年間100万円以上の個人的利益関係"]
[null,null,"Q3：（家族）年間250万円以上の個人的利益関係"]
[null,null,"Q4：（本人）役員等への就任"]
[null,null,"Q4：（家族）役員等への就任,"]
[null,null,"Q5：（本人）企業への出資"]
[null,null,"Q5：（本人）株式の保有"]
[null,null,"Q5：（家族）企業への出資"]
[null,null,"Q5：（家族）株式の保有"]
[null,null,"Q6：（本人）その他利益関係"]
[null,null,"Q6：（本人）知的財産への関与"]
[null,null,"Q6：（家族）その他利益関係"]
[null,null,"Q7：（家族）知的財産への関与"]

{"sheet":"様式X","index":7,"n_rows":26,"n_cols":19,"rows_kept":26,"cut":false,"hidden":false,"merged":[[1,0,1,14],[4,1,5,1],[4,2,5,7],[6,2,6,3],[9,4,9,6],[9,10,9,12],[10,10,10,12],[15,9,15,14],[15,15,15,16],[18,1,18,2],[19,1,19,2],[20,1,20,2],[21,1,21,2],[22,1,22,2],[23,1,23,2],[24,1,24,2],[25,1,25,2],[10,4,10,6],[11,4,11,6],[11,10,11,12],[12,4,12,6],[12,10,12,12],[15,1,17,2],[15,3,15,8]]}
[null,null,null,null,null,null,null,null,null,null,null,null,null,null,null,null,"ver1.0"]
["様式X　利益相反申告書"]
[]
[]
[null,"研究課題：",{"$f":"IF('様式A'!B10=\"\",\"\",'様式A'!B10)","v":""}]
[]
[null,"統括管理者：",{"$f":"IF('様式A'!F8=\"\",\"\",'様式A'!F8)","v":""}]
[]
[null,null,null,"本研究に関与する製薬企業等について"]
[null,null,null,1.0,null,null,null,null,null,5.0]
[null,null,null,2.0,null,null,null,null,null,6.0]
[null,null,null,3.0,null,null,null,null,null,7.0]
[null,null,null,4.0,null,null,null,null,null,8.0]
[]
[null,"Q1. 寄付された寄附金（＊注１）の合算が1,000万円以上か？　（注１：奨学寄附金、一般等寄附金、学会等寄附金、学会等共済費）"]
[null,"本研究に関与する製薬企業等の名称",null,"前年度",null,null,null,null,null,"今年度",null,null,null,null,null,"管理計画"]
[null,null,null,"有無","　合計金額　（千円）",null,null,null,null,"有無","　合計金額　（千円）"]
[null,null,null,null,null,"奨学寄附金","一般等寄附金","学会等寄附金","学会等共済費",null,null,"奨学寄附金","一般等寄附金","学会等寄附金","学会等共済費",null,null,"前年度合計","今年度合計"]
[null,{"$f":"IF(E10=\"\",\"\",E10)","v":""},null,null,{"$f":"IF(D19=\"はい\",SUM(F19:I19),\"\")","v":""},null,null,null,null,null,{"$f":"IF(J19=\"はい\",SUM(L19:O19),\"\")","v":""},null,null,null,null,{"$f":"IF(Q19=\"基準1と基準5\",\"基準１に従い研究計画書及び説明文書に記載し、研究結果の公表時に開示する。基準5に従い研究期間中に監査を受ける。\",\"\")","v":""},{"$f":"IF(B19=\"\",\"\",IF(AND(D19=\"いいえ\",J19=\"いいえ\"),\"---\",IF(OR($R19>=10000,$S19>=10000),\"基準1と基準5\",\"---\")))","v":""},{"$f":"SUM(F19:I19)","v":0},{"$f":"SUM(L19:O19)","v":0}]
[null,"",null,null,"",null,null,null,null,null,"",null,null,null,null,"","",0,0]
[null,"",null,null,"",null,null,null,null,null,"",null,null,null,null,"","",0,0]
[null,"",null,null,"",null,null,null,null,null,"",null,null,null,null,"","",0,0]
[null,null,null,null,null,null,null,null,null,null,"",null,null,null,null,"","",0,0]
[null,{"$f":"IF(K11=\"\",\"\",K11)","v":""},null,null,{"$f":"IF(D24=\"はい\",SUM(F24:I24),\"\")","v":""},null,null,null,null,null,"",null,null,null,null,"","",0,0]
[null,"",null,null,"",null,null,null,null,null,"",null,null,null,null,"","",0,0]
[null,"",null,null,"",null,null,null,null,null,"",null,null,null,null,"","",0,0]

{"sheet":"ver履歴","index":8,"n_rows":3,"n_cols":3,"rows_kept":3,"cut":false,"hidden":false,"merged":[]}
[]
[]
[null,"version","修正箇所"]

{"sheet":"使用不可_選択肢","index":9,"n_rows":35,"n_cols":9,"rows_kept":35,"cut":false,"hidden":true,"merged":[]}
[]
["【様式B】",null,null,null,null,"企業名","企業名2","詳細","管理計画"]
["基準1","基準１に従い研究計画書及び説明文書に記載し、研究結果の公表時に開示する。",null,12.0,"Q1",{"$f":"IF('様式B'!F10=\"\",\"\",'様式B'!F10)","v":""},{"$f":"IF('様式B'!F10=\"\",\"\",'様式B'!F10)","v":""},{"$f":"IF('様式B'!H10=\"\",\"\",'様式B'!H10)","v":""},{"$f":"IF('様式B'!I10=\"\",\"\",'様式B'!I10)","v":""}]
["基準1と2","基準１に従い研究計画書及び説明文書に記載し、研究結果の公表時に開示する。基準2に従い法第32条に基づき必要な契約を締結する。",null,13.0,null,{"$f":"IF('様式B'!F11=\"\",\"\",'様式B'!F11)","v":""},{"$f":"IF('様式B'!F11=\"\",\"\",'様式B'!F11)","v":""},{"$f":"IF('様式B'!H11=\"\",\"\",'様式B'!H11)","v":""},{"$f":"IF('様式B'!I11=\"\",\"\",'様式B'!I11)","v":""}]
["！基準2","！違反です。基準2に従い法第32条に基づき必要な契約を締結する必要があります！",null,14.0,null,{"$f":"IF('様式B'!F12=\"\",\"\",'様式B'!F12)","v":""},{"$f":"IF('様式B'!F12=\"\",\"\",'様式B'!F12)","v":""},{"$f":"IF('様式B'!H12=\"\",\"\",'様式B'!H12)","v":""},{"$f":"IF('様式B'!I12=\"\",\"\",'様式B'!I12)","v":""}]
["基準1と8","基準１に従い研究計画書及び説明文書に記載し、研究結果の公表時に開示する。基準8に従い対象薬剤製薬企業等の在籍者の従事する業務及び監査の必要性を適切に管理する。",null,15.0,null,{"$f":"IF('様式B'!F13=\"\",\"\",'様式B'!F13)","v":""},{"$f":"IF('様式B'!F13=\"\",\"\",'様式B'!F13)","v":""},{"$f":"IF('様式B'!H13=\"\",\"\",'様式B'!H13)","v":""},{"$f":"IF('様式B'!I13=\"\",\"\",'様式B'!I13)","v":""}]
["基準8を満たさない","！違反です。基準8に従い対象薬剤製薬企業等の在籍者はデータ管理、統計・解析以外の特定役務には従事させることができません！",null,15.0,null,{"$f":"IF('様式B'!F14=\"\",\"\",'様式B'!F14)","v":""},{"$f":"IF('様式B'!F14=\"\",\"\",'様式B'!F14)","v":""},{"$f":"IF('様式B'!H14=\"\",\"\",'様式B'!H14)","v":""},{"$f":"IF('様式B'!I14=\"\",\"\",'様式B'!I14)","v":""}]
[null,null,null,16.0,"Q2",{"$f":"IF('様式B'!F15=\"\",\"\",'様式B'!F15)","v":""},{"$f":"F8&1","v":"1"},{"$f":"IF('様式B'!H15=\"\",\"\",'様式B'!H15)","v":""},{"$f":"IF('様式B'!I15=\"\",\"\",'様式B'!I15)","v":""}]
[null,null,null,null,null,null,{"$f":"F8&2","v":"2"},{"$f":"IF('様式B'!H16=\"\",\"\",'様式B'!H16)","v":""},{"$f":"IF('様式B'!I16=\"\",\"\",'様式B'!I16)","v":""}]
["【様式C】",null,null,null,null,null,{"$f":"F8&3","v":"3"},{"$f":"IF('様式B'!H17=\"\",\"\",'様式B'!H17)","v":""},{"$f":"IF('様式B'!I17=\"\",\"\",'様式B'!I17)","v":""}]
["基準1","基準１に従い研究計画書及び説明文書に記載し、研究結果の公表時に開示する。",null,null,null,null,{"$f":"F8&4","v":"4"},{"$f":"IF('様式B'!H18=\"\",\"\",'様式B'!H18)","v":""},{"$f":"IF('様式B'!I18=\"\",\"\",'様式B'!I18)","v":""}]
["基準1と4と5","基準１に従い研究計画書及び説明文書に記載し、研究結果の公表時に開示する。基準４と５に従い研究責任医師となることの妥当性、監査の必要性及び従事する業務を適切に管理する。",null,null,null,{"$f":"IF('様式B'!F19=\"\",\"\",'様式B'!F19)","v":""},{"$f":"F12&1","v":"1"},{"$f":"IF('様式B'!H19=\"\",\"\",'様式B'!H19)","v":""},{"$f":"IF('様式B'!I19=\"\",\"\",'様式B'!I19)","v":""}]
["基準1と6","基準１に従い研究計画書及び説明文書に記載し、研究結果の公表時に開示する。基準６に従い従事する業務を適切に管理する。",null,null,null,null,{"$f":"F12&2","v":"2"},{"$f":"IF('様式B'!H20=\"\",\"\",'様式B'!H20)","v":""},{"$f":"IF('様式B'!I20=\"\",\"\",'様式B'!I20)","v":""}]
["基準1と7","基準１に従い研究計画書及び説明文書に記載し、研究結果の公表時に開示する。基準７に従い従事する業務を適切に管理する。",null,null,null,null,{"$f":"F12&3","v":"3"},{"$f":"IF('様式B'!H21=\"\",\"\",'様式B'!H21)","v":""},{"$f":"IF('様式B'!I21=\"\",\"\",'様式B'!I21)","v":""}]
["助言・勧告（自由記載）","　",null,null,null,null,{"$f":"F12&4","v":"4"},{"$f":"IF('様式B'!H22=\"\",\"\",'様式B'!H22)","v":""},{"$f":"IF('様式B'!I22=\"\",\"\",'様式B'!I22)","v":""}]
[null,null,null,null,null,{"$f":"IF('様式B'!F23=\"\",\"\",'様式B'!F23)","v":""},{"$f":"F16&1","v":"1"},{"$f":"IF('様式B'!H23=\"\",\"\",'様式B'!H23)","v":""},{"$f":"IF('様式B'!I23=\"\",\"\",'様式B'!I23)","v":""}]
[null,null,null,null,null,null,{"$f":"F16&2","v":"2"},{"$f":"IF('様式B'!H24=\"\",\"\",'様式B'!H24)","v":""},{"$f":"IF('様式B'!I24=\"\",\"\",'様式B'!I24)","v":""}]
[null,null,null,17.0,null,null,{"$f":"F16&3","v":"3"},{"$f":"IF('様式B'!H25=\"\",\"\",'様式B'!H25)","v":""},{"$f":"IF('様式B'!I25=\"\",\"\",'様式B'!I25)","v":""}]
[null,null,null,21.0,null,null,{"$f":"F16&4","v":"4"},{"$f":"IF('様式B'!H26=\"\",\"\",'様式B'!H26)","v":""},{"$f":"IF('様式B'!I26=\"\",\"\",'様式B'!I26)","v":""}]
[null,null,null,25.0,"Q3",{"$f":"IF('様式B'!F27=\"\",\"\",'様式B'!F27)","v":""},{"$f":"IF('様式B'!F27=\"\",\"\",'様式B'!F27)","v":""},{"$f":"IF('様式B'!H27=\"\",\"\",'様式B'!H27)","v":""},{"$f":"IF('様式B'!I27=\"\",\"\",'様式B'!I27)","v":""}]
["【様式BのQ1が”はい”の先】",null,null,29.0,null,{"$f":"IF('様式B'!F28=\"\",\"\",'様式B'!F28)","v":""},{"$f":"IF('様式B'!F28=\"\",\"\",'様式B'!F28)","v":""},{"$f":"IF('様式B'!H28=\"\",\"\",'様式B'!H28)","v":""},{"$f":"IF('様式B'!I28=\"\",\"\",'様式B'!I28)","v":""}]
[{"$f":"IF('様式B'!F10=\"\",\"\",'様式B'!F10)","v":""},null,null,31.0,null,{"$f":"IF('様式B'!F29=\"\",\"\",'様式B'!F29)","v":""},{"$f":"IF('様式B'!F29=\"\",\"\",'様式B'!F29)","v":""},{"$f":"IF('様式B'!H29=\"\",\"\",'様式B'!H29)","v":""},{"$f":"IF('様式B'!I29=\"\",\"\",'様式B'!I29)","v":""}]
[{"$f":"IF('様式B'!F11=\"\",\"\",'様式B'!F11)","v":""},null,null,33.0,"Q4",{"$f":"IF('様式B'!F30=\"\",\"\",'様式B'!F30)","v":""},{"$f":"F23&1","v":"1"},{"$f":"IF('様式B'!H30=\"\",\"\",'様式B'!H30)","v":""},{"$f":"IF('様式B'!I30=\"\",\"\",'様式B'!I30)","v":""}]
[{"$f":"IF('様式B'!F12=\"\",\"\",'様式B'!F12)","v":""},null,null,null,null,null,{"$f":"F23&2","v":"2"},{"$f":"IF('様式B'!H31=\"\",\"\",'様式B'!H31)","v":""},{"$f":"IF('様式B'!I31=\"\",\"\",'様式B'!I31)","v":""}]
[{"$f":"IF('様式B'!F13=\"\",\"\",'様式B'!F13)","v":""},null,null,null,null,{"$f":"IF('様式B'!F32=\"\",\"\",'様式B'!F32)","v":""},{"$f":"F25&1","v":"1"},{"$f":"IF('様式B'!H32=\"\",\"\",'様式B'!H32)","v":""},{"$f":"IF('様式B'!I32=\"\",\"\",'様式B'!I32)","v":""}]
[{"$f":"IF('様式B'!F14=\"\",\"\",'様式B'!F14)","v":""},null,null,null,null,null,{"$f":"F25&2","v":"2"},{"$f":"IF('様式B'!H33=\"\",\"\",'様式B'!H33)","v":""},{"$f":"IF('様式B'!I33=\"\",\"\",'様式B'!I33)","v":""}]
[null,null,null,35.0,null,{"$f":"IF('様式B'!F34=\"\",\"\",'様式B'!F34)","v":""},{"$f":"F27&1","v":"1"},{"$f":"IF('様式B'!H34=\"\",\"\",'様式B'!H34)","v":""},{"$f":"IF('様式B'!I34=\"\",\"\",'様式B'!I34)","v":""}]
[null,null,null,38.0,null,null,{"$f":"F27&2","v":"2"},{"$f":"IF('様式B'!H35=\"\",\"\",'様式B'!H35)","v":""},{"$f":"IF('様式B'!I35=\"\",\"\",'様式B'!I35)","v":""}]
[null,null,null,41.0,"Q5",{"$f":"IF('様式B'!F36=\"\",\"\",'様式B'!F36)","v":""},{"$f":"F29&1","v":"1"},{"$f":"IF('様式B'!H36=\"\",\"\",'様式B'!H36)","v":""},{"$f":"IF('様式B'!I36=\"\",\"\",'様式B'!I36)","v":""}]
[null,null,null,null,null,null,{"$f":"F29&2","v":"2"},{"$f":"IF('様式B'!H37=\"\",\"\",'様式B'!H37)","v":""},{"$f":"IF('様式B'!I37=\"\",\"\",'様式B'!I37)","v":""}]
[null,null,null,null,null,{"$f":"IF('様式B'!F38=\"\",\"\",'様式B'!F38)","v":""},{"$f":"F31&1","v":"1"},{"$f":"IF('様式B'!H38=\"\",\"\",'様式B'!H38)","v":""},{"$f":"IF('様式B'!I38=\"\",\"\",'様式B'!I38)","v":""}]
[null,null,null,null,null,null,{"$f":"F31&2","v":"2"},{"$f":"IF('様式B'!H39=\"\",\"\",'様式B'!H39)","v":""},{"$f":"IF('様式B'!I39=\"\",\"\",'様式B'!I39)","v":""}]
[null,null,null,44.0,null,{"$f":"IF('様式B'!F40=\"\",\"\",'様式B'!F40)","v":""},{"$f":"F33&1","v":"1"},{"$f":"IF('様式B'!H40=\"\",\"\",'様式B'!H40)","v":""},{"$f":"IF('様式B'!I40=\"\",\"\",'様式B'!I40)","v":""}]
[null,null,null,47.0,null,null,{"$f":"F33&2","v":"2"},{"$f":"IF('様式B'!H41=\"\",\"\",'様式B'!H41)","v":""},{"$f":"IF('様式B'!I41=\"\",\"\",'様式B'!I41)","v":""}]
[null,null,null,50.0]