{"text_format":"1","workbook":"xlsx","n_sheets":4,"sheets":["名簿","システム取込用","全学団体","医学部団体"],"not_rendered":{"charts":0,"images":0,"macros":1,"external_links":0,"defined_names":19,"comments":0,"pivot_tables":0},"unopened":[],"bounds":{"document_bytes":16777216,"sheet_cells":100000,"rows_first":2000,"rows_last":500,"rows_between":2000,"halvings":0,"cell_chars":16384,"cell_head_chars":4096},"cells_cut":0,"cells_raw":0,"read":"whole","date_system":"1900"}

{"sheet":"名簿","index":0,"n_rows":262,"n_cols":6,"rows_kept":262,"cut":false,"hidden":false,"merged":[[5,1,5,3],[4,1,4,3],[3,1,3,3],[1,1,1,3],[8,1,8,3],[2,1,2,3]]}
["継続団体"]
["所属","松本キャンパス"]
["全学・医学"]
["学友会の所属"]
["活動区分"]
["団体名"]
[]
["新規団体"]
["団体名"]
[]
["所属学生名簿"]
["団体名（自動入力）","コード（自動入力）","学籍番号","氏名","年度（自動入力）","番号"]
[{"$f":"IF(C13<>\"\", $B$6&$B$9, \"\")","v":""},{"$f":"IF(C13<>\"\", IFERROR(VLOOKUP($B$6,全学団体!$E$2:$F$161,2,FALSE), IFERROR(VLOOKUP($B$6,医学部団体!$E$2:$F$47,2,FALSE), 0)), \"\")","v":""},null,null,{"$f":"IF(C13<>\"\", 2026, \"\")","v":""},1]
[{"$f":"IF(C14<>\"\", $B$6&$B$9, \"\")","v":""},{"$f":"IF(C14<>\"\", IFERROR(VLOOKUP($B$6,全学団体!$E$2:$F$161,2,FALSE), IFERROR(VLOOKUP($B$6,医学部団体!$E$2:$F$47,2,FALSE), 0)), \"\")","v":""},null,null,"",2]
[{"$f":"IF(C15<>\"\", $B$6&$B$9, \"\")","v":""},{"$f":"IF(C15<>\"\", IFERROR(VLOOKUP($B$6,全学団体!$E$2:$F$161,2,FALSE), IFERROR(VLOOKUP($B$6,医学部団体!$E$2:$F$47,2,FALSE), 0)), \"\")","v":""},null,null,"",3]
[{"$f":"IF(C16<>\"\", $B$6&$B$9, \"\")","v":""},{"$f":"IF(C16<>\"\", IFERROR(VLOOKUP($B$6,全学団体!$E$2:$F$161,2,FALSE), IFERROR(VLOOKUP($B$6,医学部団体!$E$2:$F$47,2,FALSE), 0)), \"\")","v":""},null,null,"",4]
[{"$f":"IF(C17<>\"\", $B$6&$B$9, \"\")","v":""},{"$f":"IF(C17<>\"\", IFERROR(VLOOKUP($B$6,全学団体!$E$2:$F$161,2,FALSE), IFERROR(VLOOKUP($B$6,医学部団体!$E$2:$F$47,2,FALSE), 0)), \"\")","v":""},null,null,"",5]
[{"$f":"IF(C18<>\"\", $B$6&$B$9, \"\")","v":""},{"$f":"IF(C18<>\"\", IFERROR(VLOOKUP($B$6,全学団体!$E$2:$F$161,2,FALSE), IFERROR(VLOOKUP($B$6,医学部団体!$E$2:$F$47,2,FALSE), 0)), \"\")","v":""},null,null,"",6]
["",{"$f":"IF(C19<>\"\", IFERROR(VLOOKUP($B$6,全学団体!$E$2:$F$161,2,FALSE), IFERROR(VLOOKUP($B$6,医学部団体!$E$2:$F$47,2,FALSE), 0)), \"\")","v":""},null,null,"",7]
["",{"$f":"IF(C20<>\"\", IFERROR(VLOOKUP($B$6,全学団体!$E$2:$F$161,2,FALSE), IFERROR(VLOOKUP($B$6,医学部団体!$E$2:$F$47,2,FALSE), 0)), \"\")","v":""},null,null,"",8]
["",{"$f":"IF(C21<>\"\", IFERROR(VLOOKUP($B$6,全学団体!$E$2:$F$161,2,FALSE), IFERROR(VLOOKUP($B$6,医学部団体!$E$2:$F$47,2,FALSE), 0)), \"\")","v":""},null,null,"",9]
["",{"$f":"IF(C22<>\"\", IFERROR(VLOOKUP($B$6,全学団体!$E$2:$F$161,2,FALSE), IFERROR(VLOOKUP($B$6,医学部団体!$E$2:$F$47,2,FALSE), 0)), \"\")","v":""},null,null,"",10]
["",{"$f":"IF(C23<>\"\", IFERROR(VLOOKUP($B$6,全学団体!$E$2:$F$161,2,FALSE), IFERROR(VLOOKUP($B$6,医学部団体!$E$2:$F$47,2,FALSE), 0)), \"\")","v":""},null,null,"",11]
["",{"$f":"IF(C24<>\"\", IFERROR(VLOOKUP($B$6,全学団体!$E$2:$F$161,2,FALSE), IFERROR(VLOOKUP($B$6,医学部団体!$E$2:$F$47,2,FALSE), 0)), \"\")","v":""},null,null,"",12]
["",{"$f":"IF(C25<>\"\", IFERROR(VLOOKUP($B$6,全学団体!$E$2:$F$161,2,FALSE), IFERROR(VLOOKUP($B$6,医学部団体!$E$2:$F$47,2,FALSE), 0)), \"\")","v":""},null,null,"",13]
["",{"$f":"IF(C26<>\"\", IFERROR(VLOOKUP($B$6,全学団体!$E$2:$F$161,2,FALSE), IFERROR(VLOOKUP($B$6,医学部団体!$E$2:$F$47,2,FALSE), 0)), \"\")","v":""},null,null,"",14]
["",{"$f":"IF(C27<>\"\", IFERROR(VLOOKUP($B$6,全学団体!$E$2:$F$161,2,FALSE), IFERROR(VLOOKUP($B$6,医学部団体!$E$2:$F$47,2,FALSE), 0)), \"\")","v":""},null,null,"",15]
["",{"$f":"IF(C28<>\"\", IFERROR(VLOOKUP($B$6,全学団体!$E$2:$F$161,2,FALSE), IFERROR(VLOOKUP($B$6,医学部団体!$E$2:$F$47,2,FALSE), 0)), \"\")","v":""},null,null,"",16]
["",{"$f":"IF(C29<>\"\", IFERROR(VLOOKUP($B$6,全学団体!$E$2:$F$161,2,FALSE), IFERROR(VLOOKUP($B$6,医学部団体!$E$2:$F$47,2,FALSE), 0)), \"\")","v":""},null,null,"",17]
["",{"$f":"IF(C30<>\"\", IFERROR(VLOOKUP($B$6,全学団体!$E$2:$F$161,2,FALSE), IFERROR(VLOOKUP($B$6,医学部団体!$E$2:$F$47,2,FALSE), 0)), \"\")","v":""},null,null,"",18]
["",{"$f":"IF(C31<>\"\", IFERROR(VLOOKUP($B$6,全学団体!$E$2:$F$161,2,FALSE), IFERROR(VLOOKUP($B$6,医学部団体!$E$2:$F$47,2,FALSE), 0)), \"\")","v":""},null,null,"",19]
["",{"$f":"IF(C32<>\"\", IFERROR(VLOOKUP($B$6,全学団体!$E$2:$F$161,2,FALSE), IFERROR(VLOOKUP($B$6,医学部団体!$E$2:$F$47,2,FALSE), 0)), \"\")","v":""},null,null,"",20]
["",{"$f":"IF(C33<>\"\", IFERROR(VLOOKUP($B$6,全学団体!$E$2:$F$161,2,FALSE), IFERROR(VLOOKUP($B$6,医学部団体!$E$2:$F$47,2,FALSE), 0)), \"\")","v":""},null,null,"",21]
["",{"$f":"IF(C34<>\"\", IFERROR(VLOOKUP($B$6,全学団体!$E$2:$F$161,2,FALSE), IFERROR(VLOOKUP($B$6,医学部団体!$E$2:$F$47,2,FALSE), 0)), \"\")","v":""},null,null,"",22]
["",{"$f":"IF(C35<>\"\", IFERROR(VLOOKUP($B$6,全学団体!$E$2:$F$161,2,FALSE), IFERROR(VLOOKUP($B$6,医学部団体!$E$2:$F$47,2,FALSE), 0)), \"\")","v":""},null,null,"",23]
["",{"$f":"IF(C36<>\"\", IFERROR(VLOOKUP($B$6,全学団体!$E$2:$F$161,2,FALSE), IFERROR(VLOOKUP($B$6,医学部団体!$E$2:$F$47,2,FALSE), 0)), \"\")","v":""},null,null,"",24]
["",{"$f":"IF(C37<>\"\", IFERROR(VLOOKUP($B$6,全学団体!$E$2:$F$161,2,FALSE), IFERROR(VLOOKUP($B$6,医学部団体!$E$2:$F$47,2,FALSE), 0)), \"\")","v":""},null,null,"",25]
["",{"$f":"IF(C38<>\"\", IFERROR(VLOOKUP($B$6,全学団体!$E$2:$F$161,2,FALSE), IFERROR(VLOOKUP($B$6,医学部団体!$E$2:$F$47,2,FALSE), 0)), \"\")","v":""},null,null,"",26]
["",{"$f":"IF(C39<>\"\", IFERROR(VLOOKUP($B$6,全学団体!$E$2:$F$161,2,FALSE), IFERROR(VLOOKUP($B$6,医学部団体!$E$2:$F$47,2,FALSE), 0)), \"\")","v":""},null,null,"",27]
["",{"$f":"IF(C40<>\"\", IFERROR(VLOOKUP($B$6,全学団体!$E$2:$F$161,2,FALSE), IFERROR(VLOOKUP($B$6,医学部団体!$E$2:$F$47,2,FALSE), 0)), \"\")","v":""},null,null,"",28]
["",{"$f":"IF(C41<>\"\", IFERROR(VLOOKUP($B$6,全学団体!$E$2:$F$161,2,FALSE), IFERROR(VLOOKUP($B$6,医学部団体!$E$2:$F$47,2,FALSE), 0)), \"\")","v":""},null,null,"",29]
["",{"$f":"IF(C42<>\"\", IFERROR(VLOOKUP($B$6,全学団体!$E$2:$F$161,2,FALSE), IFERROR(VLOOKUP($B$6,医学部団体!$E$2:$F$47,2,FALSE), 0)), \"\")","v":""},null,null,"",30]
["",{"$f":"IF(C43<>\"\", IFERROR(VLOOKUP($B$6,全学団体!$E$2:$F$161,2,FALSE), IFERROR(VLOOKUP($B$6,医学部団体!$E$2:$F$47,2,FALSE), 0)), \"\")","v":""},null,null,"",31]
["",{"$f":"IF(C44<>\"\", IFERROR(VLOOKUP($B$6,全学団体!$E$2:$F$161,2,FALSE), IFERROR(VLOOKUP($B$6,医学部団体!$E$2:$F$47,2,FALSE), 0)), \"\")","v":""},null,null,"",32]
["",{"$f":"IF(C45<>\"\", IFERROR(VLOOKUP($B$6,全学団体!$E$2:$F$161,2,FALSE), IFERROR(VLOOKUP($B$6,医学部団体!$E$2:$F$47,2,FALSE), 0)), \"\")","v":""},null,null,{"$f":"IF(C45<>\"\", 2026, \"\")","v":""},33]
["",{"$f":"IF(C46<>\"\", IFERROR(VLOOKUP($B$6,全学団体!$E$2:$F$161,2,FALSE), IFERROR(VLOOKUP($B$6,医学部団体!$E$2:$F$47,2,FALSE), 0)), \"\")","v":""},null,null,"",34]
["",{"$f":"IF(C47<>\"\", IFERROR(VLOOKUP($B$6,全学団体!$E$2:$F$161,2,FALSE), IFERROR(VLOOKUP($B$6,医学部団体!$E$2:$F$47,2,FALSE), 0)), \"\")","v":""},null,null,"",35]
["",{"$f":"IF(C48<>\"\", IFERROR(VLOOKUP($B$6,全学団体!$E$2:$F$161,2,FALSE), IFERROR(VLOOKUP($B$6,医学部団体!$E$2:$F$47,2,FALSE), 0)), \"\")","v":""},null,null,"",36]
["",{"$f":"IF(C49<>\"\", IFERROR(VLOOKUP($B$6,全学団体!$E$2:$F$161,2,FALSE), IFERROR(VLOOKUP($B$6,医学部団体!$E$2:$F$47,2,FALSE), 0)), \"\")","v":""},null,null,"",37]
["",{"$f":"IF(C50<>\"\", IFERROR(VLOOKUP($B$6,全学団体!$E$2:$F$161,2,FALSE), IFERROR(VLOOKUP($B$6,医学部団体!$E$2:$F$47,2,FALSE), 0)), \"\")","v":""},null,null,"",38]
["",{"$f":"IF(C51<>\"\", IFERROR(VLOOKUP($B$6,全学団体!$E$2:$F$161,2,FALSE), IFERROR(VLOOKUP($B$6,医学部団体!$E$2:$F$47,2,FALSE), 0)), \"\")","v":""},null,null,"",39]
["",{"$f":"IF(C52<>\"\", IFERROR(VLOOKUP($B$6,全学団体!$E$2:$F$161,2,FALSE), IFERROR(VLOOKUP($B$6,医学部団体!$E$2:$F$47,2,FALSE), 0)), \"\")","v":""},null,null,"",40]
["",{"$f":"IF(C53<>\"\", IFERROR(VLOOKUP($B$6,全学団体!$E$2:$F$161,2,FALSE), IFERROR(VLOOKUP($B$6,医学部団体!$E$2:$F$47,2,FALSE), 0)), \"\")","v":""},null,null,"",41]
["",{"$f":"IF(C54<>\"\", IFERROR(VLOOKUP($B$6,全学団体!$E$2:$F$161,2,FALSE), IFERROR(VLOOKUP($B$6,医学部団体!$E$2:$F$47,2,FALSE), 0)), \"\")","v":""},null,null,"",42]
["",{"$f":"IF(C55<>\"\", IFERROR(VLOOKUP($B$6,全学団体!$E$2:$F$161,2,FALSE), IFERROR(VLOOKUP($B$6,医学部団体!$E$2:$F$47,2,FALSE), 0)), \"\")","v":""},null,null,"",43]
["",{"$f":"IF(C56<>\"\", IFERROR(VLOOKUP($B$6,全学団体!$E$2:$F$161,2,FALSE), IFERROR(VLOOKUP($B$6,医学部団体!$E$2:$F$47,2,FALSE), 0)), \"\")","v":""},null,null,"",44]
["",{"$f":"IF(C57<>\"\", IFERROR(VLOOKUP($B$6,全学団体!$E$2:$F$161,2,FALSE), IFERROR(VLOOKUP($B$6,医学部団体!$E$2:$F$47,2,FALSE), 0)), \"\")","v":""},null,null,"",45]
["",{"$f":"IF(C58<>\"\", IFERROR(VLOOKUP($B$6,全学団体!$E$2:$F$161,2,FALSE), IFERROR(VLOOKUP($B$6,医学部団体!$E$2:$F$47,2,FALSE), 0)), \"\")","v":""},null,null,"",46]
["",{"$f":"IF(C59<>\"\", IFERROR(VLOOKUP($B$6,全学団体!$E$2:$F$161,2,FALSE), IFERROR(VLOOKUP($B$6,医学部団体!$E$2:$F$47,2,FALSE), 0)), \"\")","v":""},null,null,"",47]
["",{"$f":"IF(C60<>\"\", IFERROR(VLOOKUP($B$6,全学団体!$E$2:$F$161,2,FALSE), IFERROR(VLOOKUP($B$6,医学部団体!$E$2:$F$47,2,FALSE), 0)), \"\")","v":""},null,null,"",48]
["",{"$f":"IF(C61<>\"\", IFERROR(VLOOKUP($B$6,全学団体!$E$2:$F$161,2,FALSE), IFERROR(VLOOKUP($B$6,医学部団体!$E$2:$F$47,2,FALSE), 0)), \"\")","v":""},null,null,"",49]
["",{"$f":"IF(C62<>\"\", IFERROR(VLOOKUP($B$6,全学団体!$E$2:$F$161,2,FALSE), IFERROR(VLOOKUP($B$6,医学部団体!$E$2:$F$47,2,FALSE), 0)), \"\")","v":""},null,null,"",50]
["",{"$f":"IF(C63<>\"\", IFERROR(VLOOKUP($B$6,全学団体!$E$2:$F$161,2,FALSE), IFERROR(VLOOKUP($B$6,医学部団体!$E$2:$F$47,2,FALSE), 0)), \"\")","v":""},null,null,"",51]
["",{"$f":"IF(C64<>\"\", IFERROR(VLOOKUP($B$6,全学団体!$E$2:$F$161,2,FALSE), IFERROR(VLOOKUP($B$6,医学部団体!$E$2:$F$47,2,FALSE), 0)), \"\")","v":""},null,null,"",52]
["",{"$f":"IF(C65<>\"\", IFERROR(VLOOKUP($B$6,全学団体!$E$2:$F$161,2,FALSE), IFERROR(VLOOKUP($B$6,医学部団体!$E$2:$F$47,2,FALSE), 0)), \"\")","v":""},null,null,"",53]
["",{"$f":"IF(C66<>\"\", IFERROR(VLOOKUP($B$6,全学団体!$E$2:$F$161,2,FALSE), IFERROR(VLOOKUP($B$6,医学部団体!$E$2:$F$47,2,FALSE), 0)), \"\")","v":""},null,null,"",54]
["",{"$f":"IF(C67<>\"\", IFERROR(VLOOKUP($B$6,全学団体!$E$2:$F$161,2,FALSE), IFERROR(VLOOKUP($B$6,医学部団体!$E$2:$F$47,2,FALSE), 0)), \"\")","v":""},null,null,"",55]
["",{"$f":"IF(C68<>\"\", IFERROR(VLOOKUP($B$6,全学団体!$E$2:$F$161,2,FALSE), IFERROR(VLOOKUP($B$6,医学部団体!$E$2:$F$47,2,FALSE), 0)), \"\")","v":""},null,null,"",56]
["",{"$f":"IF(C69<>\"\", IFERROR(VLOOKUP($B$6,全学団体!$E$2:$F$161,2,FALSE), IFERROR(VLOOKUP($B$6,医学部団体!$E$2:$F$47,2,FALSE), 0)), \"\")","v":""},null,null,"",57]
["",{"$f":"IF(C70<>\"\", IFERROR(VLOOKUP($B$6,全学団体!$E$2:$F$161,2,FALSE), IFERROR(VLOOKUP($B$6,医学部団体!$E$2:$F$47,2,FALSE), 0)), \"\")","v":""},null,null,"",58]
["",{"$f":"IF(C71<>\"\", IFERROR(VLOOKUP($B$6,全学団体!$E$2:$F$161,2,FALSE), IFERROR(VLOOKUP($B$6,医学部団体!$E$2:$F$47,2,FALSE), 0)), \"\")","v":""},null,null,"",59]
["",{"$f":"IF(C72<>\"\", IFERROR(VLOOKUP($B$6,全学団体!$E$2:$F$161,2,FALSE), IFERROR(VLOOKUP($B$6,医学部団体!$E$2:$F$47,2,FALSE), 0)), \"\")","v":""},null,null,"",60]
["",{"$f":"IF(C73<>\"\", IFERROR(VLOOKUP($B$6,全学団体!$E$2:$F$161,2,FALSE), IFERROR(VLOOKUP($B$6,医学部団体!$E$2:$F$47,2,FALSE), 0)), \"\")","v":""},null,null,"",61]
["",{"$f":"IF(C74<>\"\", IFERROR(VLOOKUP($B$6,全学団体!$E$2:$F$161,2,FALSE), IFERROR(VLOOKUP($B$6,医学部団体!$E$2:$F$47,2,FALSE), 0)), \"\")","v":""},null,null,"",62]
["",{"$f":"IF(C75<>\"\", IFERROR(VLOOKUP($B$6,全学団体!$E$2:$F$161,2,FALSE), IFERROR(VLOOKUP($B$6,医学部団体!$E$2:$F$47,2,FALSE), 0)), \"\")","v":""},null,null,"",63]
["",{"$f":"IF(C76<>\"\", IFERROR(VLOOKUP($B$6,全学団体!$E$2:$F$161,2,FALSE), IFERROR(VLOOKUP($B$6,医学部団体!$E$2:$F$47,2,FALSE), 0)), \"\")","v":""},null,null,"",64]
["",{"$f":"IF(C77<>\"\", IFERROR(VLOOKUP($B$6,全学団体!$E$2:$F$161,2,FALSE), IFERROR(VLOOKUP($B$6,医学部団体!$E$2:$F$47,2,FALSE), 0)), \"\")","v":""},null,null,"",65]
["",{"$f":"IF(C78<>\"\", IFERROR(VLOOKUP($B$6,全学団体!$E$2:$F$161,2,FALSE), IFERROR(VLOOKUP($B$6,医学部団体!$E$2:$F$47,2,FALSE), 0)), \"\")","v":""},null,null,"",66]
["",{"$f":"IF(C79<>\"\", IFERROR(VLOOKUP($B$6,全学団体!$E$2:$F$161,2,FALSE), IFERROR(VLOOKUP($B$6,医学部団体!$E$2:$F$47,2,FALSE), 0)), \"\")","v":""},null,null,{"$f":"IF(C79<>\"\", 2026, \"\")","v":""},67]
["",{"$f":"IF(C80<>\"\", IFERROR(VLOOKUP($B$6,全学団体!$E$2:$F$161,2,FALSE), IFERROR(VLOOKUP($B$6,医学部団体!$E$2:$F$47,2,FALSE), 0)), \"\")","v":""},null,null,"",68]
["",{"$f":"IF(C81<>\"\", IFERROR(VLOOKUP($B$6,全学団体!$E$2:$F$161,2,FALSE), IFERROR(VLOOKUP($B$6,医学部団体!$E$2:$F$47,2,FALSE), 0)), \"\")","v":""},null,null,"",69]
[{"$f":"IF(C82<>\"\", $B$6&$B$9, \"\")","v":""},{"$f":"IF(C82<>\"\", IFERROR(VLOOKUP($B$6,全学団体!$E$2:$F$161,2,FALSE), IFERROR(VLOOKUP($B$6,医学部団体!$E$2:$F$47,2,FALSE), 0)), \"\")","v":""},null,null,"",70]
["",{"$f":"IF(C83<>\"\", IFERROR(VLOOKUP($B$6,全学団体!$E$2:$F$161,2,FALSE), IFERROR(VLOOKUP($B$6,医学部団体!$E$2:$F$47,2,FALSE), 0)), \"\")","v":""},null,null,"",71]
["",{"$f":"IF(C84<>\"\", IFERROR(VLOOKUP($B$6,全学団体!$E$2:$F$161,2,FALSE), IFERROR(VLOOKUP($B$6,医学部団体!$E$2:$F$47,2,FALSE), 0)), \"\")","v":""},null,null,"",72]
["",{"$f":"IF(C85<>\"\", IFERROR(VLOOKUP($B$6,全学団体!$E$2:$F$161,2,FALSE), IFERROR(VLOOKUP($B$6,医学部団体!$E$2:$F$47,2,FALSE), 0)), \"\")","v":""},null,null,"",73]
["",{"$f":"IF(C86<>\"\", IFERROR(VLOOKUP($B$6,全学団体!$E$2:$F$161,2,FALSE), IFERROR(VLOOKUP($B$6,医学部団体!$E$2:$F$47,2,FALSE), 0)), \"\")","v":""},null,null,"",74]
["",{"$f":"IF(C87<>\"\", IFERROR(VLOOKUP($B$6,全学団体!$E$2:$F$161,2,FALSE), IFERROR(VLOOKUP($B$6,医学部団体!$E$2:$F$47,2,FALSE), 0)), \"\")","v":""},null,null,"",75]
["",{"$f":"IF(C88<>\"\", IFERROR(VLOOKUP($B$6,全学団体!$E$2:$F$161,2,FALSE), IFERROR(VLOOKUP($B$6,医学部団体!$E$2:$F$47,2,FALSE), 0)), \"\")","v":""},null,null,"",76]
["",{"$f":"IF(C89<>\"\", IFERROR(VLOOKUP($B$6,全学団体!$E$2:$F$161,2,FALSE), IFERROR(VLOOKUP($B$6,医学部団体!$E$2:$F$47,2,FALSE), 0)), \"\")","v":""},null,null,"",77]
["",{"$f":"IF(C90<>\"\", IFERROR(VLOOKUP($B$6,全学団体!$E$2:$F$161,2,FALSE), IFERROR(VLOOKUP($B$6,医学部団体!$E$2:$F$47,2,FALSE), 0)), \"\")","v":""},null,null,"",78]
["",{"$f":"IF(C91<>\"\", IFERROR(VLOOKUP($B$6,全学団体!$E$2:$F$161,2,FALSE), IFERROR(VLOOKUP($B$6,医学部団体!$E$2:$F$47,2,FALSE), 0)), \"\")","v":""},null,null,"",79]
["",{"$f":"IF(C92<>\"\", IFERROR(VLOOKUP($B$6,全学団体!$E$2:$F$161,2,FALSE), IFERROR(VLOOKUP($B$6,医学部団体!$E$2:$F$47,2,FALSE), 0)), \"\")","v":""},null,null,"",80]
["",{"$f":"IF(C93<>\"\", IFERROR(VLOOKUP($B$6,全学団体!$E$2:$F$161,2,FALSE), IFERROR(VLOOKUP($B$6,医学部団体!$E$2:$F$47,2,FALSE), 0)), \"\")","v":""},null,null,"",81]
["",{"$f":"IF(C94<>\"\", IFERROR(VLOOKUP($B$6,全学団体!$E$2:$F$161,2,FALSE), IFERROR(VLOOKUP($B$6,医学部団体!$E$2:$F$47,2,FALSE), 0)), \"\")","v":""},null,null,"",82]
["",{"$f":"IF(C95<>\"\", IFERROR(VLOOKUP($B$6,全学団体!$E$2:$F$161,2,FALSE), IFERROR(VLOOKUP($B$6,医学部団体!$E$2:$F$47,2,FALSE), 0)), \"\")","v":""},null,null,"",83]
["",{"$f":"IF(C96<>\"\", IFERROR(VLOOKUP($B$6,全学団体!$E$2:$F$161,2,FALSE), IFERROR(VLOOKUP($B$6,医学部団体!$E$2:$F$47,2,FALSE), 0)), \"\")","v":""},null,null,"",84]
["",{"$f":"IF(C97<>\"\", IFERROR(VLOOKUP($B$6,全学団体!$E$2:$F$161,2,FALSE), IFERROR(VLOOKUP($B$6,医学部団体!$E$2:$F$47,2,FALSE), 0)), \"\")","v":""},null,null,"",85]
["",{"$f":"IF(C98<>\"\", IFERROR(VLOOKUP($B$6,全学団体!$E$2:$F$161,2,FALSE), IFERROR(VLOOKUP($B$6,医学部団体!$E$2:$F$47,2,FALSE), 0)), \"\")","v":""},null,null,"",86]
["",{"$f":"IF(C99<>\"\", IFERROR(VLOOKUP($B$6,全学団体!$E$2:$F$161,2,FALSE), IFERROR(VLOOKUP($B$6,医学部団体!$E$2:$F$47,2,FALSE), 0)), \"\")","v":""},null,null,"",87]
["",{"$f":"IF(C100<>\"\", IFERROR(VLOOKUP($B$6,全学団体!$E$2:$F$161,2,FALSE), IFERROR(VLOOKUP($B$6,医学部団体!$E$2:$F$47,2,FALSE), 0)), \"\")","v":""},null,null,"",88]
["",{"$f":"IF(C101<>\"\", IFERROR(VLOOKUP($B$6,全学団体!$E$2:$F$161,2,FALSE), IFERROR(VLOOKUP($B$6,医学部団体!$E$2:$F$47,2,FALSE), 0)), \"\")","v":""},null,null,"",89]
["",{"$f":"IF(C102<>\"\", IFERROR(VLOOKUP($B$6,全学団体!$E$2:$F$161,2,FALSE), IFERROR(VLOOKUP($B$6,医学部団体!$E$2:$F$47,2,FALSE), 0)), \"\")","v":""},null,null,"",90]
["",{"$f":"IF(C103<>\"\", IFERROR(VLOOKUP($B$6,全学団体!$E$2:$F$161,2,FALSE), IFERROR(VLOOKUP($B$6,医学部団体!$E$2:$F$47,2,FALSE), 0)), \"\")","v":""},null,null,"",91]
["",{"$f":"IF(C104<>\"\", IFERROR(VLOOKUP($B$6,全学団体!$E$2:$F$161,2,FALSE), IFERROR(VLOOKUP($B$6,医学部団体!$E$2:$F$47,2,FALSE), 0)), \"\")","v":""},null,null,"",92]
["",{"$f":"IF(C105<>\"\", IFERROR(VLOOKUP($B$6,全学団体!$E$2:$F$161,2,FALSE), IFERROR(VLOOKUP($B$6,医学部団体!$E$2:$F$47,2,FALSE), 0)), \"\")","v":""},null,null,"",93]
["",{"$f":"IF(C106<>\"\", IFERROR(VLOOKUP($B$6,全学団体!$E$2:$F$161,2,FALSE), IFERROR(VLOOKUP($B$6,医学部団体!$E$2:$F$47,2,FALSE), 0)), \"\")","v":""},null,null,"",94]
["",{"$f":"IF(C107<>\"\", IFERROR(VLOOKUP($B$6,全学団体!$E$2:$F$161,2,FALSE), IFERROR(VLOOKUP($B$6,医学部団体!$E$2:$F$47,2,FALSE), 0)), \"\")","v":""},null,null,"",95]
["",{"$f":"IF(C108<>\"\", IFERROR(VLOOKUP($B$6,全学団体!$E$2:$F$161,2,FALSE), IFERROR(VLOOKUP($B$6,医学部団体!$E$2:$F$47,2,FALSE), 0)), \"\")","v":""},null,null,"",96]
["",{"$f":"IF(C109<>\"\", IFERROR(VLOOKUP($B$6,全学団体!$E$2:$F$161,2,FALSE), IFERROR(VLOOKUP($B$6,医学部団体!$E$2:$F$47,2,FALSE), 0)), \"\")","v":""},null,null,"",97]
["",{"$f":"IF(C110<>\"\", IFERROR(VLOOKUP($B$6,全学団体!$E$2:$F$161,2,FALSE), IFERROR(VLOOKUP($B$6,医学部団体!$E$2:$F$47,2,FALSE), 0)), \"\")","v":""},null,null,"",98]
["",{"$f":"IF(C111<>\"\", IFERROR(VLOOKUP($B$6,全学団体!$E$2:$F$161,2,FALSE), IFERROR(VLOOKUP($B$6,医学部団体!$E$2:$F$47,2,FALSE), 0)), \"\")","v":""},null,null,"",99]
["",{"$f":"IF(C112<>\"\", IFERROR(VLOOKUP($B$6,全学団体!$E$2:$F$161,2,FALSE), IFERROR(VLOOKUP($B$6,医学部団体!$E$2:$F$47,2,FALSE), 0)), \"\")","v":""},null,null,"",100]
["",{"$f":"IF(C113<>\"\", IFERROR(VLOOKUP($B$6,全学団体!$E$2:$F$161,2,FALSE), IFERROR(VLOOKUP($B$6,医学部団体!$E$2:$F$47,2,FALSE), 0)), \"\")","v":""},null,null,"",101]
["",{"$f":"IF(C114<>\"\", IFERROR(VLOOKUP($B$6,全学団体!$E$2:$F$161,2,FALSE), IFERROR(VLOOKUP($B$6,医学部団体!$E$2:$F$47,2,FALSE), 0)), \"\")","v":""},null,null,"",102]
["",{"$f":"IF(C115<>\"\", IFERROR(VLOOKUP($B$6,全学団体!$E$2:$F$161,2,FALSE), IFERROR(VLOOKUP($B$6,医学部団体!$E$2:$F$47,2,FALSE), 0)), \"\")","v":""},null,null,"",103]
["",{"$f":"IF(C116<>\"\", IFERROR(VLOOKUP($B$6,全学団体!$E$2:$F$161,2,FALSE), IFERROR(VLOOKUP($B$6,医学部団体!$E$2:$F$47,2,FALSE), 0)), \"\")","v":""},null,null,"",104]
["",{"$f":"IF(C117<>\"\", IFERROR(VLOOKUP($B$6,全学団体!$E$2:$F$161,2,FALSE), IFERROR(VLOOKUP($B$6,医学部団体!$E$2:$F$47,2,FALSE), 0)), \"\")","v":""},null,null,"",105]
["",{"$f":"IF(C118<>\"\", IFERROR(VLOOKUP($B$6,全学団体!$E$2:$F$161,2,FALSE), IFERROR(VLOOKUP($B$6,医学部団体!$E$2:$F$47,2,FALSE), 0)), \"\")","v":""},null,null,"",106]
["",{"$f":"IF(C119<>\"\", IFERROR(VLOOKUP($B$6,全学団体!$E$2:$F$161,2,FALSE), IFERROR(VLOOKUP($B$6,医学部団体!$E$2:$F$47,2,FALSE), 0)), \"\")","v":""},null,null,"",107]
["",{"$f":"IF(C120<>\"\", IFERROR(VLOOKUP($B$6,全学団体!$E$2:$F$161,2,FALSE), IFERROR(VLOOKUP($B$6,医学部団体!$E$2:$F$47,2,FALSE), 0)), \"\")","v":""},null,null,"",108]
["",{"$f":"IF(C121<>\"\", IFERROR(VLOOKUP($B$6,全学団体!$E$2:$F$161,2,FALSE), IFERROR(VLOOKUP($B$6,医学部団体!$E$2:$F$47,2,FALSE), 0)), \"\")","v":""},null,null,"",109]
["",{"$f":"IF(C122<>\"\", IFERROR(VLOOKUP($B$6,全学団体!$E$2:$F$161,2,FALSE), IFERROR(VLOOKUP($B$6,医学部団体!$E$2:$F$47,2,FALSE), 0)), \"\")","v":""},null,null,"",110]
["",{"$f":"IF(C123<>\"\", IFERROR(VLOOKUP($B$6,全学団体!$E$2:$F$161,2,FALSE), IFERROR(VLOOKUP($B$6,医学部団体!$E$2:$F$47,2,FALSE), 0)), \"\")","v":""},null,null,"",111]
["",{"$f":"IF(C124<>\"\", IFERROR(VLOOKUP($B$6,全学団体!$E$2:$F$161,2,FALSE), IFERROR(VLOOKUP($B$6,医学部団体!$E$2:$F$47,2,FALSE), 0)), \"\")","v":""},null,null,"",112]
["",{"$f":"IF(C125<>\"\", IFERROR(VLOOKUP($B$6,全学団体!$E$2:$F$161,2,FALSE), IFERROR(VLOOKUP($B$6,医学部団体!$E$2:$F$47,2,FALSE), 0)), \"\")","v":""},null,null,"",113]
["",{"$f":"IF(C126<>\"\", IFERROR(VLOOKUP($B$6,全学団体!$E$2:$F$161,2,FALSE), IFERROR(VLOOKUP($B$6,医学部団体!$E$2:$F$47,2,FALSE), 0)), \"\")","v":""},null,null,"",114]
["",{"$f":"IF(C127<>\"\", IFERROR(VLOOKUP($B$6,全学団体!$E$2:$F$161,2,FALSE), IFERROR(VLOOKUP($B$6,医学部団体!$E$2:$F$47,2,FALSE), 0)), \"\")","v":""},null,null,"",115]
["",{"$f":"IF(C128<>\"\", IFERROR(VLOOKUP($B$6,全学団体!$E$2:$F$161,2,FALSE), IFERROR(VLOOKUP($B$6,医学部団体!$E$2:$F$47,2,FALSE), 0)), \"\")","v":""},null,null,"",116]
["",{"$f":"IF(C129<>\"\", IFERROR(VLOOKUP($B$6,全学団体!$E$2:$F$161,2,FALSE), IFERROR(VLOOKUP($B$6,医学部団体!$E$2:$F$47,2,FALSE), 0)), \"\")","v":""},null,null,"",117]
["",{"$f":"IF(C130<>\"\", IFERROR(VLOOKUP($B$6,全学団体!$E$2:$F$161,2,FALSE), IFERROR(VLOOKUP($B$6,医学部団体!$E$2:$F$47,2,FALSE), 0)), \"\")","v":""},null,null,"",118]
["",{"$f":"IF(C131<>\"\", IFERROR(VLOOKUP($B$6,全学団体!$E$2:$F$161,2,FALSE), IFERROR(VLOOKUP($B$6,医学部団体!$E$2:$F$47,2,FALSE), 0)), \"\")","v":""},null,null,"",119]
["",{"$f":"IF(C132<>\"\", IFERROR(VLOOKUP($B$6,全学団体!$E$2:$F$161,2,FALSE), IFERROR(VLOOKUP($B$6,医学部団体!$E$2:$F$47,2,FALSE), 0)), \"\")","v":""},null,null,"",120]
["",{"$f":"IF(C133<>\"\", IFERROR(VLOOKUP($B$6,全学団体!$E$2:$F$161,2,FALSE), IFERROR(VLOOKUP($B$6,医学部団体!$E$2:$F$47,2,FALSE), 0)), \"\")","v":""},null,null,"",121]
["",{"$f":"IF(C134<>\"\", IFERROR(VLOOKUP($B$6,全学団体!$E$2:$F$161,2,FALSE), IFERROR(VLOOKUP($B$6,医学部団体!$E$2:$F$47,2,FALSE), 0)), \"\")","v":""},null,null,"",122]
["",{"$f":"IF(C135<>\"\", IFERROR(VLOOKUP($B$6,全学団体!$E$2:$F$161,2,FALSE), IFERROR(VLOOKUP($B$6,医学部団体!$E$2:$F$47,2,FALSE), 0)), \"\")","v":""},null,null,"",123]
["",{"$f":"IF(C136<>\"\", IFERROR(VLOOKUP($B$6,全学団体!$E$2:$F$161,2,FALSE), IFERROR(VLOOKUP($B$6,医学部団体!$E$2:$F$47,2,FALSE), 0)), \"\")","v":""},null,null,"",124]
["",{"$f":"IF(C137<>\"\", IFERROR(VLOOKUP($B$6,全学団体!$E$2:$F$161,2,FALSE), IFERROR(VLOOKUP($B$6,医学部団体!$E$2:$F$47,2,FALSE), 0)), \"\")","v":""},null,null,"",125]
["",{"$f":"IF(C138<>\"\", IFERROR(VLOOKUP($B$6,全学団体!$E$2:$F$161,2,FALSE), IFERROR(VLOOKUP($B$6,医学部団体!$E$2:$F$47,2,FALSE), 0)), \"\")","v":""},null,null,"",126]
["",{"$f":"IF(C139<>\"\", IFERROR(VLOOKUP($B$6,全学団体!$E$2:$F$161,2,FALSE), IFERROR(VLOOKUP($B$6,医学部団体!$E$2:$F$47,2,FALSE), 0)), \"\")","v":""},null,null,"",127]
["",{"$f":"IF(C140<>\"\", IFERROR(VLOOKUP($B$6,全学団体!$E$2:$F$161,2,FALSE), IFERROR(VLOOKUP($B$6,医学部団体!$E$2:$F$47,2,FALSE), 0)), \"\")","v":""},null,null,"",128]
["",{"$f":"IF(C141<>\"\", IFERROR(VLOOKUP($B$6,全学団体!$E$2:$F$161,2,FALSE), IFERROR(VLOOKUP($B$6,医学部団体!$E$2:$F$47,2,FALSE), 0)), \"\")","v":""},null,null,"",129]
["",{"$f":"IF(C142<>\"\", IFERROR(VLOOKUP($B$6,全学団体!$E$2:$F$161,2,FALSE), IFERROR(VLOOKUP($B$6,医学部団体!$E$2:$F$47,2,FALSE), 0)), \"\")","v":""},null,null,"",130]
["",{"$f":"IF(C143<>\"\", IFERROR(VLOOKUP($B$6,全学団体!$E$2:$F$161,2,FALSE), IFERROR(VLOOKUP($B$6,医学部団体!$E$2:$F$47,2,FALSE), 0)), \"\")","v":""},null,null,{"$f":"IF(C143<>\"\", 2026, \"\")","v":""},131]
["",{"$f":"IF(C144<>\"\", IFERROR(VLOOKUP($B$6,全学団体!$E$2:$F$161,2,FALSE), IFERROR(VLOOKUP($B$6,医学部団体!$E$2:$F$47,2,FALSE), 0)), \"\")","v":""},null,null,"",132]
["",{"$f":"IF(C145<>\"\", IFERROR(VLOOKUP($B$6,全学団体!$E$2:$F$161,2,FALSE), IFERROR(VLOOKUP($B$6,医学部団体!$E$2:$F$47,2,FALSE), 0)), \"\")","v":""},null,null,"",133]
[{"$f":"IF(C146<>\"\", $B$6&$B$9, \"\")","v":""},{"$f":"IF(C146<>\"\", IFERROR(VLOOKUP($B$6,全学団体!$E$2:$F$161,2,FALSE), IFERROR(VLOOKUP($B$6,医学部団体!$E$2:$F$47,2,FALSE), 0)), \"\")","v":""},null,null,"",134]
["",{"$f":"IF(C147<>\"\", IFERROR(VLOOKUP($B$6,全学団体!$E$2:$F$161,2,FALSE), IFERROR(VLOOKUP($B$6,医学部団体!$E$2:$F$47,2,FALSE), 0)), \"\")","v":""},null,null,"",135]
["",{"$f":"IF(C148<>\"\", IFERROR(VLOOKUP($B$6,全学団体!$E$2:$F$161,2,FALSE), IFERROR(VLOOKUP($B$6,医学部団体!$E$2:$F$47,2,FALSE), 0)), \"\")","v":""},null,null,"",136]
["",{"$f":"IF(C149<>\"\", IFERROR(VLOOKUP($B$6,全学団体!$E$2:$F$161,2,FALSE), IFERROR(VLOOKUP($B$6,医学部団体!$E$2:$F$47,2,FALSE), 0)), \"\")","v":""},null,null,"",137]
["",{"$f":"IF(C150<>\"\", IFERROR(VLOOKUP($B$6,全学団体!$E$2:$F$161,2,FALSE), IFERROR(VLOOKUP($B$6,医学部団体!$E$2:$F$47,2,FALSE), 0)), \"\")","v":""},null,null,"",138]
["",{"$f":"IF(C151<>\"\", IFERROR(VLOOKUP($B$6,全学団体!$E$2:$F$161,2,FALSE), IFERROR(VLOOKUP($B$6,医学部団体!$E$2:$F$47,2,FALSE), 0)), \"\")","v":""},null,null,"",139]
["",{"$f":"IF(C152<>\"\", IFERROR(VLOOKUP($B$6,全学団体!$E$2:$F$161,2,FALSE), IFERROR(VLOOKUP($B$6,医学部団体!$E$2:$F$47,2,FALSE), 0)), \"\")","v":""},null,null,"",140]
["",{"$f":"IF(C153<>\"\", IFERROR(VLOOKUP($B$6,全学団体!$E$2:$F$161,2,FALSE), IFERROR(VLOOKUP($B$6,医学部団体!$E$2:$F$47,2,FALSE), 0)), \"\")","v":""},null,null,"",141]
["",{"$f":"IF(C154<>\"\", IFERROR(VLOOKUP($B$6,全学団体!$E$2:$F$161,2,FALSE), IFERROR(VLOOKUP($B$6,医学部団体!$E$2:$F$47,2,FALSE), 0)), \"\")","v":""},null,null,"",142]
["",{"$f":"IF(C155<>\"\", IFERROR(VLOOKUP($B$6,全学団体!$E$2:$F$161,2,FALSE), IFERROR(VLOOKUP($B$6,医学部団体!$E$2:$F$47,2,FALSE), 0)), \"\")","v":""},null,null,"",143]
["",{"$f":"IF(C156<>\"\", IFERROR(VLOOKUP($B$6,全学団体!$E$2:$F$161,2,FALSE), IFERROR(VLOOKUP($B$6,医学部団体!$E$2:$F$47,2,FALSE), 0)), \"\")","v":""},null,null,"",144]
["",{"$f":"IF(C157<>\"\", IFERROR(VLOOKUP($B$6,全学団体!$E$2:$F$161,2,FALSE), IFERROR(VLOOKUP($B$6,医学部団体!$E$2:$F$47,2,FALSE), 0)), \"\")","v":""},null,null,"",145]
["",{"$f":"IF(C158<>\"\", IFERROR(VLOOKUP($B$6,全学団体!$E$2:$F$161,2,FALSE), IFERROR(VLOOKUP($B$6,医学部団体!$E$2:$F$47,2,FALSE), 0)), \"\")","v":""},null,null,"",146]
["",{"$f":"IF(C159<>\"\", IFERROR(VLOOKUP($B$6,全学団体!$E$2:$F$161,2,FALSE), IFERROR(VLOOKUP($B$6,医学部団体!$E$2:$F$47,2,FALSE), 0)), \"\")","v":""},null,null,"",147]
["",{"$f":"IF(C160<>\"\", IFERROR(VLOOKUP($B$6,全学団体!$E$2:$F$161,2,FALSE), IFERROR(VLOOKUP($B$6,医学部団体!$E$2:$F$47,2,FALSE), 0)), \"\")","v":""},null,null,"",148]
["",{"$f":"IF(C161<>\"\", IFERROR(VLOOKUP($B$6,全学団体!$E$2:$F$161,2,FALSE), IFERROR(VLOOKUP($B$6,医学部団体!$E$2:$F$47,2,FALSE), 0)), \"\")","v":""},null,null,"",149]
["",{"$f":"IF(C162<>\"\", IFERROR(VLOOKUP($B$6,全学団体!$E$2:$F$161,2,FALSE), IFERROR(VLOOKUP($B$6,医学部団体!$E$2:$F$47,2,FALSE), 0)), \"\")","v":""},null,null,"",150]
["",{"$f":"IF(C163<>\"\", IFERROR(VLOOKUP($B$6,全学団体!$E$2:$F$161,2,FALSE), IFERROR(VLOOKUP($B$6,医学部団体!$E$2:$F$47,2,FALSE), 0)), \"\")","v":""},null,null,"",151]
["",{"$f":"IF(C164<>\"\", IFERROR(VLOOKUP($B$6,全学団体!$E$2:$F$161,2,FALSE), IFERROR(VLOOKUP($B$6,医学部団体!$E$2:$F$47,2,FALSE), 0)), \"\")","v":""},null,null,"",152]
["",{"$f":"IF(C165<>\"\", IFERROR(VLOOKUP($B$6,全学団体!$E$2:$F$161,2,FALSE), IFERROR(VLOOKUP($B$6,医学部団体!$E$2:$F$47,2,FALSE), 0)), \"\")","v":""},null,null,"",153]
["",{"$f":"IF(C166<>\"\", IFERROR(VLOOKUP($B$6,全学団体!$E$2:$F$161,2,FALSE), IFERROR(VLOOKUP($B$6,医学部団体!$E$2:$F$47,2,FALSE), 0)), \"\")","v":""},null,null,"",154]
["",{"$f":"IF(C167<>\"\", IFERROR(VLOOKUP($B$6,全学団体!$E$2:$F$161,2,FALSE), IFERROR(VLOOKUP($B$6,医学部団体!$E$2:$F$47,2,FALSE), 0)), \"\")","v":""},null,null,"",155]
["",{"$f":"IF(C168<>\"\", IFERROR(VLOOKUP($B$6,全学団体!$E$2:$F$161,2,FALSE), IFERROR(VLOOKUP($B$6,医学部団体!$E$2:$F$47,2,FALSE), 0)), \"\")","v":""},null,null,"",156]
["",{"$f":"IF(C169<>\"\", IFERROR(VLOOKUP($B$6,全学団体!$E$2:$F$161,2,FALSE), IFERROR(VLOOKUP($B$6,医学部団体!$E$2:$F$47,2,FALSE), 0)), \"\")","v":""},null,null,"",157]
["",{"$f":"IF(C170<>\"\", IFERROR(VLOOKUP($B$6,全学団体!$E$2:$F$161,2,FALSE), IFERROR(VLOOKUP($B$6,医学部団体!$E$2:$F$47,2,FALSE), 0)), \"\")","v":""},null,null,"",158]
["",{"$f":"IF(C171<>\"\", IFERROR(VLOOKUP($B$6,全学団体!$E$2:$F$161,2,FALSE), IFERROR(VLOOKUP($B$6,医学部団体!$E$2:$F$47,2,FALSE), 0)), \"\")","v":""},null,null,"",159]
["",{"$f":"IF(C172<>\"\", IFERROR(VLOOKUP($B$6,全学団体!$E$2:$F$161,2,FALSE), IFERROR(VLOOKUP($B$6,医学部団体!$E$2:$F$47,2,FALSE), 0)), \"\")","v":""},null,null,"",160]
["",{"$f":"IF(C173<>\"\", IFERROR(VLOOKUP($B$6,全学団体!$E$2:$F$161,2,FALSE), IFERROR(VLOOKUP($B$6,医学部団体!$E$2:$F$47,2,FALSE), 0)), \"\")","v":""},null,null,"",161]
["",{"$f":"IF(C174<>\"\", IFERROR(VLOOKUP($B$6,全学団体!$E$2:$F$161,2,FALSE), IFERROR(VLOOKUP($B$6,医学部団体!$E$2:$F$47,2,FALSE), 0)), \"\")","v":""},null,null,"",162]
["",{"$f":"IF(C175<>\"\", IFERROR(VLOOKUP($B$6,全学団体!$E$2:$F$161,2,FALSE), IFERROR(VLOOKUP($B$6,医学部団体!$E$2:$F$47,2,FALSE), 0)), \"\")","v":""},null,null,"",163]
["",{"$f":"IF(C176<>\"\", IFERROR(VLOOKUP($B$6,全学団体!$E$2:$F$161,2,FALSE), IFERROR(VLOOKUP($B$6,医学部団体!$E$2:$F$47,2,FALSE), 0)), \"\")","v":""},null,null,"",164]
["",{"$f":"IF(C177<>\"\", IFERROR(VLOOKUP($B$6,全学団体!$E$2:$F$161,2,FALSE), IFERROR(VLOOKUP($B$6,医学部団体!$E$2:$F$47,2,FALSE), 0)), \"\")","v":""},null,null,"",165]
["",{"$f":"IF(C178<>\"\", IFERROR(VLOOKUP($B$6,全学団体!$E$2:$F$161,2,FALSE), IFERROR(VLOOKUP($B$6,医学部団体!$E$2:$F$47,2,FALSE), 0)), \"\")","v":""},null,null,"",166]
["",{"$f":"IF(C179<>\"\", IFERROR(VLOOKUP($B$6,全学団体!$E$2:$F$161,2,FALSE), IFERROR(VLOOKUP($B$6,医学部団体!$E$2:$F$47,2,FALSE), 0)), \"\")","v":""},null,null,"",167]
["",{"$f":"IF(C180<>\"\", IFERROR(VLOOKUP($B$6,全学団体!$E$2:$F$161,2,FALSE), IFERROR(VLOOKUP($B$6,医学部団体!$E$2:$F$47,2,FALSE), 0)), \"\")","v":""},null,null,"",168]
["",{"$f":"IF(C181<>\"\", IFERROR(VLOOKUP($B$6,全学団体!$E$2:$F$161,2,FALSE), IFERROR(VLOOKUP($B$6,医学部団体!$E$2:$F$47,2,FALSE), 0)), \"\")","v":""},null,null,"",169]
["",{"$f":"IF(C182<>\"\", IFERROR(VLOOKUP($B$6,全学団体!$E$2:$F$161,2,FALSE), IFERROR(VLOOKUP($B$6,医学部団体!$E$2:$F$47,2,FALSE), 0)), \"\")","v":""},null,null,"",170]
["",{"$f":"IF(C183<>\"\", IFERROR(VLOOKUP($B$6,全学団体!$E$2:$F$161,2,FALSE), IFERROR(VLOOKUP($B$6,医学部団体!$E$2:$F$47,2,FALSE), 0)), \"\")","v":""},null,null,"",171]
["",{"$f":"IF(C184<>\"\", IFERROR(VLOOKUP($B$6,全学団体!$E$2:$F$161,2,FALSE), IFERROR(VLOOKUP($B$6,医学部団体!$E$2:$F$47,2,FALSE), 0)), \"\")","v":""},null,null,"",172]
["",{"$f":"IF(C185<>\"\", IFERROR(VLOOKUP($B$6,全学団体!$E$2:$F$161,2,FALSE), IFERROR(VLOOKUP($B$6,医学部団体!$E$2:$F$47,2,FALSE), 0)), \"\")","v":""},null,null,"",173]
["",{"$f":"IF(C186<>\"\", IFERROR(VLOOKUP($B$6,全学団体!$E$2:$F$161,2,FALSE), IFERROR(VLOOKUP($B$6,医学部団体!$E$2:$F$47,2,FALSE), 0)), \"\")","v":""},null,null,"",174]
["",{"$f":"IF(C187<>\"\", IFERROR(VLOOKUP($B$6,全学団体!$E$2:$F$161,2,FALSE), IFERROR(VLOOKUP($B$6,医学部団体!$E$2:$F$47,2,FALSE), 0)), \"\")","v":""},null,null,"",175]
["",{"$f":"IF(C188<>\"\", IFERROR(VLOOKUP($B$6,全学団体!$E$2:$F$161,2,FALSE), IFERROR(VLOOKUP($B$6,医学部団体!$E$2:$F$47,2,FALSE), 0)), \"\")","v":""},null,null,"",176]
["",{"$f":"IF(C189<>\"\", IFERROR(VLOOKUP($B$6,全学団体!$E$2:$F$161,2,FALSE), IFERROR(VLOOKUP($B$6,医学部団体!$E$2:$F$47,2,FALSE), 0)), \"\")","v":""},null,null,"",177]
["",{"$f":"IF(C190<>\"\", IFERROR(VLOOKUP($B$6,全学団体!$E$2:$F$161,2,FALSE), IFERROR(VLOOKUP($B$6,医学部団体!$E$2:$F$47,2,FALSE), 0)), \"\")","v":""},null,null,"",178]
["",{"$f":"IF(C191<>\"\", IFERROR(VLOOKUP($B$6,全学団体!$E$2:$F$161,2,FALSE), IFERROR(VLOOKUP($B$6,医学部団体!$E$2:$F$47,2,FALSE), 0)), \"\")","v":""},null,null,"",179]
["",{"$f":"IF(C192<>\"\", IFERROR(VLOOKUP($B$6,全学団体!$E$2:$F$161,2,FALSE), IFERROR(VLOOKUP($B$6,医学部団体!$E$2:$F$47,2,FALSE), 0)), \"\")","v":""},null,null,"",180]
["",{"$f":"IF(C193<>\"\", IFERROR(VLOOKUP($B$6,全学団体!$E$2:$F$161,2,FALSE), IFERROR(VLOOKUP($B$6,医学部団体!$E$2:$F$47,2,FALSE), 0)), \"\")","v":""},null,null,"",181]
["",{"$f":"IF(C194<>\"\", IFERROR(VLOOKUP($B$6,全学団体!$E$2:$F$161,2,FALSE), IFERROR(VLOOKUP($B$6,医学部団体!$E$2:$F$47,2,FALSE), 0)), \"\")","v":""},null,null,"",182]
["",{"$f":"IF(C195<>\"\", IFERROR(VLOOKUP($B$6,全学団体!$E$2:$F$161,2,FALSE), IFERROR(VLOOKUP($B$6,医学部団体!$E$2:$F$47,2,FALSE), 0)), \"\")","v":""},null,null,"",183]
["",{"$f":"IF(C196<>\"\", IFERROR(VLOOKUP($B$6,全学団体!$E$2:$F$161,2,FALSE), IFERROR(VLOOKUP($B$6,医学部団体!$E$2:$F$47,2,FALSE), 0)), \"\")","v":""},null,null,"",184]
["",{"$f":"IF(C197<>\"\", IFERROR(VLOOKUP($B$6,全学団体!$E$2:$F$161,2,FALSE), IFERROR(VLOOKUP($B$6,医学部団体!$E$2:$F$47,2,FALSE), 0)), \"\")","v":""},null,null,"",185]
["",{"$f":"IF(C198<>\"\", IFERROR(VLOOKUP($B$6,全学団体!$E$2:$F$161,2,FALSE), IFERROR(VLOOKUP($B$6,医学部団体!$E$2:$F$47,2,FALSE), 0)), \"\")","v":""},null,null,"",186]
["",{"$f":"IF(C199<>\"\", IFERROR(VLOOKUP($B$6,全学団体!$E$2:$F$161,2,FALSE), IFERROR(VLOOKUP($B$6,医学部団体!$E$2:$F$47,2,FALSE), 0)), \"\")","v":""},null,null,"",187]
["",{"$f":"IF(C200<>\"\", IFERROR(VLOOKUP($B$6,全学団体!$E$2:$F$161,2,FALSE), IFERROR(VLOOKUP($B$6,医学部団体!$E$2:$F$47,2,FALSE), 0)), \"\")","v":""},null,null,"",188]
["",{"$f":"IF(C201<>\"\", IFERROR(VLOOKUP($B$6,全学団体!$E$2:$F$161,2,FALSE), IFERROR(VLOOKUP($B$6,医学部団体!$E$2:$F$47,2,FALSE), 0)), \"\")","v":""},null,null,"",189]
["",{"$f":"IF(C202<>\"\", IFERROR(VLOOKUP($B$6,全学団体!$E$2:$F$161,2,FALSE), IFERROR(VLOOKUP($B$6,医学部団体!$E$2:$F$47,2,FALSE), 0)), \"\")","v":""},null,null,"",190]
["",{"$f":"IF(C203<>\"\", IFERROR(VLOOKUP($B$6,全学団体!$E$2:$F$161,2,FALSE), IFERROR(VLOOKUP($B$6,医学部団体!$E$2:$F$47,2,FALSE), 0)), \"\")","v":""},null,null,"",191]
["",{"$f":"IF(C204<>\"\", IFERROR(VLOOKUP($B$6,全学団体!$E$2:$F$161,2,FALSE), IFERROR(VLOOKUP($B$6,医学部団体!$E$2:$F$47,2,FALSE), 0)), \"\")","v":""},null,null,"",192]
["",{"$f":"IF(C205<>\"\", IFERROR(VLOOKUP($B$6,全学団体!$E$2:$F$161,2,FALSE), IFERROR(VLOOKUP($B$6,医学部団体!$E$2:$F$47,2,FALSE), 0)), \"\")","v":""},null,null,"",193]
["",{"$f":"IF(C206<>\"\", IFERROR(VLOOKUP($B$6,全学団体!$E$2:$F$161,2,FALSE), IFERROR(VLOOKUP($B$6,医学部団体!$E$2:$F$47,2,FALSE), 0)), \"\")","v":""},null,null,"",194]
["",{"$f":"IF(C207<>\"\", IFERROR(VLOOKUP($B$6,全学団体!$E$2:$F$161,2,FALSE), IFERROR(VLOOKUP($B$6,医学部団体!$E$2:$F$47,2,FALSE), 0)), \"\")","v":""},null,null,{"$f":"IF(C207<>\"\", 2026, \"\")","v":""},195]
["",{"$f":"IF(C208<>\"\", IFERROR(VLOOKUP($B$6,全学団体!$E$2:$F$161,2,FALSE), IFERROR(VLOOKUP($B$6,医学部団体!$E$2:$F$47,2,FALSE), 0)), \"\")","v":""},null,null,"",196]
["",{"$f":"IF(C209<>\"\", IFERROR(VLOOKUP($B$6,全学団体!$E$2:$F$161,2,FALSE), IFERROR(VLOOKUP($B$6,医学部団体!$E$2:$F$47,2,FALSE), 0)), \"\")","v":""},null,null,"",197]
[{"$f":"IF(C210<>\"\", $B$6&$B$9, \"\")","v":""},{"$f":"IF(C210<>\"\", IFERROR(VLOOKUP($B$6,全学団体!$E$2:$F$161,2,FALSE), IFERROR(VLOOKUP($B$6,医学部団体!$E$2:$F$47,2,FALSE), 0)), \"\")","v":""},null,null,"",198]
["",{"$f":"IF(C211<>\"\", IFERROR(VLOOKUP($B$6,全学団体!$E$2:$F$161,2,FALSE), IFERROR(VLOOKUP($B$6,医学部団体!$E$2:$F$47,2,FALSE), 0)), \"\")","v":""},null,null,"",199]
["",{"$f":"IF(C212<>\"\", IFERROR(VLOOKUP($B$6,全学団体!$E$2:$F$161,2,FALSE), IFERROR(VLOOKUP($B$6,医学部団体!$E$2:$F$47,2,FALSE), 0)), \"\")","v":""},null,null,"",200]
["",{"$f":"IF(C213<>\"\", IFERROR(VLOOKUP($B$6,全学団体!$E$2:$F$161,2,FALSE), IFERROR(VLOOKUP($B$6,医学部団体!$E$2:$F$47,2,FALSE), 0)), \"\")","v":""},null,null,"",201]
["",{"$f":"IF(C214<>\"\", IFERROR(VLOOKUP($B$6,全学団体!$E$2:$F$161,2,FALSE), IFERROR(VLOOKUP($B$6,医学部団体!$E$2:$F$47,2,FALSE), 0)), \"\")","v":""},null,null,"",202]
["",{"$f":"IF(C215<>\"\", IFERROR(VLOOKUP($B$6,全学団体!$E$2:$F$161,2,FALSE), IFERROR(VLOOKUP($B$6,医学部団体!$E$2:$F$47,2,FALSE), 0)), \"\")","v":""},null,null,"",203]
["",{"$f":"IF(C216<>\"\", IFERROR(VLOOKUP($B$6,全学団体!$E$2:$F$161,2,FALSE), IFERROR(VLOOKUP($B$6,医学部団体!$E$2:$F$47,2,FALSE), 0)), \"\")","v":""},null,null,"",204]
["",{"$f":"IF(C217<>\"\", IFERROR(VLOOKUP($B$6,全学団体!$E$2:$F$161,2,FALSE), IFERROR(VLOOKUP($B$6,医学部団体!$E$2:$F$47,2,FALSE), 0)), \"\")","v":""},null,null,"",205]
["",{"$f":"IF(C218<>\"\", IFERROR(VLOOKUP($B$6,全学団体!$E$2:$F$161,2,FALSE), IFERROR(VLOOKUP($B$6,医学部団体!$E$2:$F$47,2,FALSE), 0)), \"\")","v":""},null,null,"",206]
["",{"$f":"IF(C219<>\"\", IFERROR(VLOOKUP($B$6,全学団体!$E$2:$F$161,2,FALSE), IFERROR(VLOOKUP($B$6,医学部団体!$E$2:$F$47,2,FALSE), 0)), \"\")","v":""},null,null,"",207]
["",{"$f":"IF(C220<>\"\", IFERROR(VLOOKUP($B$6,全学団体!$E$2:$F$161,2,FALSE), IFERROR(VLOOKUP($B$6,医学部団体!$E$2:$F$47,2,FALSE), 0)), \"\")","v":""},null,null,"",208]
["",{"$f":"IF(C221<>\"\", IFERROR(VLOOKUP($B$6,全学団体!$E$2:$F$161,2,FALSE), IFERROR(VLOOKUP($B$6,医学部団体!$E$2:$F$47,2,FALSE), 0)), \"\")","v":""},null,null,"",209]
["",{"$f":"IF(C222<>\"\", IFERROR(VLOOKUP($B$6,全学団体!$E$2:$F$161,2,FALSE), IFERROR(VLOOKUP($B$6,医学部団体!$E$2:$F$47,2,FALSE), 0)), \"\")","v":""},null,null,"",210]
["",{"$f":"IF(C223<>\"\", IFERROR(VLOOKUP($B$6,全学団体!$E$2:$F$161,2,FALSE), IFERROR(VLOOKUP($B$6,医学部団体!$E$2:$F$47,2,FALSE), 0)), \"\")","v":""},null,null,"",211]
["",{"$f":"IF(C224<>\"\", IFERROR(VLOOKUP($B$6,全学団体!$E$2:$F$161,2,FALSE), IFERROR(VLOOKUP($B$6,医学部団体!$E$2:$F$47,2,FALSE), 0)), \"\")","v":""},null,null,"",212]
["",{"$f":"IF(C225<>\"\", IFERROR(VLOOKUP($B$6,全学団体!$E$2:$F$161,2,FALSE), IFERROR(VLOOKUP($B$6,医学部団体!$E$2:$F$47,2,FALSE), 0)), \"\")","v":""},null,null,"",213]
["",{"$f":"IF(C226<>\"\", IFERROR(VLOOKUP($B$6,全学団体!$E$2:$F$161,2,FALSE), IFERROR(VLOOKUP($B$6,医学部団体!$E$2:$F$47,2,FALSE), 0)), \"\")","v":""},null,null,"",214]
["",{"$f":"IF(C227<>\"\", IFERROR(VLOOKUP($B$6,全学団体!$E$2:$F$161,2,FALSE), IFERROR(VLOOKUP($B$6,医学部団体!$E$2:$F$47,2,FALSE), 0)), \"\")","v":""},null,null,"",215]
["",{"$f":"IF(C228<>\"\", IFERROR(VLOOKUP($B$6,全学団体!$E$2:$F$161,2,FALSE), IFERROR(VLOOKUP($B$6,医学部団体!$E$2:$F$47,2,FALSE), 0)), \"\")","v":""},null,null,"",216]
["",{"$f":"IF(C229<>\"\", IFERROR(VLOOKUP($B$6,全学団体!$E$2:$F$161,2,FALSE), IFERROR(VLOOKUP($B$6,医学部団体!$E$2:$F$47,2,FALSE), 0)), \"\")","v":""},null,null,"",217]
["",{"$f":"IF(C230<>\"\", IFERROR(VLOOKUP($B$6,全学団体!$E$2:$F$161,2,FALSE), IFERROR(VLOOKUP($B$6,医学部団体!$E$2:$F$47,2,FALSE), 0)), \"\")","v":""},null,null,"",218]
["",{"$f":"IF(C231<>\"\", IFERROR(VLOOKUP($B$6,全学団体!$E$2:$F$161,2,FALSE), IFERROR(VLOOKUP($B$6,医学部団体!$E$2:$F$47,2,FALSE), 0)), \"\")","v":""},null,null,"",219]
["",{"$f":"IF(C232<>\"\", IFERROR(VLOOKUP($B$6,全学団体!$E$2:$F$161,2,FALSE), IFERROR(VLOOKUP($B$6,医学部団体!$E$2:$F$47,2,FALSE), 0)), \"\")","v":""},null,null,"",220]
["",{"$f":"IF(C233<>\"\", IFERROR(VLOOKUP($B$6,全学団体!$E$2:$F$161,2,FALSE), IFERROR(VLOOKUP($B$6,医学部団体!$E$2:$F$47,2,FALSE), 0)), \"\")","v":""},null,null,"",221]
["",{"$f":"IF(C234<>\"\", IFERROR(VLOOKUP($B$6,全学団体!$E$2:$F$161,2,FALSE), IFERROR(VLOOKUP($B$6,医学部団体!$E$2:$F$47,2,FALSE), 0)), \"\")","v":""},null,null,"",222]
["",{"$f":"IF(C235<>\"\", IFERROR(VLOOKUP($B$6,全学団体!$E$2:$F$161,2,FALSE), IFERROR(VLOOKUP($B$6,医学部団体!$E$2:$F$47,2,FALSE), 0)), \"\")","v":""},null,null,"",223]
["",{"$f":"IF(C236<>\"\", IFERROR(VLOOKUP($B$6,全学団体!$E$2:$F$161,2,FALSE), IFERROR(VLOOKUP($B$6,医学部団体!$E$2:$F$47,2,FALSE), 0)), \"\")","v":""},null,null,"",224]
["",{"$f":"IF(C237<>\"\", IFERROR(VLOOKUP($B$6,全学団体!$E$2:$F$161,2,FALSE), IFERROR(VLOOKUP($B$6,医学部団体!$E$2:$F$47,2,FALSE), 0)), \"\")","v":""},null,null,"",225]
["",{"$f":"IF(C238<>\"\", IFERROR(VLOOKUP($B$6,全学団体!$E$2:$F$161,2,FALSE), IFERROR(VLOOKUP($B$6,医学部団体!$E$2:$F$47,2,FALSE), 0)), \"\")","v":""},null,null,"",226]
["",{"$f":"IF(C239<>\"\", IFERROR(VLOOKUP($B$6,全学団体!$E$2:$F$161,2,FALSE), IFERROR(VLOOKUP($B$6,医学部団体!$E$2:$F$47,2,FALSE), 0)), \"\")","v":""},null,null,"",227]
["",{"$f":"IF(C240<>\"\", IFERROR(VLOOKUP($B$6,全学団体!$E$2:$F$161,2,FALSE), IFERROR(VLOOKUP($B$6,医学部団体!$E$2:$F$47,2,FALSE), 0)), \"\")","v":""},null,null,"",228]
["",{"$f":"IF(C241<>\"\", IFERROR(VLOOKUP($B$6,全学団体!$E$2:$F$161,2,FALSE), IFERROR(VLOOKUP($B$6,医学部団体!$E$2:$F$47,2,FALSE), 0)), \"\")","v":""},null,null,"",229]
["",{"$f":"IF(C242<>\"\", IFERROR(VLOOKUP($B$6,全学団体!$E$2:$F$161,2,FALSE), IFERROR(VLOOKUP($B$6,医学部団体!$E$2:$F$47,2,FALSE), 0)), \"\")","v":""},null,null,"",230]
["",{"$f":"IF(C243<>\"\", IFERROR(VLOOKUP($B$6,全学団体!$E$2:$F$161,2,FALSE), IFERROR(VLOOKUP($B$6,医学部団体!$E$2:$F$47,2,FALSE), 0)), \"\")","v":""},null,null,"",231]
["",{"$f":"IF(C244<>\"\", IFERROR(VLOOKUP($B$6,全学団体!$E$2:$F$161,2,FALSE), IFERROR(VLOOKUP($B$6,医学部団体!$E$2:$F$47,2,FALSE), 0)), \"\")","v":""},null,null,"",232]
["",{"$f":"IF(C245<>\"\", IFERROR(VLOOKUP($B$6,全学団体!$E$2:$F$161,2,FALSE), IFERROR(VLOOKUP($B$6,医学部団体!$E$2:$F$47,2,FALSE), 0)), \"\")","v":""},null,null,"",233]
["",{"$f":"IF(C246<>\"\", IFERROR(VLOOKUP($B$6,全学団体!$E$2:$F$161,2,FALSE), IFERROR(VLOOKUP($B$6,医学部団体!$E$2:$F$47,2,FALSE), 0)), \"\")","v":""},null,null,"",234]
["",{"$f":"IF(C247<>\"\", IFERROR(VLOOKUP($B$6,全学団体!$E$2:$F$161,2,FALSE), IFERROR(VLOOKUP($B$6,医学部団体!$E$2:$F$47,2,FALSE), 0)), \"\")","v":""},null,null,"",235]
["",{"$f":"IF(C248<>\"\", IFERROR(VLOOKUP($B$6,全学団体!$E$2:$F$161,2,FALSE), IFERROR(VLOOKUP($B$6,医学部団体!$E$2:$F$47,2,FALSE), 0)), \"\")","v":""},null,null,"",236]
["",{"$f":"IF(C249<>\"\", IFERROR(VLOOKUP($B$6,全学団体!$E$2:$F$161,2,FALSE), IFERROR(VLOOKUP($B$6,医学部団体!$E$2:$F$47,2,FALSE), 0)), \"\")","v":""},null,null,"",237]
["",{"$f":"IF(C250<>\"\", IFERROR(VLOOKUP($B$6,全学団体!$E$2:$F$161,2,FALSE), IFERROR(VLOOKUP($B$6,医学部団体!$E$2:$F$47,2,FALSE), 0)), \"\")","v":""},null,null,"",238]
["",{"$f":"IF(C251<>\"\", IFERROR(VLOOKUP($B$6,全学団体!$E$2:$F$161,2,FALSE), IFERROR(VLOOKUP($B$6,医学部団体!$E$2:$F$47,2,FALSE), 0)), \"\")","v":""},null,null,"",239]
["",{"$f":"IF(C252<>\"\", IFERROR(VLOOKUP($B$6,全学団体!$E$2:$F$161,2,FALSE), IFERROR(VLOOKUP($B$6,医学部団体!$E$2:$F$47,2,FALSE), 0)), \"\")","v":""},null,null,"",240]
["",{"$f":"IF(C253<>\"\", IFERROR(VLOOKUP($B$6,全学団体!$E$2:$F$161,2,FALSE), IFERROR(VLOOKUP($B$6,医学部団体!$E$2:$F$47,2,FALSE), 0)), \"\")","v":""},null,null,"",241]
["",{"$f":"IF(C254<>\"\", IFERROR(VLOOKUP($B$6,全学団体!$E$2:$F$161,2,FALSE), IFERROR(VLOOKUP($B$6,医学部団体!$E$2:$F$47,2,FALSE), 0)), \"\")","v":""},null,null,"",242]
["",{"$f":"IF(C255<>\"\", IFERROR(VLOOKUP($B$6,全学団体!$E$2:$F$161,2,FALSE), IFERROR(VLOOKUP($B$6,医学部団体!$E$2:$F$47,2,FALSE), 0)), \"\")","v":""},null,null,"",243]
["",{"$f":"IF(C256<>\"\", IFERROR(VLOOKUP($B$6,全学団体!$E$2:$F$161,2,FALSE), IFERROR(VLOOKUP($B$6,医学部団体!$E$2:$F$47,2,FALSE), 0)), \"\")","v":""},null,null,"",244]
["",{"$f":"IF(C257<>\"\", IFERROR(VLOOKUP($B$6,全学団体!$E$2:$F$161,2,FALSE), IFERROR(VLOOKUP($B$6,医学部団体!$E$2:$F$47,2,FALSE), 0)), \"\")","v":""},null,null,"",245]
["",{"$f":"IF(C258<>\"\", IFERROR(VLOOKUP($B$6,全学団体!$E$2:$F$161,2,FALSE), IFERROR(VLOOKUP($B$6,医学部団体!$E$2:$F$47,2,FALSE), 0)), \"\")","v":""},null,null,"",246]
["",{"$f":"IF(C259<>\"\", IFERROR(VLOOKUP($B$6,全学団体!$E$2:$F$161,2,FALSE), IFERROR(VLOOKUP($B$6,医学部団体!$E$2:$F$47,2,FALSE), 0)), \"\")","v":""},null,null,"",247]
["",{"$f":"IF(C260<>\"\", IFERROR(VLOOKUP($B$6,全学団体!$E$2:$F$161,2,FALSE), IFERROR(VLOOKUP($B$6,医学部団体!$E$2:$F$47,2,FALSE), 0)), \"\")","v":""},null,null,"",248]
["",{"$f":"IF(C261<>\"\", IFERROR(VLOOKUP($B$6,全学団体!$E$2:$F$161,2,FALSE), IFERROR(VLOOKUP($B$6,医学部団体!$E$2:$F$47,2,FALSE), 0)), \"\")","v":""},null,null,"",249]
["",{"$f":"IF(C262<>\"\", IFERROR(VLOOKUP($B$6,全学団体!$E$2:$F$161,2,FALSE), IFERROR(VLOOKUP($B$6,医学部団体!$E$2:$F$47,2,FALSE), 0)), \"\")","v":""},null,null,"",250]

{"sheet":"システム取込用","index":1,"n_rows":1,"n_cols":1,"rows_kept":1,"cut":false,"hidden":false,"merged":[]}
[{"$f":"_xlfn._xlws.FILTER(名簿!A13:E10000, (名簿!A13:A10000<>\"\")+(名簿!B13:B10000<>\"\")+(名簿!C13:C10000<>\"\")+(名簿!D13:D10000<>\"\")+(名簿!E13:E10000<>\"\"), \"\")","v":""}]

{"sheet":"全学団体","index":2,"n_rows":161,"n_cols":9,"rows_kept":161,"cut":false,"hidden":true,"merged":[]}
["所属","全学・医学","学友会","区分","団体名称","サークルマスタ"]
["松本キャンパス","全学","◯","文化系","信州大学交響楽団","10100101","松本キャンパス"]
["松本キャンパス","全学","◯","文化系","信州大学吹奏楽団","10100102","学友会所属団体","学友会に所属していない団体"]
["松本キャンパス","全学","◯","文化系","マンドリンクラブ","10100103","体育系","文化系"]
["松本キャンパス","全学","◯","文化系","信州大学混声合唱団　　","10100104","体育系","文化系","その他"]
["松本キャンパス","全学","◯","文化系","信州大学軽音楽部","10100105"]
["松本キャンパス","全学","◯","文化系","信州大学グリークラブ","10100106"]
["松本キャンパス","全学","◯","文化系","棋道部","10100107"]
["松本キャンパス","全学","◯","文化系","信州大学競技かるたサークル","10100109"]
["松本キャンパス","全学","◯","文化系","フラメンコ部","10100110"]
["松本キャンパス","全学","◯","文化系","筝曲サークルことこと","10100111"]
["松本キャンパス","全学","◯","文化系","医学部室内楽団","10100112"]
["松本キャンパス","全学","◯","体育系","陸上競技部　","10100201"]
["松本キャンパス","全学","◯","体育系","全学水泳部","10100202"]
["松本キャンパス","全学","◯","体育系","硬式野球部","10100203"]
["松本キャンパス","全学","◯","体育系","全学硬式庭球部","10100204"]
["松本キャンパス","全学","◯","体育系","全学ソフトテニス部","10100205"]
["松本キャンパス","全学","◯","体育系","信州大学全学卓球部","10100206"]
["松本キャンパス","全学","◯","体育系","全学サッカー部","10100207"]
["松本キャンパス","全学","◯","体育系","全学ラグビー部","10100208"]
["松本キャンパス","全学","◯","体育系","柔道部","10100209"]
["松本キャンパス","全学","◯","体育系","信州大学学友会剣道部","10100210"]
["松本キャンパス","全学","◯","体育系","全学弓道部","10100211"]
["松本キャンパス","全学","◯","体育系","体操競技部","10100212"]
["松本キャンパス","全学","◯","体育系","競技スキー部","10100213"]
["松本キャンパス","全学","◯","体育系","全学ハンドボール部","10100214"]
["松本キャンパス","全学","◯","体育系","全学男子バスケットボール部","10100215"]
["松本キャンパス","全学","◯","体育系","女子バスケットボール部","10100216"]
["松本キャンパス","全学","◯","体育系","氷上競技部スピードスケート部門","10100217"]
["松本キャンパス","全学","◯","体育系","全学男子バレーボール部","10100218"]
["松本キャンパス","全学","◯","体育系","女子バレーボール部","10100219"]
["松本キャンパス","全学","◯","体育系","全学バドミントン部","10100220"]
["松本キャンパス","全学","◯","体育系","少林寺拳法部","10100221"]
["松本キャンパス","全学","◯","体育系","全学空手道部","10100222"]
["松本キャンパス","全学","◯","体育系","信州大学アメリカンフットボール部WILDCATS","10100223"]
["松本キャンパス","全学","◯","体育系","合気道部","10100224"]
["松本キャンパス","全学","◯","体育系","全学男女ソフトボール部","10100225"]
["松本キャンパス","全学","◯","体育系","アーチェリー部","10100226"]
["松本キャンパス","全学","◯","体育系","自転車競技部","10100227"]
["松本キャンパス","全学","◯","体育系","準硬式野球部","10100228"]
["松本キャンパス","全学","◯","体育系","全学女子サッカー部","10100229"]
["松本キャンパス","全学","◯","体育系","信州大学YOSAKOI祭りサークル和っしょい","10100230"]
["松本キャンパス","全学","◯","体育系","信州大学フェンシング部","10100231"]
["松本キャンパス","全学","◯","体育系","信州大学松本軟式野球部","10100232"]
["松本キャンパス","全学","◯","体育系","LOOSE","10100234"]
["松本キャンパス","全学","◯","体育系","信州大学女子ラクロス部","10100235"]
["松本キャンパス","全学","◯","体育系","男子ラクロス部","10100237"]
["松本キャンパス","全学","◯","体育系","車いすバスケットボール部SEROWS","10100238"]
["松本キャンパス","全学","◯","体育系","信州大学フットサル部vaizravaNa",10100239]
["松本キャンパス","全学","◯","体育系","氷上競技部アイスホッケー部門","20100205"]
["松本キャンパス","全学","◯","体育系","馬術部","20100219"]
["松本キャンパス","全学",null,"文化系","かしの木",20100101]
["松本キャンパス","全学",null,"文化系","美術研究会",20100102]
["松本キャンパス","全学",null,"文化系","文藝部楓",20100104]
["松本キャンパス","全学",null,"文化系","信州大学自然科学研究会",20100105]
["松本キャンパス","全学",null,"文化系","信州大学トゥルバドゥール",20100107]
["松本キャンパス","全学",null,"文化系","信州大学裏千家茶道部",20100108]
["松本キャンパス","全学",null,"文化系","信州大学アカペラサークルCapel",20100109]
["松本キャンパス","全学",null,"文化系","信州大学らんぷの会",20100111]
["松本キャンパス","全学",null,"文化系","信州大学The Beatles研Q会",20100114]
["松本キャンパス","全学",null,"文化系","信州大学ALL写真部",20100116]
["松本キャンパス","全学",null,"文化系","信州大学　天文俱楽部",20100118]
["松本キャンパス","全学",null,"文化系","信州大学漫画研究会",20100119]
["松本キャンパス","全学",null,"文化系","信州大学劇団山脈",20100120]
["松本キャンパス","全学",null,"文化系","信州大学JAZZ研究会",20100121]
["松本キャンパス","全学",null,"文化系","第二新聞部NOA",20100125]
["松本キャンパス","全学",null,"文化系","Simulation Game研究会",20100127]
["松本キャンパス","全学",null,"文化系","TOSS信州大学",20100128]
["松本キャンパス","全学",null,"文化系","2代目ヒッチハイクサークルのりこみ隊",20100133]
["松本キャンパス","全学",null,"文化系","信州大学ジャグリングサークルサイクロイド",20100138]
["松本キャンパス","全学",null,"文化系","信州大学ケルト音楽研究会 S-celts",20100142]
["松本キャンパス","全学",null,"文化系","書道サークル　墨人",20100145]
["松本キャンパス","全学",null,"文化系","昔ながらの田んぼの会",20100149]
["松本キャンパス","全学",null,"文化系","信州大学レトロ音楽俱楽部",20100150]
["松本キャンパス","全学",null,"文化系","信州大学のりものサークル",20100159]
["松本キャンパス","全学",null,"文化系","信州大学クイズサークル",20100160]
["松本キャンパス","全学",null,"文化系","信大回廊",20100168]
["松本キャンパス","全学",null,"文化系","信州大学ポケモンサークル",20100169]
["松本キャンパス","全学",null,"文化系","現代限界芸術研究会",20100178]
["松本キャンパス","全学",null,"文化系","現代文化研究会Shin@no",20100182]
["松本キャンパス","全学",null,"文化系","信州大学地域参画プロジェクトCHANGE",20100183]
["松本キャンパス","全学",null,"文化系","シンダイガイド",20100186]
["松本キャンパス","全学",null,"文化系","大信州スマブラ同好会",20100188]
["松本キャンパス","全学",null,"文化系","信大政治参加推進コミュニティーVOTERS",20100192]
["松本キャンパス","全学",null,"文化系","信州大学銭湯サークル",20100403]
["松本キャンパス","全学",null,"文化系","信州大学ゲーム制作サークルSEAP",20100406]
["松本キャンパス","全学",null,"文化系","信州大学競技麻雀部咲",20100407]
["松本キャンパス","全学",null,"文化系","信州大学VOCALOIDサークル",20100408]
["松本キャンパス","全学",null,"文化系","信州大学お笑いサークルしらかば",20100410]
["松本キャンパス","全学",null,"文化系","信州大学映画鑑賞サークルムビみる",20100411]
["松本キャンパス","全学",null,"文化系","SKZ",20100413]
["松本キャンパス","全学",null,"文化系","グローバルサークルHanas",20100414]
["松本キャンパス","全学",null,"文化系","信州大学レオクラブ",20100415]
["松本キャンパス","全学",null,"文化系","信州大学地理研究会",20100416]
["松本キャンパス","全学",null,"文化系","東方信嶺譚",20100417]
["松本キャンパス","全学",null,"文化系","信州大学フラサークル Lei hiwahiwa",20100418]
["松本キャンパス","全学",null,"文化系","信州大学植物セラピーサークル檜の芽",20100419]
["松本キャンパス","全学",null,"文化系","フリーペーパー団体信州Charm",20100421]
["松本キャンパス","全学",null,"文化系","信州大学プラモ部",20100422]
["松本キャンパス","全学",null,"文化系","信州大学料理サークル　ごゆるり",20100423]
["松本キャンパス","全学",null,"文化系","SOS団信州大学支部",20100425]
["松本キャンパス","全学",null,"文化系","ベトナム団体",20100426]
["松本キャンパス","全学",null,"文化系","信州大学モンゴルサークル",20100427]
["松本キャンパス","全学",null,"文化系","信州大学サバイバルゲームサークル靁鳥",20100429]
["松本キャンパス","全学",null,"文化系","信州大学カードゲーム同好会",20100431]
["松本キャンパス","全学",null,"文化系","お茶会サークル『Rize』",20100432]
["松本キャンパス","全学",null,"文化系","温泉同好会",20100433]
["松本キャンパス","全学",null,"文化系","ヤギ親衛隊",20100434]
["松本キャンパス","全学",null,"文化系","ボヘミアン珈琲",20100436]
["松本キャンパス","全学",null,"文化系","信州大学DJサークル　おみそしる",20100437]
["松本キャンパス","全学",null,"文化系","松本をもっとよくしようプロジェクト（まつもっと）",20100439]
["松本キャンパス","全学",null,"文化系","あるとない",20100441]
["松本キャンパス","全学",null,"文化系","信大カリー部",20100442]
["松本キャンパス","全学",null,"文化系","信州大学Disneyサークル",20100443]
["松本キャンパス","全学",null,"文化系","wacco",20100444]
["松本キャンパス","全学",null,"文化系","信州大学起業サークル",20100445]
["松本キャンパス","全学",null,"文化系","ベジタブルマンモス",20100446]
["松本キャンパス","全学",null,"文化系","教職サークル　「教助」",20100447]
["松本キャンパス","全学",null,"文化系","スーパーマーケット調査サークル「みりん会」",20100448]
["松本キャンパス","全学",null,"文化系","信州大学奇術部",20100449]
["松本キャンパス","全学",null,"文化系","信州大学ピアノ会",20100450]
["松本キャンパス","全学",null,"文化系","CAMP(Creative Advance Marketing Project)",20100451]
["松本キャンパス","全学",null,"文化系","信州大学素人占いサークル『やみくも』",20100452]
["松本キャンパス","全学",null,"文化系","信州大学俳句短歌サークル しいか",20100453]
["松本キャンパス","全学",null,"文化系","信州大学音楽ゲームサークルSSS",20100454]
["松本キャンパス","全学",null,"文化系","信州大学映像研究会（映像制作）",20100455]
["松本キャンパス","全学",null,"体育系","信州大学ゲレンデスキー愛好会",20100202]
["松本キャンパス","全学",null,"体育系","信州大学ワンダーフォーゲル部",20100203]
["松本キャンパス","全学",null,"体育系","信州大学自動車部ASSAC",20100208]
["松本キャンパス","全学",null,"体育系","シンボルず",20100209]
["松本キャンパス","全学",null,"体育系","全学硬式テニスサークルたんぽぽ",20100210]
["松本キャンパス","全学",null,"体育系","信州大学居合道サークル",20100214]
["松本キャンパス","全学",null,"体育系","信州大学サイクリング部",20100215]
["松本キャンパス","全学",null,"体育系","信州大学基礎スキー部",20100216]
["松本キャンパス","全学",null,"体育系","SELFISH",20100217]
["松本キャンパス","全学",null,"体育系","山歩会",20100218]
["松本キャンパス","全学",null,"体育系","信州大学ボクシング部",20100220]
["松本キャンパス","全学",null,"体育系","ストリートダンスサークルWDC",20100221]
["松本キャンパス","全学",null,"体育系","信州大学テコンドーサークル",20100222]
["松本キャンパス","全学",null,"体育系","バド健",20100224]
["松本キャンパス","全学",null,"体育系","信州大学ファイトクラブ",20100227]
["松本キャンパス","全学",null,"体育系","B.B.B Biology",20100233]
["松本キャンパス","全学",null,"体育系","信州大学航空部",20100243]
["松本キャンパス","全学",null,"体育系","SERVICIO",20100254]
["松本キャンパス","全学",null,"体育系","ばみとんとん",20100260]
["松本キャンパス","全学",null,"体育系","信州大学排球同好会",20100261]
["松本キャンパス","全学",null,"体育系","信州大学キャップ野球同好会",20100263]
["松本キャンパス","全学",null,"体育系","信州大学ダンスカバーサークル",20100265]
["松本キャンパス","全学",null,"体育系","スノーボードサークルMILKCHOCO",20100266]
["松本キャンパス","全学",null,"体育系","信州大学フィットネスクラブ PUMP IRON",20100268]
["松本キャンパス","全学",null,"体育系","信州大学モルックサークルまつぼっくり",20100270]
["松本キャンパス","全学",null,"体育系","信州大学競技雪合戦サークル",20100271]
["松本キャンパス","全学",null,"体育系","信州大学フィールドホッケーサークル",20100273]
["松本キャンパス","全学",null,"体育系","ケルビム",20100274]
["松本キャンパス","全学",null,"その他","銀嶺祭実行委員会",20100165]
["松本キャンパス","全学",null,"その他","あがたの森フェスティバル実行委員会",20100172]
["松本キャンパス","全学",null,"その他","信州大学山岳会",20100200]
["松本キャンパス","全学",null,"その他","新入生歓迎委員会",20100302]
["松本キャンパス","全学",null,"その他","りんご部隊",20100305]
["松本キャンパス","全学",null,"その他","信州大学一年生学生会",20100308]
["松本キャンパス","全学",null,"その他","信州大学VOLNET＋（ぼるねっとぷらす）",20100309]

{"sheet":"医学部団体","index":3,"n_rows":47,"n_cols":8,"rows_kept":47,"cut":false,"hidden":true,"merged":[]}
["所属","全学・医学","学友会","区分","団体名称","サークルマスタ"]
["松本キャンパス","医学部",null,"文化系","医学部軽音楽部","20110101","松本キャンパス"]
["松本キャンパス","医学部",null,"文化系","医学部写真部","20110102","医学部団体"]
["松本キャンパス","医学部",null,"文化系","医学部天文部","20110103","学友会所属団体","学友会に所属していない団体"]
["松本キャンパス","医学部",null,"文化系","メディカル映画研究会","20110104","体育系","文化系"]
["松本キャンパス","医学部",null,"文化系","Medical English Speaking Society","20110105"]
["松本キャンパス","医学部",null,"文化系","Shinshu Advanced Life-support Teams","20110106"]
["松本キャンパス","医学部",null,"文化系","医学部交響楽団","20110107"]
["松本キャンパス","医学部",null,"文化系","わらわら","20110108"]
["松本キャンパス","医学部",null,"文化系","医学部信州大好きクラブ","20110109"]
["松本キャンパス","医学部",null,"文化系","医学部ダンス部","20110110"]
["松本キャンパス","医学部",null,"文化系","MEDICAL HEALTH","20110111"]
["松本キャンパス","医学部",null,"文化系","医学部茶道部","20110113"]
["松本キャンパス","医学部",null,"文化系","MHC","20110115"]
["松本キャンパス","医学部",null,"文化系","医学部映画研究会",20110116]
["松本キャンパス","医学部",null,"文化系","SinUS",20110117]
["松本キャンパス","医学部",null,"文化系","医学を真剣に楽しみ、深める会",20110119]
["松本キャンパス","医学部",null,"文化系","信州大学東洋医学勉強会",20110119]
["松本キャンパス","医学部",null,"文化系","ぬいぬい部",20110120]
["松本キャンパス","医学部",null,"体育系","信州大学医学部硬式庭球部","20110201"]
["松本キャンパス","医学部",null,"体育系","医学部軟式テニス部","20110202"]
["松本キャンパス","医学部",null,"体育系","医学部男子バレーボール部","20110203"]
["松本キャンパス","医学部",null,"体育系","医学部女子バレーボール部","20110204"]
["松本キャンパス","医学部",null,"体育系","医学部男子バスケットボール部","20110205"]
["松本キャンパス","医学部",null,"体育系","医学部女子バスケットボール部","20110206"]
["松本キャンパス","医学部",null,"体育系","医学部ラグビー部","20110207"]
["松本キャンパス","医学部",null,"体育系","医学部サッカー部","20110208"]
["松本キャンパス","医学部",null,"体育系","医学部硬式野球部","20110209"]
["松本キャンパス","医学部",null,"体育系","医学部ゴルフ部","20110210"]
["松本キャンパス","医学部",null,"体育系","医学部卓球部","20110211"]
["松本キャンパス","医学部",null,"体育系","医学部医短バドミントン部","20110212"]
["松本キャンパス","医学部",null,"体育系","医学部水泳部","20110213"]
["松本キャンパス","医学部",null,"体育系","医学部陸上競技部","20110214"]
["松本キャンパス","医学部",null,"体育系","医学部競技スキー部","20110215"]
["松本キャンパス","医学部",null,"体育系","信州大学医学部馬術部","20110216"]
["松本キャンパス","医学部",null,"体育系","信州大学医学部山岳部","20110217"]
["松本キャンパス","医学部",null,"体育系","医学部弓道部","20110218"]
["松本キャンパス","医学部",null,"体育系","信州大学医学部剣道部","20110219"]
["松本キャンパス","医学部",null,"体育系","医学部空手道部","20110220"]
["松本キャンパス","医学部",null,"体育系","医学部柔道部","20110221"]
["松本キャンパス","医学部",null,"体育系","医学部フットサル部","20110222"]
["松本キャンパス","医学部",null,"体育系","医学部女子卓球部","20110223"]
["松本キャンパス","医学部",null,"体育系","医学部男子ハンドボール部","20110224"]
["松本キャンパス","医学部",null,"体育系","医学部バーベル部","20110225"]
["松本キャンパス","医学部",null,"体育系","医学部ラージボール卓球部","20110226"]
["松本キャンパス","医学部",null,"体育系","医学部女子ハンドボール部","20110227"]
["松本キャンパス","医学部","◯","文化系","医学部室内楽団",10100112]