{"text_format":"1","workbook":"xlsx","n_sheets":4,"sheets":["名簿","システム取込用","全学団体","医学部団体"],"not_rendered":{"charts":0,"images":0,"macros":1,"external_links":0,"defined_names":19,"comments":0,"pivot_tables":0},"unopened":[],"bounds":{"document_bytes":16777216,"sheet_cells":100000,"rows_first":2000,"rows_last":500,"rows_between":2000,"halvings":0,"cell_chars":16384,"cell_head_chars":4096},"cells_cut":0,"cells_raw":0,"read":"whole","date_system":"1900"}

{"sheet":"名簿","index":0,"n_rows":262,"n_cols":6,"rows_kept":262,"cut":false,"hidden":false,"merged":[[5,1,5,3],[4,1,4,3],[3,1,3,3],[1,1,1,3],[8,1,8,3],[2,1,2,3]]}
["継続団体"]
["所属","松本キャンパス"]
["全学・医学"]
["学友会の所属"]
["活動区分"]
["団体名"]
[]
["新規団体"]
["団体名"]
[]
["所属学生名簿"]
["コード(自動入力)","学籍番号","氏名","整理番号","半角英数修正","半角・大文字修正"]
[{"$f":"IFERROR(VLOOKUP($B$6,全学団体!$E$2:$F$139,2,FALSE),VLOOKUP($B$6,医学部団体!$E$2:$F$40,2,FALSE))","v":{"$error":"#N/A"}},null,null,1,{"$f":"ASC(B13)","v":""},{"$f":"UPPER(E13)","v":""}]
[{"$f":"IFERROR(VLOOKUP($B$6,全学団体!$E$2:$F$139,2,FALSE),VLOOKUP($B$6,医学部団体!$E$2:$F$40,2,FALSE))","v":{"$error":"#N/A"}},null,null,2,{"$f":"ASC(B14)","v":""},{"$f":"UPPER(E14)","v":""}]
[{"$f":"IFERROR(VLOOKUP($B$6,全学団体!$E$2:$F$139,2,FALSE),VLOOKUP($B$6,医学部団体!$E$2:$F$40,2,FALSE))","v":{"$error":"#N/A"}},null,null,3,"",""]
[{"$f":"IFERROR(VLOOKUP($B$6,全学団体!$E$2:$F$139,2,FALSE),VLOOKUP($B$6,医学部団体!$E$2:$F$40,2,FALSE))","v":{"$error":"#N/A"}},null,null,4,"",""]
[{"$f":"IFERROR(VLOOKUP($B$6,全学団体!$E$2:$F$139,2,FALSE),VLOOKUP($B$6,医学部団体!$E$2:$F$40,2,FALSE))","v":{"$error":"#N/A"}},null,null,5,"",""]
[{"$f":"IFERROR(VLOOKUP($B$6,全学団体!$E$2:$F$139,2,FALSE),VLOOKUP($B$6,医学部団体!$E$2:$F$40,2,FALSE))","v":{"$error":"#N/A"}},null,null,6,"",""]
[{"$f":"IFERROR(VLOOKUP($B$6,全学団体!$E$2:$F$139,2,FALSE),VLOOKUP($B$6,医学部団体!$E$2:$F$40,2,FALSE))","v":{"$error":"#N/A"}},null,null,7,"",""]
[{"$f":"IFERROR(VLOOKUP($B$6,全学団体!$E$2:$F$139,2,FALSE),VLOOKUP($B$6,医学部団体!$E$2:$F$40,2,FALSE))","v":{"$error":"#N/A"}},null,null,8,"",""]
[{"$f":"IFERROR(VLOOKUP($B$6,全学団体!$E$2:$F$139,2,FALSE),VLOOKUP($B$6,医学部団体!$E$2:$F$40,2,FALSE))","v":{"$error":"#N/A"}},null,null,9,"",""]
[{"$f":"IFERROR(VLOOKUP($B$6,全学団体!$E$2:$F$139,2,FALSE),VLOOKUP($B$6,医学部団体!$E$2:$F$40,2,FALSE))","v":{"$error":"#N/A"}},null,null,10,"",""]
[{"$f":"IFERROR(VLOOKUP($B$6,全学団体!$E$2:$F$139,2,FALSE),VLOOKUP($B$6,医学部団体!$E$2:$F$40,2,FALSE))","v":{"$error":"#N/A"}},null,null,11,"",""]
[{"$f":"IFERROR(VLOOKUP($B$6,全学団体!$E$2:$F$139,2,FALSE),VLOOKUP($B$6,医学部団体!$E$2:$F$40,2,FALSE))","v":{"$error":"#N/A"}},null,null,12,"",""]
[{"$f":"IFERROR(VLOOKUP($B$6,全学団体!$E$2:$F$139,2,FALSE),VLOOKUP($B$6,医学部団体!$E$2:$F$40,2,FALSE))","v":{"$error":"#N/A"}},null,null,13,"",""]
[{"$f":"IFERROR(VLOOKUP($B$6,全学団体!$E$2:$F$139,2,FALSE),VLOOKUP($B$6,医学部団体!$E$2:$F$40,2,FALSE))","v":{"$error":"#N/A"}},null,null,14,"",""]
[{"$f":"IFERROR(VLOOKUP($B$6,全学団体!$E$2:$F$139,2,FALSE),VLOOKUP($B$6,医学部団体!$E$2:$F$40,2,FALSE))","v":{"$error":"#N/A"}},null,null,15,"",""]
[{"$f":"IFERROR(VLOOKUP($B$6,全学団体!$E$2:$F$139,2,FALSE),VLOOKUP($B$6,医学部団体!$E$2:$F$40,2,FALSE))","v":{"$error":"#N/A"}},null,null,16,"",""]
[{"$f":"IFERROR(VLOOKUP($B$6,全学団体!$E$2:$F$139,2,FALSE),VLOOKUP($B$6,医学部団体!$E$2:$F$40,2,FALSE))","v":{"$error":"#N/A"}},null,null,17,"",""]
[{"$f":"IFERROR(VLOOKUP($B$6,全学団体!$E$2:$F$139,2,FALSE),VLOOKUP($B$6,医学部団体!$E$2:$F$40,2,FALSE))","v":{"$error":"#N/A"}},null,null,18,"",""]
[{"$f":"IFERROR(VLOOKUP($B$6,全学団体!$E$2:$F$139,2,FALSE),VLOOKUP($B$6,医学部団体!$E$2:$F$40,2,FALSE))","v":{"$error":"#N/A"}},null,null,19,"",""]
[{"$f":"IFERROR(VLOOKUP($B$6,全学団体!$E$2:$F$139,2,FALSE),VLOOKUP($B$6,医学部団体!$E$2:$F$40,2,FALSE))","v":{"$error":"#N/A"}},null,null,20,"",""]
[{"$f":"IFERROR(VLOOKUP($B$6,全学団体!$E$2:$F$139,2,FALSE),VLOOKUP($B$6,医学部団体!$E$2:$F$40,2,FALSE))","v":{"$error":"#N/A"}},null,null,21,"",""]
[{"$f":"IFERROR(VLOOKUP($B$6,全学団体!$E$2:$F$139,2,FALSE),VLOOKUP($B$6,医学部団体!$E$2:$F$40,2,FALSE))","v":{"$error":"#N/A"}},null,null,22,"",""]
[{"$f":"IFERROR(VLOOKUP($B$6,全学団体!$E$2:$F$139,2,FALSE),VLOOKUP($B$6,医学部団体!$E$2:$F$40,2,FALSE))","v":{"$error":"#N/A"}},null,null,23,"",""]
[{"$f":"IFERROR(VLOOKUP($B$6,全学団体!$E$2:$F$139,2,FALSE),VLOOKUP($B$6,医学部団体!$E$2:$F$40,2,FALSE))","v":{"$error":"#N/A"}},null,null,24,"",""]
[{"$f":"IFERROR(VLOOKUP($B$6,全学団体!$E$2:$F$139,2,FALSE),VLOOKUP($B$6,医学部団体!$E$2:$F$40,2,FALSE))","v":{"$error":"#N/A"}},null,null,25,"",""]
[{"$f":"IFERROR(VLOOKUP($B$6,全学団体!$E$2:$F$139,2,FALSE),VLOOKUP($B$6,医学部団体!$E$2:$F$40,2,FALSE))","v":{"$error":"#N/A"}},null,null,26,"",""]
[{"$f":"IFERROR(VLOOKUP($B$6,全学団体!$E$2:$F$139,2,FALSE),VLOOKUP($B$6,医学部団体!$E$2:$F$40,2,FALSE))","v":{"$error":"#N/A"}},null,null,27,"",""]
[{"$f":"IFERROR(VLOOKUP($B$6,全学団体!$E$2:$F$139,2,FALSE),VLOOKUP($B$6,医学部団体!$E$2:$F$40,2,FALSE))","v":{"$error":"#N/A"}},null,null,28,"",""]
[{"$f":"IFERROR(VLOOKUP($B$6,全学団体!$E$2:$F$139,2,FALSE),VLOOKUP($B$6,医学部団体!$E$2:$F$40,2,FALSE))","v":{"$error":"#N/A"}},null,null,29,"",""]
[{"$f":"IFERROR(VLOOKUP($B$6,全学団体!$E$2:$F$139,2,FALSE),VLOOKUP($B$6,医学部団体!$E$2:$F$40,2,FALSE))","v":{"$error":"#N/A"}},null,null,30,"",""]
[{"$f":"IFERROR(VLOOKUP($B$6,全学団体!$E$2:$F$139,2,FALSE),VLOOKUP($B$6,医学部団体!$E$2:$F$40,2,FALSE))","v":{"$error":"#N/A"}},null,null,31,"",""]
[{"$f":"IFERROR(VLOOKUP($B$6,全学団体!$E$2:$F$139,2,FALSE),VLOOKUP($B$6,医学部団体!$E$2:$F$40,2,FALSE))","v":{"$error":"#N/A"}},null,null,32,"",""]
[{"$f":"IFERROR(VLOOKUP($B$6,全学団体!$E$2:$F$139,2,FALSE),VLOOKUP($B$6,医学部団体!$E$2:$F$40,2,FALSE))","v":{"$error":"#N/A"}},null,null,33,"",""]
[{"$f":"IFERROR(VLOOKUP($B$6,全学団体!$E$2:$F$139,2,FALSE),VLOOKUP($B$6,医学部団体!$E$2:$F$40,2,FALSE))","v":{"$error":"#N/A"}},null,null,34,"",""]
[{"$f":"IFERROR(VLOOKUP($B$6,全学団体!$E$2:$F$139,2,FALSE),VLOOKUP($B$6,医学部団体!$E$2:$F$40,2,FALSE))","v":{"$error":"#N/A"}},null,null,35,"",""]
[{"$f":"IFERROR(VLOOKUP($B$6,全学団体!$E$2:$F$139,2,FALSE),VLOOKUP($B$6,医学部団体!$E$2:$F$40,2,FALSE))","v":{"$error":"#N/A"}},null,null,36,"",""]
[{"$f":"IFERROR(VLOOKUP($B$6,全学団体!$E$2:$F$139,2,FALSE),VLOOKUP($B$6,医学部団体!$E$2:$F$40,2,FALSE))","v":{"$error":"#N/A"}},null,null,37,"",""]
[{"$f":"IFERROR(VLOOKUP($B$6,全学団体!$E$2:$F$139,2,FALSE),VLOOKUP($B$6,医学部団体!$E$2:$F$40,2,FALSE))","v":{"$error":"#N/A"}},null,null,38,"",""]
[{"$f":"IFERROR(VLOOKUP($B$6,全学団体!$E$2:$F$139,2,FALSE),VLOOKUP($B$6,医学部団体!$E$2:$F$40,2,FALSE))","v":{"$error":"#N/A"}},null,null,39,"",""]
[{"$f":"IFERROR(VLOOKUP($B$6,全学団体!$E$2:$F$139,2,FALSE),VLOOKUP($B$6,医学部団体!$E$2:$F$40,2,FALSE))","v":{"$error":"#N/A"}},null,null,40,"",""]
[{"$f":"IFERROR(VLOOKUP($B$6,全学団体!$E$2:$F$139,2,FALSE),VLOOKUP($B$6,医学部団体!$E$2:$F$40,2,FALSE))","v":{"$error":"#N/A"}},null,null,41,"",""]
[{"$f":"IFERROR(VLOOKUP($B$6,全学団体!$E$2:$F$139,2,FALSE),VLOOKUP($B$6,医学部団体!$E$2:$F$40,2,FALSE))","v":{"$error":"#N/A"}},null,null,42,"",""]
[{"$f":"IFERROR(VLOOKUP($B$6,全学団体!$E$2:$F$139,2,FALSE),VLOOKUP($B$6,医学部団体!$E$2:$F$40,2,FALSE))","v":{"$error":"#N/A"}},null,null,43,"",""]
[{"$f":"IFERROR(VLOOKUP($B$6,全学団体!$E$2:$F$139,2,FALSE),VLOOKUP($B$6,医学部団体!$E$2:$F$40,2,FALSE))","v":{"$error":"#N/A"}},null,null,44,"",""]
[{"$f":"IFERROR(VLOOKUP($B$6,全学団体!$E$2:$F$139,2,FALSE),VLOOKUP($B$6,医学部団体!$E$2:$F$40,2,FALSE))","v":{"$error":"#N/A"}},null,null,45,"",""]
[{"$f":"IFERROR(VLOOKUP($B$6,全学団体!$E$2:$F$139,2,FALSE),VLOOKUP($B$6,医学部団体!$E$2:$F$40,2,FALSE))","v":{"$error":"#N/A"}},null,null,46,"",""]
[{"$f":"IFERROR(VLOOKUP($B$6,全学団体!$E$2:$F$139,2,FALSE),VLOOKUP($B$6,医学部団体!$E$2:$F$40,2,FALSE))","v":{"$error":"#N/A"}},null,null,47,"",""]
[{"$f":"IFERROR(VLOOKUP($B$6,全学団体!$E$2:$F$139,2,FALSE),VLOOKUP($B$6,医学部団体!$E$2:$F$40,2,FALSE))","v":{"$error":"#N/A"}},null,null,48,"",""]
[{"$f":"IFERROR(VLOOKUP($B$6,全学団体!$E$2:$F$139,2,FALSE),VLOOKUP($B$6,医学部団体!$E$2:$F$40,2,FALSE))","v":{"$error":"#N/A"}},null,null,49,"",""]
[{"$f":"IFERROR(VLOOKUP($B$6,全学団体!$E$2:$F$139,2,FALSE),VLOOKUP($B$6,医学部団体!$E$2:$F$40,2,FALSE))","v":{"$error":"#N/A"}},null,null,50,"",""]
[{"$f":"IFERROR(VLOOKUP($B$6,全学団体!$E$2:$F$139,2,FALSE),VLOOKUP($B$6,医学部団体!$E$2:$F$40,2,FALSE))","v":{"$error":"#N/A"}},null,null,51,"",""]
[{"$f":"IFERROR(VLOOKUP($B$6,全学団体!$E$2:$F$139,2,FALSE),VLOOKUP($B$6,医学部団体!$E$2:$F$40,2,FALSE))","v":{"$error":"#N/A"}},null,null,52,"",""]
[{"$f":"IFERROR(VLOOKUP($B$6,全学団体!$E$2:$F$139,2,FALSE),VLOOKUP($B$6,医学部団体!$E$2:$F$40,2,FALSE))","v":{"$error":"#N/A"}},null,null,53,"",""]
[{"$f":"IFERROR(VLOOKUP($B$6,全学団体!$E$2:$F$139,2,FALSE),VLOOKUP($B$6,医学部団体!$E$2:$F$40,2,FALSE))","v":{"$error":"#N/A"}},null,null,54,"",""]
[{"$f":"IFERROR(VLOOKUP($B$6,全学団体!$E$2:$F$139,2,FALSE),VLOOKUP($B$6,医学部団体!$E$2:$F$40,2,FALSE))","v":{"$error":"#N/A"}},null,null,55,"",""]
[{"$f":"IFERROR(VLOOKUP($B$6,全学団体!$E$2:$F$139,2,FALSE),VLOOKUP($B$6,医学部団体!$E$2:$F$40,2,FALSE))","v":{"$error":"#N/A"}},null,null,56,"",""]
[{"$f":"IFERROR(VLOOKUP($B$6,全学団体!$E$2:$F$139,2,FALSE),VLOOKUP($B$6,医学部団体!$E$2:$F$40,2,FALSE))","v":{"$error":"#N/A"}},null,null,57,"",""]
[{"$f":"IFERROR(VLOOKUP($B$6,全学団体!$E$2:$F$139,2,FALSE),VLOOKUP($B$6,医学部団体!$E$2:$F$40,2,FALSE))","v":{"$error":"#N/A"}},null,null,58,"",""]
[{"$f":"IFERROR(VLOOKUP($B$6,全学団体!$E$2:$F$139,2,FALSE),VLOOKUP($B$6,医学部団体!$E$2:$F$40,2,FALSE))","v":{"$error":"#N/A"}},null,null,59,"",""]
[{"$f":"IFERROR(VLOOKUP($B$6,全学団体!$E$2:$F$139,2,FALSE),VLOOKUP($B$6,医学部団体!$E$2:$F$40,2,FALSE))","v":{"$error":"#N/A"}},null,null,60,"",""]
[{"$f":"IFERROR(VLOOKUP($B$6,全学団体!$E$2:$F$139,2,FALSE),VLOOKUP($B$6,医学部団体!$E$2:$F$40,2,FALSE))","v":{"$error":"#N/A"}},null,null,61,"",""]
[{"$f":"IFERROR(VLOOKUP($B$6,全学団体!$E$2:$F$139,2,FALSE),VLOOKUP($B$6,医学部団体!$E$2:$F$40,2,FALSE))","v":{"$error":"#N/A"}},null,null,62,"",""]
[{"$f":"IFERROR(VLOOKUP($B$6,全学団体!$E$2:$F$139,2,FALSE),VLOOKUP($B$6,医学部団体!$E$2:$F$40,2,FALSE))","v":{"$error":"#N/A"}},null,null,63,"",""]
[{"$f":"IFERROR(VLOOKUP($B$6,全学団体!$E$2:$F$139,2,FALSE),VLOOKUP($B$6,医学部団体!$E$2:$F$40,2,FALSE))","v":{"$error":"#N/A"}},null,null,64,"",""]
[{"$f":"IFERROR(VLOOKUP($B$6,全学団体!$E$2:$F$139,2,FALSE),VLOOKUP($B$6,医学部団体!$E$2:$F$40,2,FALSE))","v":{"$error":"#N/A"}},null,null,65,"",""]
[{"$f":"IFERROR(VLOOKUP($B$6,全学団体!$E$2:$F$139,2,FALSE),VLOOKUP($B$6,医学部団体!$E$2:$F$40,2,FALSE))","v":{"$error":"#N/A"}},null,null,66,{"$f":"ASC(B78)","v":""},{"$f":"UPPER(E78)","v":""}]
[{"$f":"IFERROR(VLOOKUP($B$6,全学団体!$E$2:$F$139,2,FALSE),VLOOKUP($B$6,医学部団体!$E$2:$F$40,2,FALSE))","v":{"$error":"#N/A"}},null,null,67,"",""]
[{"$f":"IFERROR(VLOOKUP($B$6,全学団体!$E$2:$F$139,2,FALSE),VLOOKUP($B$6,医学部団体!$E$2:$F$40,2,FALSE))","v":{"$error":"#N/A"}},null,null,68,"",""]
[{"$f":"IFERROR(VLOOKUP($B$6,全学団体!$E$2:$F$139,2,FALSE),VLOOKUP($B$6,医学部団体!$E$2:$F$40,2,FALSE))","v":{"$error":"#N/A"}},null,null,69,"",""]
[{"$f":"IFERROR(VLOOKUP($B$6,全学団体!$E$2:$F$139,2,FALSE),VLOOKUP($B$6,医学部団体!$E$2:$F$40,2,FALSE))","v":{"$error":"#N/A"}},null,null,70,"",""]
[{"$f":"IFERROR(VLOOKUP($B$6,全学団体!$E$2:$F$139,2,FALSE),VLOOKUP($B$6,医学部団体!$E$2:$F$40,2,FALSE))","v":{"$error":"#N/A"}},null,null,71,"",""]
[{"$f":"IFERROR(VLOOKUP($B$6,全学団体!$E$2:$F$139,2,FALSE),VLOOKUP($B$6,医学部団体!$E$2:$F$40,2,FALSE))","v":{"$error":"#N/A"}},null,null,72,"",""]
[{"$f":"IFERROR(VLOOKUP($B$6,全学団体!$E$2:$F$139,2,FALSE),VLOOKUP($B$6,医学部団体!$E$2:$F$40,2,FALSE))","v":{"$error":"#N/A"}},null,null,73,"",""]
[{"$f":"IFERROR(VLOOKUP($B$6,全学団体!$E$2:$F$139,2,FALSE),VLOOKUP($B$6,医学部団体!$E$2:$F$40,2,FALSE))","v":{"$error":"#N/A"}},null,null,74,"",""]
[{"$f":"IFERROR(VLOOKUP($B$6,全学団体!$E$2:$F$139,2,FALSE),VLOOKUP($B$6,医学部団体!$E$2:$F$40,2,FALSE))","v":{"$error":"#N/A"}},null,null,75,"",""]
[{"$f":"IFERROR(VLOOKUP($B$6,全学団体!$E$2:$F$139,2,FALSE),VLOOKUP($B$6,医学部団体!$E$2:$F$40,2,FALSE))","v":{"$error":"#N/A"}},null,null,76,"",""]
[{"$f":"IFERROR(VLOOKUP($B$6,全学団体!$E$2:$F$139,2,FALSE),VLOOKUP($B$6,医学部団体!$E$2:$F$40,2,FALSE))","v":{"$error":"#N/A"}},null,null,77,"",""]
[{"$f":"IFERROR(VLOOKUP($B$6,全学団体!$E$2:$F$139,2,FALSE),VLOOKUP($B$6,医学部団体!$E$2:$F$40,2,FALSE))","v":{"$error":"#N/A"}},null,null,78,"",""]
[{"$f":"IFERROR(VLOOKUP($B$6,全学団体!$E$2:$F$139,2,FALSE),VLOOKUP($B$6,医学部団体!$E$2:$F$40,2,FALSE))","v":{"$error":"#N/A"}},null,null,79,"",""]
[{"$f":"IFERROR(VLOOKUP($B$6,全学団体!$E$2:$F$139,2,FALSE),VLOOKUP($B$6,医学部団体!$E$2:$F$40,2,FALSE))","v":{"$error":"#N/A"}},null,null,80,"",""]
[{"$f":"IFERROR(VLOOKUP($B$6,全学団体!$E$2:$F$139,2,FALSE),VLOOKUP($B$6,医学部団体!$E$2:$F$40,2,FALSE))","v":{"$error":"#N/A"}},null,null,81,"",""]
[{"$f":"IFERROR(VLOOKUP($B$6,全学団体!$E$2:$F$139,2,FALSE),VLOOKUP($B$6,医学部団体!$E$2:$F$40,2,FALSE))","v":{"$error":"#N/A"}},null,null,82,"",""]
[{"$f":"IFERROR(VLOOKUP($B$6,全学団体!$E$2:$F$139,2,FALSE),VLOOKUP($B$6,医学部団体!$E$2:$F$40,2,FALSE))","v":{"$error":"#N/A"}},null,null,83,"",""]
[{"$f":"IFERROR(VLOOKUP($B$6,全学団体!$E$2:$F$139,2,FALSE),VLOOKUP($B$6,医学部団体!$E$2:$F$40,2,FALSE))","v":{"$error":"#N/A"}},null,null,84,"",""]
[{"$f":"IFERROR(VLOOKUP($B$6,全学団体!$E$2:$F$139,2,FALSE),VLOOKUP($B$6,医学部団体!$E$2:$F$40,2,FALSE))","v":{"$error":"#N/A"}},null,null,85,"",""]
[{"$f":"IFERROR(VLOOKUP($B$6,全学団体!$E$2:$F$139,2,FALSE),VLOOKUP($B$6,医学部団体!$E$2:$F$40,2,FALSE))","v":{"$error":"#N/A"}},null,null,86,"",""]
[{"$f":"IFERROR(VLOOKUP($B$6,全学団体!$E$2:$F$139,2,FALSE),VLOOKUP($B$6,医学部団体!$E$2:$F$40,2,FALSE))","v":{"$error":"#N/A"}},null,null,87,"",""]
[{"$f":"IFERROR(VLOOKUP($B$6,全学団体!$E$2:$F$139,2,FALSE),VLOOKUP($B$6,医学部団体!$E$2:$F$40,2,FALSE))","v":{"$error":"#N/A"}},null,null,88,"",""]
[{"$f":"IFERROR(VLOOKUP($B$6,全学団体!$E$2:$F$139,2,FALSE),VLOOKUP($B$6,医学部団体!$E$2:$F$40,2,FALSE))","v":{"$error":"#N/A"}},null,null,89,"",""]
[{"$f":"IFERROR(VLOOKUP($B$6,全学団体!$E$2:$F$139,2,FALSE),VLOOKUP($B$6,医学部団体!$E$2:$F$40,2,FALSE))","v":{"$error":"#N/A"}},null,null,90,"",""]
[{"$f":"IFERROR(VLOOKUP($B$6,全学団体!$E$2:$F$139,2,FALSE),VLOOKUP($B$6,医学部団体!$E$2:$F$40,2,FALSE))","v":{"$error":"#N/A"}},null,null,91,"",""]
[{"$f":"IFERROR(VLOOKUP($B$6,全学団体!$E$2:$F$139,2,FALSE),VLOOKUP($B$6,医学部団体!$E$2:$F$40,2,FALSE))","v":{"$error":"#N/A"}},null,null,92,"",""]
[{"$f":"IFERROR(VLOOKUP($B$6,全学団体!$E$2:$F$139,2,FALSE),VLOOKUP($B$6,医学部団体!$E$2:$F$40,2,FALSE))","v":{"$error":"#N/A"}},null,null,93,"",""]
[{"$f":"IFERROR(VLOOKUP($B$6,全学団体!$E$2:$F$139,2,FALSE),VLOOKUP($B$6,医学部団体!$E$2:$F$40,2,FALSE))","v":{"$error":"#N/A"}},null,null,94,"",""]
[{"$f":"IFERROR(VLOOKUP($B$6,全学団体!$E$2:$F$139,2,FALSE),VLOOKUP($B$6,医学部団体!$E$2:$F$40,2,FALSE))","v":{"$error":"#N/A"}},null,null,95,"",""]
[{"$f":"IFERROR(VLOOKUP($B$6,全学団体!$E$2:$F$139,2,FALSE),VLOOKUP($B$6,医学部団体!$E$2:$F$40,2,FALSE))","v":{"$error":"#N/A"}},null,null,96,"",""]
[{"$f":"IFERROR(VLOOKUP($B$6,全学団体!$E$2:$F$139,2,FALSE),VLOOKUP($B$6,医学部団体!$E$2:$F$40,2,FALSE))","v":{"$error":"#N/A"}},null,null,97,"",""]
[{"$f":"IFERROR(VLOOKUP($B$6,全学団体!$E$2:$F$139,2,FALSE),VLOOKUP($B$6,医学部団体!$E$2:$F$40,2,FALSE))","v":{"$error":"#N/A"}},null,null,98,"",""]
[{"$f":"IFERROR(VLOOKUP($B$6,全学団体!$E$2:$F$139,2,FALSE),VLOOKUP($B$6,医学部団体!$E$2:$F$40,2,FALSE))","v":{"$error":"#N/A"}},null,null,99,"",""]
[{"$f":"IFERROR(VLOOKUP($B$6,全学団体!$E$2:$F$139,2,FALSE),VLOOKUP($B$6,医学部団体!$E$2:$F$40,2,FALSE))","v":{"$error":"#N/A"}},null,null,100,"",""]
[{"$f":"IFERROR(VLOOKUP($B$6,全学団体!$E$2:$F$139,2,FALSE),VLOOKUP($B$6,医学部団体!$E$2:$F$40,2,FALSE))","v":{"$error":"#N/A"}},null,null,101,"",""]
[{"$f":"IFERROR(VLOOKUP($B$6,全学団体!$E$2:$F$139,2,FALSE),VLOOKUP($B$6,医学部団体!$E$2:$F$40,2,FALSE))","v":{"$error":"#N/A"}},null,null,102,"",""]
[{"$f":"IFERROR(VLOOKUP($B$6,全学団体!$E$2:$F$139,2,FALSE),VLOOKUP($B$6,医学部団体!$E$2:$F$40,2,FALSE))","v":{"$error":"#N/A"}},null,null,103,"",""]
[{"$f":"IFERROR(VLOOKUP($B$6,全学団体!$E$2:$F$139,2,FALSE),VLOOKUP($B$6,医学部団体!$E$2:$F$40,2,FALSE))","v":{"$error":"#N/A"}},null,null,104,"",""]
[{"$f":"IFERROR(VLOOKUP($B$6,全学団体!$E$2:$F$139,2,FALSE),VLOOKUP($B$6,医学部団体!$E$2:$F$40,2,FALSE))","v":{"$error":"#N/A"}},null,null,105,"",""]
[{"$f":"IFERROR(VLOOKUP($B$6,全学団体!$E$2:$F$139,2,FALSE),VLOOKUP($B$6,医学部団体!$E$2:$F$40,2,FALSE))","v":{"$error":"#N/A"}},null,null,106,"",""]
[{"$f":"IFERROR(VLOOKUP($B$6,全学団体!$E$2:$F$139,2,FALSE),VLOOKUP($B$6,医学部団体!$E$2:$F$40,2,FALSE))","v":{"$error":"#N/A"}},null,null,107,"",""]
[{"$f":"IFERROR(VLOOKUP($B$6,全学団体!$E$2:$F$139,2,FALSE),VLOOKUP($B$6,医学部団体!$E$2:$F$40,2,FALSE))","v":{"$error":"#N/A"}},null,null,108,"",""]
[{"$f":"IFERROR(VLOOKUP($B$6,全学団体!$E$2:$F$139,2,FALSE),VLOOKUP($B$6,医学部団体!$E$2:$F$40,2,FALSE))","v":{"$error":"#N/A"}},null,null,109,"",""]
[{"$f":"IFERROR(VLOOKUP($B$6,全学団体!$E$2:$F$139,2,FALSE),VLOOKUP($B$6,医学部団体!$E$2:$F$40,2,FALSE))","v":{"$error":"#N/A"}},null,null,110,"",""]
[{"$f":"IFERROR(VLOOKUP($B$6,全学団体!$E$2:$F$139,2,FALSE),VLOOKUP($B$6,医学部団体!$E$2:$F$40,2,FALSE))","v":{"$error":"#N/A"}},null,null,111,"",""]
[{"$f":"IFERROR(VLOOKUP($B$6,全学団体!$E$2:$F$139,2,FALSE),VLOOKUP($B$6,医学部団体!$E$2:$F$40,2,FALSE))","v":{"$error":"#N/A"}},null,null,112,"",""]
[{"$f":"IFERROR(VLOOKUP($B$6,全学団体!$E$2:$F$139,2,FALSE),VLOOKUP($B$6,医学部団体!$E$2:$F$40,2,FALSE))","v":{"$error":"#N/A"}},null,null,113,"",""]
[{"$f":"IFERROR(VLOOKUP($B$6,全学団体!$E$2:$F$139,2,FALSE),VLOOKUP($B$6,医学部団体!$E$2:$F$40,2,FALSE))","v":{"$error":"#N/A"}},null,null,114,"",""]
[{"$f":"IFERROR(VLOOKUP($B$6,全学団体!$E$2:$F$139,2,FALSE),VLOOKUP($B$6,医学部団体!$E$2:$F$40,2,FALSE))","v":{"$error":"#N/A"}},null,null,115,"",""]
[{"$f":"IFERROR(VLOOKUP($B$6,全学団体!$E$2:$F$139,2,FALSE),VLOOKUP($B$6,医学部団体!$E$2:$F$40,2,FALSE))","v":{"$error":"#N/A"}},null,null,116,"",""]
[{"$f":"IFERROR(VLOOKUP($B$6,全学団体!$E$2:$F$139,2,FALSE),VLOOKUP($B$6,医学部団体!$E$2:$F$40,2,FALSE))","v":{"$error":"#N/A"}},null,null,117,"",""]
[{"$f":"IFERROR(VLOOKUP($B$6,全学団体!$E$2:$F$139,2,FALSE),VLOOKUP($B$6,医学部団体!$E$2:$F$40,2,FALSE))","v":{"$error":"#N/A"}},null,null,118,"",""]
[{"$f":"IFERROR(VLOOKUP($B$6,全学団体!$E$2:$F$139,2,FALSE),VLOOKUP($B$6,医学部団体!$E$2:$F$40,2,FALSE))","v":{"$error":"#N/A"}},null,null,119,"",""]
[{"$f":"IFERROR(VLOOKUP($B$6,全学団体!$E$2:$F$139,2,FALSE),VLOOKUP($B$6,医学部団体!$E$2:$F$40,2,FALSE))","v":{"$error":"#N/A"}},null,null,120,"",""]
[{"$f":"IFERROR(VLOOKUP($B$6,全学団体!$E$2:$F$139,2,FALSE),VLOOKUP($B$6,医学部団体!$E$2:$F$40,2,FALSE))","v":{"$error":"#N/A"}},null,null,121,"",""]
[{"$f":"IFERROR(VLOOKUP($B$6,全学団体!$E$2:$F$139,2,FALSE),VLOOKUP($B$6,医学部団体!$E$2:$F$40,2,FALSE))","v":{"$error":"#N/A"}},null,null,122,"",""]
[{"$f":"IFERROR(VLOOKUP($B$6,全学団体!$E$2:$F$139,2,FALSE),VLOOKUP($B$6,医学部団体!$E$2:$F$40,2,FALSE))","v":{"$error":"#N/A"}},null,null,123,"",""]
[{"$f":"IFERROR(VLOOKUP($B$6,全学団体!$E$2:$F$139,2,FALSE),VLOOKUP($B$6,医学部団体!$E$2:$F$40,2,FALSE))","v":{"$error":"#N/A"}},null,null,124,"",""]
[{"$f":"IFERROR(VLOOKUP($B$6,全学団体!$E$2:$F$139,2,FALSE),VLOOKUP($B$6,医学部団体!$E$2:$F$40,2,FALSE))","v":{"$error":"#N/A"}},null,null,125,"",""]
[{"$f":"IFERROR(VLOOKUP($B$6,全学団体!$E$2:$F$139,2,FALSE),VLOOKUP($B$6,医学部団体!$E$2:$F$40,2,FALSE))","v":{"$error":"#N/A"}},null,null,126,"",""]
[{"$f":"IFERROR(VLOOKUP($B$6,全学団体!$E$2:$F$139,2,FALSE),VLOOKUP($B$6,医学部団体!$E$2:$F$40,2,FALSE))","v":{"$error":"#N/A"}},null,null,127,"",""]
[{"$f":"IFERROR(VLOOKUP($B$6,全学団体!$E$2:$F$139,2,FALSE),VLOOKUP($B$6,医学部団体!$E$2:$F$40,2,FALSE))","v":{"$error":"#N/A"}},null,null,128,"",""]
[{"$f":"IFERROR(VLOOKUP($B$6,全学団体!$E$2:$F$139,2,FALSE),VLOOKUP($B$6,医学部団体!$E$2:$F$40,2,FALSE))","v":{"$error":"#N/A"}},null,null,129,"",""]
[{"$f":"IFERROR(VLOOKUP($B$6,全学団体!$E$2:$F$139,2,FALSE),VLOOKUP($B$6,医学部団体!$E$2:$F$40,2,FALSE))","v":{"$error":"#N/A"}},null,null,130,{"$f":"ASC(B142)","v":""},{"$f":"UPPER(E142)","v":""}]
[{"$f":"IFERROR(VLOOKUP($B$6,全学団体!$E$2:$F$139,2,FALSE),VLOOKUP($B$6,医学部団体!$E$2:$F$40,2,FALSE))","v":{"$error":"#N/A"}},null,null,131,"",""]
[{"$f":"IFERROR(VLOOKUP($B$6,全学団体!$E$2:$F$139,2,FALSE),VLOOKUP($B$6,医学部団体!$E$2:$F$40,2,FALSE))","v":{"$error":"#N/A"}},null,null,132,"",""]
[{"$f":"IFERROR(VLOOKUP($B$6,全学団体!$E$2:$F$139,2,FALSE),VLOOKUP($B$6,医学部団体!$E$2:$F$40,2,FALSE))","v":{"$error":"#N/A"}},null,null,133,"",""]
[{"$f":"IFERROR(VLOOKUP($B$6,全学団体!$E$2:$F$139,2,FALSE),VLOOKUP($B$6,医学部団体!$E$2:$F$40,2,FALSE))","v":{"$error":"#N/A"}},null,null,134,"",""]
[{"$f":"IFERROR(VLOOKUP($B$6,全学団体!$E$2:$F$139,2,FALSE),VLOOKUP($B$6,医学部団体!$E$2:$F$40,2,FALSE))","v":{"$error":"#N/A"}},null,null,135,"",""]
[{"$f":"IFERROR(VLOOKUP($B$6,全学団体!$E$2:$F$139,2,FALSE),VLOOKUP($B$6,医学部団体!$E$2:$F$40,2,FALSE))","v":{"$error":"#N/A"}},null,null,136,"",""]
[{"$f":"IFERROR(VLOOKUP($B$6,全学団体!$E$2:$F$139,2,FALSE),VLOOKUP($B$6,医学部団体!$E$2:$F$40,2,FALSE))","v":{"$error":"#N/A"}},null,null,137,"",""]
[{"$f":"IFERROR(VLOOKUP($B$6,全学団体!$E$2:$F$139,2,FALSE),VLOOKUP($B$6,医学部団体!$E$2:$F$40,2,FALSE))","v":{"$error":"#N/A"}},null,null,138,"",""]
[{"$f":"IFERROR(VLOOKUP($B$6,全学団体!$E$2:$F$139,2,FALSE),VLOOKUP($B$6,医学部団体!$E$2:$F$40,2,FALSE))","v":{"$error":"#N/A"}},null,null,139,"",""]
[{"$f":"IFERROR(VLOOKUP($B$6,全学団体!$E$2:$F$139,2,FALSE),VLOOKUP($B$6,医学部団体!$E$2:$F$40,2,FALSE))","v":{"$error":"#N/A"}},null,null,140,"",""]
[{"$f":"IFERROR(VLOOKUP($B$6,全学団体!$E$2:$F$139,2,FALSE),VLOOKUP($B$6,医学部団体!$E$2:$F$40,2,FALSE))","v":{"$error":"#N/A"}},null,null,141,"",""]
[{"$f":"IFERROR(VLOOKUP($B$6,全学団体!$E$2:$F$139,2,FALSE),VLOOKUP($B$6,医学部団体!$E$2:$F$40,2,FALSE))","v":{"$error":"#N/A"}},null,null,142,"",""]
[{"$f":"IFERROR(VLOOKUP($B$6,全学団体!$E$2:$F$139,2,FALSE),VLOOKUP($B$6,医学部団体!$E$2:$F$40,2,FALSE))","v":{"$error":"#N/A"}},null,null,143,"",""]
[{"$f":"IFERROR(VLOOKUP($B$6,全学団体!$E$2:$F$139,2,FALSE),VLOOKUP($B$6,医学部団体!$E$2:$F$40,2,FALSE))","v":{"$error":"#N/A"}},null,null,144,"",""]
[{"$f":"IFERROR(VLOOKUP($B$6,全学団体!$E$2:$F$139,2,FALSE),VLOOKUP($B$6,医学部団体!$E$2:$F$40,2,FALSE))","v":{"$error":"#N/A"}},null,null,145,"",""]
[{"$f":"IFERROR(VLOOKUP($B$6,全学団体!$E$2:$F$139,2,FALSE),VLOOKUP($B$6,医学部団体!$E$2:$F$40,2,FALSE))","v":{"$error":"#N/A"}},null,null,146,"",""]
[{"$f":"IFERROR(VLOOKUP($B$6,全学団体!$E$2:$F$139,2,FALSE),VLOOKUP($B$6,医学部団体!$E$2:$F$40,2,FALSE))","v":{"$error":"#N/A"}},null,null,147,"",""]
[{"$f":"IFERROR(VLOOKUP($B$6,全学団体!$E$2:$F$139,2,FALSE),VLOOKUP($B$6,医学部団体!$E$2:$F$40,2,FALSE))","v":{"$error":"#N/A"}},null,null,148,"",""]
[{"$f":"IFERROR(VLOOKUP($B$6,全学団体!$E$2:$F$139,2,FALSE),VLOOKUP($B$6,医学部団体!$E$2:$F$40,2,FALSE))","v":{"$error":"#N/A"}},null,null,149,"",""]
[{"$f":"IFERROR(VLOOKUP($B$6,全学団体!$E$2:$F$139,2,FALSE),VLOOKUP($B$6,医学部団体!$E$2:$F$40,2,FALSE))","v":{"$error":"#N/A"}},null,null,150,"",""]
[{"$f":"IFERROR(VLOOKUP($B$6,全学団体!$E$2:$F$139,2,FALSE),VLOOKUP($B$6,医学部団体!$E$2:$F$40,2,FALSE))","v":{"$error":"#N/A"}},null,null,151,"",""]
[{"$f":"IFERROR(VLOOKUP($B$6,全学団体!$E$2:$F$139,2,FALSE),VLOOKUP($B$6,医学部団体!$E$2:$F$40,2,FALSE))","v":{"$error":"#N/A"}},null,null,152,"",""]
[{"$f":"IFERROR(VLOOKUP($B$6,全学団体!$E$2:$F$139,2,FALSE),VLOOKUP($B$6,医学部団体!$E$2:$F$40,2,FALSE))","v":{"$error":"#N/A"}},null,null,153,"",""]
[{"$f":"IFERROR(VLOOKUP($B$6,全学団体!$E$2:$F$139,2,FALSE),VLOOKUP($B$6,医学部団体!$E$2:$F$40,2,FALSE))","v":{"$error":"#N/A"}},null,null,154,"",""]
[{"$f":"IFERROR(VLOOKUP($B$6,全学団体!$E$2:$F$139,2,FALSE),VLOOKUP($B$6,医学部団体!$E$2:$F$40,2,FALSE))","v":{"$error":"#N/A"}},null,null,155,"",""]
[{"$f":"IFERROR(VLOOKUP($B$6,全学団体!$E$2:$F$139,2,FALSE),VLOOKUP($B$6,医学部団体!$E$2:$F$40,2,FALSE))","v":{"$error":"#N/A"}},null,null,156,"",""]
[{"$f":"IFERROR(VLOOKUP($B$6,全学団体!$E$2:$F$139,2,FALSE),VLOOKUP($B$6,医学部団体!$E$2:$F$40,2,FALSE))","v":{"$error":"#N/A"}},null,null,157,"",""]
[{"$f":"IFERROR(VLOOKUP($B$6,全学団体!$E$2:$F$139,2,FALSE),VLOOKUP($B$6,医学部団体!$E$2:$F$40,2,FALSE))","v":{"$error":"#N/A"}},null,null,158,"",""]
[{"$f":"IFERROR(VLOOKUP($B$6,全学団体!$E$2:$F$139,2,FALSE),VLOOKUP($B$6,医学部団体!$E$2:$F$40,2,FALSE))","v":{"$error":"#N/A"}},null,null,159,"",""]
[{"$f":"IFERROR(VLOOKUP($B$6,全学団体!$E$2:$F$139,2,FALSE),VLOOKUP($B$6,医学部団体!$E$2:$F$40,2,FALSE))","v":{"$error":"#N/A"}},null,null,160,"",""]
[{"$f":"IFERROR(VLOOKUP($B$6,全学団体!$E$2:$F$139,2,FALSE),VLOOKUP($B$6,医学部団体!$E$2:$F$40,2,FALSE))","v":{"$error":"#N/A"}},null,null,161,"",""]
[{"$f":"IFERROR(VLOOKUP($B$6,全学団体!$E$2:$F$139,2,FALSE),VLOOKUP($B$6,医学部団体!$E$2:$F$40,2,FALSE))","v":{"$error":"#N/A"}},null,null,162,"",""]
[{"$f":"IFERROR(VLOOKUP($B$6,全学団体!$E$2:$F$139,2,FALSE),VLOOKUP($B$6,医学部団体!$E$2:$F$40,2,FALSE))","v":{"$error":"#N/A"}},null,null,163,"",""]
[{"$f":"IFERROR(VLOOKUP($B$6,全学団体!$E$2:$F$139,2,FALSE),VLOOKUP($B$6,医学部団体!$E$2:$F$40,2,FALSE))","v":{"$error":"#N/A"}},null,null,164,"",""]
[{"$f":"IFERROR(VLOOKUP($B$6,全学団体!$E$2:$F$139,2,FALSE),VLOOKUP($B$6,医学部団体!$E$2:$F$40,2,FALSE))","v":{"$error":"#N/A"}},null,null,165,"",""]
[{"$f":"IFERROR(VLOOKUP($B$6,全学団体!$E$2:$F$139,2,FALSE),VLOOKUP($B$6,医学部団体!$E$2:$F$40,2,FALSE))","v":{"$error":"#N/A"}},null,null,166,"",""]
[{"$f":"IFERROR(VLOOKUP($B$6,全学団体!$E$2:$F$139,2,FALSE),VLOOKUP($B$6,医学部団体!$E$2:$F$40,2,FALSE))","v":{"$error":"#N/A"}},null,null,167,"",""]
[{"$f":"IFERROR(VLOOKUP($B$6,全学団体!$E$2:$F$139,2,FALSE),VLOOKUP($B$6,医学部団体!$E$2:$F$40,2,FALSE))","v":{"$error":"#N/A"}},null,null,168,"",""]
[{"$f":"IFERROR(VLOOKUP($B$6,全学団体!$E$2:$F$139,2,FALSE),VLOOKUP($B$6,医学部団体!$E$2:$F$40,2,FALSE))","v":{"$error":"#N/A"}},null,null,169,"",""]
[{"$f":"IFERROR(VLOOKUP($B$6,全学団体!$E$2:$F$139,2,FALSE),VLOOKUP($B$6,医学部団体!$E$2:$F$40,2,FALSE))","v":{"$error":"#N/A"}},null,null,170,"",""]
[{"$f":"IFERROR(VLOOKUP($B$6,全学団体!$E$2:$F$139,2,FALSE),VLOOKUP($B$6,医学部団体!$E$2:$F$40,2,FALSE))","v":{"$error":"#N/A"}},null,null,171,"",""]
[{"$f":"IFERROR(VLOOKUP($B$6,全学団体!$E$2:$F$139,2,FALSE),VLOOKUP($B$6,医学部団体!$E$2:$F$40,2,FALSE))","v":{"$error":"#N/A"}},null,null,172,"",""]
[{"$f":"IFERROR(VLOOKUP($B$6,全学団体!$E$2:$F$139,2,FALSE),VLOOKUP($B$6,医学部団体!$E$2:$F$40,2,FALSE))","v":{"$error":"#N/A"}},null,null,173,"",""]
[{"$f":"IFERROR(VLOOKUP($B$6,全学団体!$E$2:$F$139,2,FALSE),VLOOKUP($B$6,医学部団体!$E$2:$F$40,2,FALSE))","v":{"$error":"#N/A"}},null,null,174,"",""]
[{"$f":"IFERROR(VLOOKUP($B$6,全学団体!$E$2:$F$139,2,FALSE),VLOOKUP($B$6,医学部団体!$E$2:$F$40,2,FALSE))","v":{"$error":"#N/A"}},null,null,175,"",""]
[{"$f":"IFERROR(VLOOKUP($B$6,全学団体!$E$2:$F$139,2,FALSE),VLOOKUP($B$6,医学部団体!$E$2:$F$40,2,FALSE))","v":{"$error":"#N/A"}},null,null,176,"",""]
[{"$f":"IFERROR(VLOOKUP($B$6,全学団体!$E$2:$F$139,2,FALSE),VLOOKUP($B$6,医学部団体!$E$2:$F$40,2,FALSE))","v":{"$error":"#N/A"}},null,null,177,"",""]
[{"$f":"IFERROR(VLOOKUP($B$6,全学団体!$E$2:$F$139,2,FALSE),VLOOKUP($B$6,医学部団体!$E$2:$F$40,2,FALSE))","v":{"$error":"#N/A"}},null,null,178,"",""]
[{"$f":"IFERROR(VLOOKUP($B$6,全学団体!$E$2:$F$139,2,FALSE),VLOOKUP($B$6,医学部団体!$E$2:$F$40,2,FALSE))","v":{"$error":"#N/A"}},null,null,179,"",""]
[{"$f":"IFERROR(VLOOKUP($B$6,全学団体!$E$2:$F$139,2,FALSE),VLOOKUP($B$6,医学部団体!$E$2:$F$40,2,FALSE))","v":{"$error":"#N/A"}},null,null,180,"",""]
[{"$f":"IFERROR(VLOOKUP($B$6,全学団体!$E$2:$F$139,2,FALSE),VLOOKUP($B$6,医学部団体!$E$2:$F$40,2,FALSE))","v":{"$error":"#N/A"}},null,null,181,"",""]
[{"$f":"IFERROR(VLOOKUP($B$6,全学団体!$E$2:$F$139,2,FALSE),VLOOKUP($B$6,医学部団体!$E$2:$F$40,2,FALSE))","v":{"$error":"#N/A"}},null,null,182,"",""]
[{"$f":"IFERROR(VLOOKUP($B$6,全学団体!$E$2:$F$139,2,FALSE),VLOOKUP($B$6,医学部団体!$E$2:$F$40,2,FALSE))","v":{"$error":"#N/A"}},null,null,183,"",""]
[{"$f":"IFERROR(VLOOKUP($B$6,全学団体!$E$2:$F$139,2,FALSE),VLOOKUP($B$6,医学部団体!$E$2:$F$40,2,FALSE))","v":{"$error":"#N/A"}},null,null,184,"",""]
[{"$f":"IFERROR(VLOOKUP($B$6,全学団体!$E$2:$F$139,2,FALSE),VLOOKUP($B$6,医学部団体!$E$2:$F$40,2,FALSE))","v":{"$error":"#N/A"}},null,null,185,"",""]
[{"$f":"IFERROR(VLOOKUP($B$6,全学団体!$E$2:$F$139,2,FALSE),VLOOKUP($B$6,医学部団体!$E$2:$F$40,2,FALSE))","v":{"$error":"#N/A"}},null,null,186,"",""]
[{"$f":"IFERROR(VLOOKUP($B$6,全学団体!$E$2:$F$139,2,FALSE),VLOOKUP($B$6,医学部団体!$E$2:$F$40,2,FALSE))","v":{"$error":"#N/A"}},null,null,187,"",""]
[{"$f":"IFERROR(VLOOKUP($B$6,全学団体!$E$2:$F$139,2,FALSE),VLOOKUP($B$6,医学部団体!$E$2:$F$40,2,FALSE))","v":{"$error":"#N/A"}},null,null,188,"",""]
[{"$f":"IFERROR(VLOOKUP($B$6,全学団体!$E$2:$F$139,2,FALSE),VLOOKUP($B$6,医学部団体!$E$2:$F$40,2,FALSE))","v":{"$error":"#N/A"}},null,null,189,"",""]
[{"$f":"IFERROR(VLOOKUP($B$6,全学団体!$E$2:$F$139,2,FALSE),VLOOKUP($B$6,医学部団体!$E$2:$F$40,2,FALSE))","v":{"$error":"#N/A"}},null,null,190,"",""]
[{"$f":"IFERROR(VLOOKUP($B$6,全学団体!$E$2:$F$139,2,FALSE),VLOOKUP($B$6,医学部団体!$E$2:$F$40,2,FALSE))","v":{"$error":"#N/A"}},null,null,191,"",""]
[{"$f":"IFERROR(VLOOKUP($B$6,全学団体!$E$2:$F$139,2,FALSE),VLOOKUP($B$6,医学部団体!$E$2:$F$40,2,FALSE))","v":{"$error":"#N/A"}},null,null,192,"",""]
[{"$f":"IFERROR(VLOOKUP($B$6,全学団体!$E$2:$F$139,2,FALSE),VLOOKUP($B$6,医学部団体!$E$2:$F$40,2,FALSE))","v":{"$error":"#N/A"}},null,null,193,"",""]
[{"$f":"IFERROR(VLOOKUP($B$6,全学団体!$E$2:$F$139,2,FALSE),VLOOKUP($B$6,医学部団体!$E$2:$F$40,2,FALSE))","v":{"$error":"#N/A"}},null,null,194,{"$f":"ASC(B206)","v":""},{"$f":"UPPER(E206)","v":""}]
[{"$f":"IFERROR(VLOOKUP($B$6,全学団体!$E$2:$F$139,2,FALSE),VLOOKUP($B$6,医学部団体!$E$2:$F$40,2,FALSE))","v":{"$error":"#N/A"}},null,null,195,"",""]
[{"$f":"IFERROR(VLOOKUP($B$6,全学団体!$E$2:$F$139,2,FALSE),VLOOKUP($B$6,医学部団体!$E$2:$F$40,2,FALSE))","v":{"$error":"#N/A"}},null,null,196,"",""]
[{"$f":"IFERROR(VLOOKUP($B$6,全学団体!$E$2:$F$139,2,FALSE),VLOOKUP($B$6,医学部団体!$E$2:$F$40,2,FALSE))","v":{"$error":"#N/A"}},null,null,197,"",""]
[{"$f":"IFERROR(VLOOKUP($B$6,全学団体!$E$2:$F$139,2,FALSE),VLOOKUP($B$6,医学部団体!$E$2:$F$40,2,FALSE))","v":{"$error":"#N/A"}},null,null,198,"",""]
[{"$f":"IFERROR(VLOOKUP($B$6,全学団体!$E$2:$F$139,2,FALSE),VLOOKUP($B$6,医学部団体!$E$2:$F$40,2,FALSE))","v":{"$error":"#N/A"}},null,null,199,"",""]
[{"$f":"IFERROR(VLOOKUP($B$6,全学団体!$E$2:$F$139,2,FALSE),VLOOKUP($B$6,医学部団体!$E$2:$F$40,2,FALSE))","v":{"$error":"#N/A"}},null,null,200,"",""]
[{"$f":"IFERROR(VLOOKUP($B$6,全学団体!$E$2:$F$139,2,FALSE),VLOOKUP($B$6,医学部団体!$E$2:$F$40,2,FALSE))","v":{"$error":"#N/A"}},null,null,201,"",""]
[{"$f":"IFERROR(VLOOKUP($B$6,全学団体!$E$2:$F$139,2,FALSE),VLOOKUP($B$6,医学部団体!$E$2:$F$40,2,FALSE))","v":{"$error":"#N/A"}},null,null,202,"",""]
[{"$f":"IFERROR(VLOOKUP($B$6,全学団体!$E$2:$F$139,2,FALSE),VLOOKUP($B$6,医学部団体!$E$2:$F$40,2,FALSE))","v":{"$error":"#N/A"}},null,null,203,"",""]
[{"$f":"IFERROR(VLOOKUP($B$6,全学団体!$E$2:$F$139,2,FALSE),VLOOKUP($B$6,医学部団体!$E$2:$F$40,2,FALSE))","v":{"$error":"#N/A"}},null,null,204,"",""]
[{"$f":"IFERROR(VLOOKUP($B$6,全学団体!$E$2:$F$139,2,FALSE),VLOOKUP($B$6,医学部団体!$E$2:$F$40,2,FALSE))","v":{"$error":"#N/A"}},null,null,205,"",""]
[{"$f":"IFERROR(VLOOKUP($B$6,全学団体!$E$2:$F$139,2,FALSE),VLOOKUP($B$6,医学部団体!$E$2:$F$40,2,FALSE))","v":{"$error":"#N/A"}},null,null,206,"",""]
[{"$f":"IFERROR(VLOOKUP($B$6,全学団体!$E$2:$F$139,2,FALSE),VLOOKUP($B$6,医学部団体!$E$2:$F$40,2,FALSE))","v":{"$error":"#N/A"}},null,null,207,"",""]
[{"$f":"IFERROR(VLOOKUP($B$6,全学団体!$E$2:$F$139,2,FALSE),VLOOKUP($B$6,医学部団体!$E$2:$F$40,2,FALSE))","v":{"$error":"#N/A"}},null,null,208,"",""]
[{"$f":"IFERROR(VLOOKUP($B$6,全学団体!$E$2:$F$139,2,FALSE),VLOOKUP($B$6,医学部団体!$E$2:$F$40,2,FALSE))","v":{"$error":"#N/A"}},null,null,209,"",""]
[{"$f":"IFERROR(VLOOKUP($B$6,全学団体!$E$2:$F$139,2,FALSE),VLOOKUP($B$6,医学部団体!$E$2:$F$40,2,FALSE))","v":{"$error":"#N/A"}},null,null,210,"",""]
[{"$f":"IFERROR(VLOOKUP($B$6,全学団体!$E$2:$F$139,2,FALSE),VLOOKUP($B$6,医学部団体!$E$2:$F$40,2,FALSE))","v":{"$error":"#N/A"}},null,null,211,"",""]
[{"$f":"IFERROR(VLOOKUP($B$6,全学団体!$E$2:$F$139,2,FALSE),VLOOKUP($B$6,医学部団体!$E$2:$F$40,2,FALSE))","v":{"$error":"#N/A"}},null,null,212,"",""]
[{"$f":"IFERROR(VLOOKUP($B$6,全学団体!$E$2:$F$139,2,FALSE),VLOOKUP($B$6,医学部団体!$E$2:$F$40,2,FALSE))","v":{"$error":"#N/A"}},null,null,213,"",""]
[{"$f":"IFERROR(VLOOKUP($B$6,全学団体!$E$2:$F$139,2,FALSE),VLOOKUP($B$6,医学部団体!$E$2:$F$40,2,FALSE))","v":{"$error":"#N/A"}},null,null,214,"",""]
[{"$f":"IFERROR(VLOOKUP($B$6,全学団体!$E$2:$F$139,2,FALSE),VLOOKUP($B$6,医学部団体!$E$2:$F$40,2,FALSE))","v":{"$error":"#N/A"}},null,null,215,"",""]
[{"$f":"IFERROR(VLOOKUP($B$6,全学団体!$E$2:$F$139,2,FALSE),VLOOKUP($B$6,医学部団体!$E$2:$F$40,2,FALSE))","v":{"$error":"#N/A"}},null,null,216,"",""]
[{"$f":"IFERROR(VLOOKUP($B$6,全学団体!$E$2:$F$139,2,FALSE),VLOOKUP($B$6,医学部団体!$E$2:$F$40,2,FALSE))","v":{"$error":"#N/A"}},null,null,217,"",""]
[{"$f":"IFERROR(VLOOKUP($B$6,全学団体!$E$2:$F$139,2,FALSE),VLOOKUP($B$6,医学部団体!$E$2:$F$40,2,FALSE))","v":{"$error":"#N/A"}},null,null,218,"",""]
[{"$f":"IFERROR(VLOOKUP($B$6,全学団体!$E$2:$F$139,2,FALSE),VLOOKUP($B$6,医学部団体!$E$2:$F$40,2,FALSE))","v":{"$error":"#N/A"}},null,null,219,"",""]
[{"$f":"IFERROR(VLOOKUP($B$6,全学団体!$E$2:$F$139,2,FALSE),VLOOKUP($B$6,医学部団体!$E$2:$F$40,2,FALSE))","v":{"$error":"#N/A"}},null,null,220,"",""]
[{"$f":"IFERROR(VLOOKUP($B$6,全学団体!$E$2:$F$139,2,FALSE),VLOOKUP($B$6,医学部団体!$E$2:$F$40,2,FALSE))","v":{"$error":"#N/A"}},null,null,221,"",""]
[{"$f":"IFERROR(VLOOKUP($B$6,全学団体!$E$2:$F$139,2,FALSE),VLOOKUP($B$6,医学部団体!$E$2:$F$40,2,FALSE))","v":{"$error":"#N/A"}},null,null,222,"",""]
[{"$f":"IFERROR(VLOOKUP($B$6,全学団体!$E$2:$F$139,2,FALSE),VLOOKUP($B$6,医学部団体!$E$2:$F$40,2,FALSE))","v":{"$error":"#N/A"}},null,null,223,"",""]
[{"$f":"IFERROR(VLOOKUP($B$6,全学団体!$E$2:$F$139,2,FALSE),VLOOKUP($B$6,医学部団体!$E$2:$F$40,2,FALSE))","v":{"$error":"#N/A"}},null,null,224,"",""]
[{"$f":"IFERROR(VLOOKUP($B$6,全学団体!$E$2:$F$139,2,FALSE),VLOOKUP($B$6,医学部団体!$E$2:$F$40,2,FALSE))","v":{"$error":"#N/A"}},null,null,225,"",""]
[{"$f":"IFERROR(VLOOKUP($B$6,全学団体!$E$2:$F$139,2,FALSE),VLOOKUP($B$6,医学部団体!$E$2:$F$40,2,FALSE))","v":{"$error":"#N/A"}},null,null,226,"",""]
[{"$f":"IFERROR(VLOOKUP($B$6,全学団体!$E$2:$F$139,2,FALSE),VLOOKUP($B$6,医学部団体!$E$2:$F$40,2,FALSE))","v":{"$error":"#N/A"}},null,null,227,"",""]
[{"$f":"IFERROR(VLOOKUP($B$6,全学団体!$E$2:$F$139,2,FALSE),VLOOKUP($B$6,医学部団体!$E$2:$F$40,2,FALSE))","v":{"$error":"#N/A"}},null,null,228,"",""]
[{"$f":"IFERROR(VLOOKUP($B$6,全学団体!$E$2:$F$139,2,FALSE),VLOOKUP($B$6,医学部団体!$E$2:$F$40,2,FALSE))","v":{"$error":"#N/A"}},null,null,229,"",""]
[{"$f":"IFERROR(VLOOKUP($B$6,全学団体!$E$2:$F$139,2,FALSE),VLOOKUP($B$6,医学部団体!$E$2:$F$40,2,FALSE))","v":{"$error":"#N/A"}},null,null,230,"",""]
[{"$f":"IFERROR(VLOOKUP($B$6,全学団体!$E$2:$F$139,2,FALSE),VLOOKUP($B$6,医学部団体!$E$2:$F$40,2,FALSE))","v":{"$error":"#N/A"}},null,null,231,"",""]
[{"$f":"IFERROR(VLOOKUP($B$6,全学団体!$E$2:$F$139,2,FALSE),VLOOKUP($B$6,医学部団体!$E$2:$F$40,2,FALSE))","v":{"$error":"#N/A"}},null,null,232,"",""]
[{"$f":"IFERROR(VLOOKUP($B$6,全学団体!$E$2:$F$139,2,FALSE),VLOOKUP($B$6,医学部団体!$E$2:$F$40,2,FALSE))","v":{"$error":"#N/A"}},null,null,233,"",""]
[{"$f":"IFERROR(VLOOKUP($B$6,全学団体!$E$2:$F$139,2,FALSE),VLOOKUP($B$6,医学部団体!$E$2:$F$40,2,FALSE))","v":{"$error":"#N/A"}},null,null,234,"",""]
[{"$f":"IFERROR(VLOOKUP($B$6,全学団体!$E$2:$F$139,2,FALSE),VLOOKUP($B$6,医学部団体!$E$2:$F$40,2,FALSE))","v":{"$error":"#N/A"}},null,null,235,"",""]
[{"$f":"IFERROR(VLOOKUP($B$6,全学団体!$E$2:$F$139,2,FALSE),VLOOKUP($B$6,医学部団体!$E$2:$F$40,2,FALSE))","v":{"$error":"#N/A"}},null,null,236,"",""]
[{"$f":"IFERROR(VLOOKUP($B$6,全学団体!$E$2:$F$139,2,FALSE),VLOOKUP($B$6,医学部団体!$E$2:$F$40,2,FALSE))","v":{"$error":"#N/A"}},null,null,237,"",""]
[{"$f":"IFERROR(VLOOKUP($B$6,全学団体!$E$2:$F$139,2,FALSE),VLOOKUP($B$6,医学部団体!$E$2:$F$40,2,FALSE))","v":{"$error":"#N/A"}},null,null,238,"",""]
[{"$f":"IFERROR(VLOOKUP($B$6,全学団体!$E$2:$F$139,2,FALSE),VLOOKUP($B$6,医学部団体!$E$2:$F$40,2,FALSE))","v":{"$error":"#N/A"}},null,null,239,"",""]
[{"$f":"IFERROR(VLOOKUP($B$6,全学団体!$E$2:$F$139,2,FALSE),VLOOKUP($B$6,医学部団体!$E$2:$F$40,2,FALSE))","v":{"$error":"#N/A"}},null,null,240,"",""]
[{"$f":"IFERROR(VLOOKUP($B$6,全学団体!$E$2:$F$139,2,FALSE),VLOOKUP($B$6,医学部団体!$E$2:$F$40,2,FALSE))","v":{"$error":"#N/A"}},null,null,241,"",""]
[{"$f":"IFERROR(VLOOKUP($B$6,全学団体!$E$2:$F$139,2,FALSE),VLOOKUP($B$6,医学部団体!$E$2:$F$40,2,FALSE))","v":{"$error":"#N/A"}},null,null,242,"",""]
[{"$f":"IFERROR(VLOOKUP($B$6,全学団体!$E$2:$F$139,2,FALSE),VLOOKUP($B$6,医学部団体!$E$2:$F$40,2,FALSE))","v":{"$error":"#N/A"}},null,null,243,"",""]
[{"$f":"IFERROR(VLOOKUP($B$6,全学団体!$E$2:$F$139,2,FALSE),VLOOKUP($B$6,医学部団体!$E$2:$F$40,2,FALSE))","v":{"$error":"#N/A"}},null,null,244,"",""]
[{"$f":"IFERROR(VLOOKUP($B$6,全学団体!$E$2:$F$139,2,FALSE),VLOOKUP($B$6,医学部団体!$E$2:$F$40,2,FALSE))","v":{"$error":"#N/A"}},null,null,245,"",""]
[{"$f":"IFERROR(VLOOKUP($B$6,全学団体!$E$2:$F$139,2,FALSE),VLOOKUP($B$6,医学部団体!$E$2:$F$40,2,FALSE))","v":{"$error":"#N/A"}},null,null,246,"",""]
[{"$f":"IFERROR(VLOOKUP($B$6,全学団体!$E$2:$F$139,2,FALSE),VLOOKUP($B$6,医学部団体!$E$2:$F$40,2,FALSE))","v":{"$error":"#N/A"}},null,null,247,"",""]
[{"$f":"IFERROR(VLOOKUP($B$6,全学団体!$E$2:$F$139,2,FALSE),VLOOKUP($B$6,医学部団体!$E$2:$F$40,2,FALSE))","v":{"$error":"#N/A"}},null,null,248,"",""]
[{"$f":"IFERROR(VLOOKUP($B$6,全学団体!$E$2:$F$139,2,FALSE),VLOOKUP($B$6,医学部団体!$E$2:$F$40,2,FALSE))","v":{"$error":"#N/A"}},null,null,249,"",""]
[{"$f":"IFERROR(VLOOKUP($B$6,全学団体!$E$2:$F$139,2,FALSE),VLOOKUP($B$6,医学部団体!$E$2:$F$40,2,FALSE))","v":{"$error":"#N/A"}},null,null,250,"",""]

{"sheet":"システム取込用","index":1,"n_rows":250,"n_cols":4,"rows_kept":250,"cut":false,"hidden":false,"merged":[]}
[{"$f":"名簿!$B$6","v":0},{"$f":"名簿!$A$13","v":{"$error":"#N/A"}},{"$f":"名簿!F13","v":""},{"$f":"名簿!C13","v":0}]
[{"$f":"名簿!$B$6","v":0},{"$f":"名簿!$A$13","v":{"$error":"#N/A"}},{"$f":"名簿!F14","v":""},{"$f":"名簿!C14","v":0}]
[{"$f":"名簿!$B$6","v":0},{"$f":"名簿!$A$13","v":{"$error":"#N/A"}},{"$f":"名簿!F15","v":""},{"$f":"名簿!C15","v":0}]
[{"$f":"名簿!$B$6","v":0},{"$f":"名簿!$A$13","v":{"$error":"#N/A"}},{"$f":"名簿!F16","v":""},{"$f":"名簿!C16","v":0}]
[{"$f":"名簿!$B$6","v":0},{"$f":"名簿!$A$13","v":{"$error":"#N/A"}},{"$f":"名簿!F17","v":""},{"$f":"名簿!C17","v":0}]
[{"$f":"名簿!$B$6","v":0},{"$f":"名簿!$A$13","v":{"$error":"#N/A"}},{"$f":"名簿!F18","v":""},{"$f":"名簿!C18","v":0}]
[{"$f":"名簿!$B$6","v":0},{"$f":"名簿!$A$13","v":{"$error":"#N/A"}},{"$f":"名簿!F19","v":""},{"$f":"名簿!C19","v":0}]
[{"$f":"名簿!$B$6","v":0},{"$f":"名簿!$A$13","v":{"$error":"#N/A"}},{"$f":"名簿!F20","v":""},{"$f":"名簿!C20","v":0}]
[{"$f":"名簿!$B$6","v":0},{"$f":"名簿!$A$13","v":{"$error":"#N/A"}},{"$f":"名簿!F21","v":""},{"$f":"名簿!C21","v":0}]
[{"$f":"名簿!$B$6","v":0},{"$f":"名簿!$A$13","v":{"$error":"#N/A"}},{"$f":"名簿!F22","v":""},{"$f":"名簿!C22","v":0}]
[{"$f":"名簿!$B$6","v":0},{"$f":"名簿!$A$13","v":{"$error":"#N/A"}},{"$f":"名簿!F23","v":""},{"$f":"名簿!C23","v":0}]
[{"$f":"名簿!$B$6","v":0},{"$f":"名簿!$A$13","v":{"$error":"#N/A"}},{"$f":"名簿!F24","v":""},{"$f":"名簿!C24","v":0}]
[{"$f":"名簿!$B$6","v":0},{"$f":"名簿!$A$13","v":{"$error":"#N/A"}},{"$f":"名簿!F25","v":""},{"$f":"名簿!C25","v":0}]
[{"$f":"名簿!$B$6","v":0},{"$f":"名簿!$A$13","v":{"$error":"#N/A"}},{"$f":"名簿!F26","v":""},{"$f":"名簿!C26","v":0}]
[{"$f":"名簿!$B$6","v":0},{"$f":"名簿!$A$13","v":{"$error":"#N/A"}},{"$f":"名簿!F27","v":""},{"$f":"名簿!C27","v":0}]
[{"$f":"名簿!$B$6","v":0},{"$f":"名簿!$A$13","v":{"$error":"#N/A"}},{"$f":"名簿!F28","v":""},{"$f":"名簿!C28","v":0}]
[{"$f":"名簿!$B$6","v":0},{"$f":"名簿!$A$13","v":{"$error":"#N/A"}},{"$f":"名簿!F29","v":""},{"$f":"名簿!C29","v":0}]
[{"$f":"名簿!$B$6","v":0},{"$f":"名簿!$A$13","v":{"$error":"#N/A"}},{"$f":"名簿!F30","v":""},{"$f":"名簿!C30","v":0}]
[{"$f":"名簿!$B$6","v":0},{"$f":"名簿!$A$13","v":{"$error":"#N/A"}},{"$f":"名簿!F31","v":""},{"$f":"名簿!C31","v":0}]
[{"$f":"名簿!$B$6","v":0},{"$f":"名簿!$A$13","v":{"$error":"#N/A"}},{"$f":"名簿!F32","v":""},{"$f":"名簿!C32","v":0}]
[{"$f":"名簿!$B$6","v":0},{"$f":"名簿!$A$13","v":{"$error":"#N/A"}},{"$f":"名簿!F33","v":""},{"$f":"名簿!C33","v":0}]
[{"$f":"名簿!$B$6","v":0},{"$f":"名簿!$A$13","v":{"$error":"#N/A"}},{"$f":"名簿!F34","v":""},{"$f":"名簿!C34","v":0}]
[{"$f":"名簿!$B$6","v":0},{"$f":"名簿!$A$13","v":{"$error":"#N/A"}},{"$f":"名簿!F35","v":""},{"$f":"名簿!C35","v":0}]
[{"$f":"名簿!$B$6","v":0},{"$f":"名簿!$A$13","v":{"$error":"#N/A"}},{"$f":"名簿!F36","v":""},{"$f":"名簿!C36","v":0}]
[{"$f":"名簿!$B$6","v":0},{"$f":"名簿!$A$13","v":{"$error":"#N/A"}},{"$f":"名簿!F37","v":""},{"$f":"名簿!C37","v":0}]
[{"$f":"名簿!$B$6","v":0},{"$f":"名簿!$A$13","v":{"$error":"#N/A"}},{"$f":"名簿!F38","v":""},{"$f":"名簿!C38","v":0}]
[{"$f":"名簿!$B$6","v":0},{"$f":"名簿!$A$13","v":{"$error":"#N/A"}},{"$f":"名簿!F39","v":""},{"$f":"名簿!C39","v":0}]
[{"$f":"名簿!$B$6","v":0},{"$f":"名簿!$A$13","v":{"$error":"#N/A"}},{"$f":"名簿!F40","v":""},{"$f":"名簿!C40","v":0}]
[{"$f":"名簿!$B$6","v":0},{"$f":"名簿!$A$13","v":{"$error":"#N/A"}},{"$f":"名簿!F41","v":""},{"$f":"名簿!C41","v":0}]
[{"$f":"名簿!$B$6","v":0},{"$f":"名簿!$A$13","v":{"$error":"#N/A"}},{"$f":"名簿!F42","v":""},{"$f":"名簿!C42","v":0}]
[{"$f":"名簿!$B$6","v":0},{"$f":"名簿!$A$13","v":{"$error":"#N/A"}},{"$f":"名簿!F43","v":""},{"$f":"名簿!C43","v":0}]
[{"$f":"名簿!$B$6","v":0},{"$f":"名簿!$A$13","v":{"$error":"#N/A"}},{"$f":"名簿!F44","v":""},{"$f":"名簿!C44","v":0}]
[{"$f":"名簿!$B$6","v":0},{"$f":"名簿!$A$13","v":{"$error":"#N/A"}},{"$f":"名簿!F45","v":""},{"$f":"名簿!C45","v":0}]
[{"$f":"名簿!$B$6","v":0},{"$f":"名簿!$A$13","v":{"$error":"#N/A"}},{"$f":"名簿!F46","v":""},{"$f":"名簿!C46","v":0}]
[{"$f":"名簿!$B$6","v":0},{"$f":"名簿!$A$13","v":{"$error":"#N/A"}},{"$f":"名簿!F47","v":""},{"$f":"名簿!C47","v":0}]
[{"$f":"名簿!$B$6","v":0},{"$f":"名簿!$A$13","v":{"$error":"#N/A"}},{"$f":"名簿!F48","v":""},{"$f":"名簿!C48","v":0}]
[{"$f":"名簿!$B$6","v":0},{"$f":"名簿!$A$13","v":{"$error":"#N/A"}},{"$f":"名簿!F49","v":""},{"$f":"名簿!C49","v":0}]
[{"$f":"名簿!$B$6","v":0},{"$f":"名簿!$A$13","v":{"$error":"#N/A"}},{"$f":"名簿!F50","v":""},{"$f":"名簿!C50","v":0}]
[{"$f":"名簿!$B$6","v":0},{"$f":"名簿!$A$13","v":{"$error":"#N/A"}},{"$f":"名簿!F51","v":""},{"$f":"名簿!C51","v":0}]
[{"$f":"名簿!$B$6","v":0},{"$f":"名簿!$A$13","v":{"$error":"#N/A"}},{"$f":"名簿!F52","v":""},{"$f":"名簿!C52","v":0}]
[{"$f":"名簿!$B$6","v":0},{"$f":"名簿!$A$13","v":{"$error":"#N/A"}},{"$f":"名簿!F53","v":""},{"$f":"名簿!C53","v":0}]
[{"$f":"名簿!$B$6","v":0},{"$f":"名簿!$A$13","v":{"$error":"#N/A"}},{"$f":"名簿!F54","v":""},{"$f":"名簿!C54","v":0}]
[{"$f":"名簿!$B$6","v":0},{"$f":"名簿!$A$13","v":{"$error":"#N/A"}},{"$f":"名簿!F55","v":""},{"$f":"名簿!C55","v":0}]
[{"$f":"名簿!$B$6","v":0},{"$f":"名簿!$A$13","v":{"$error":"#N/A"}},{"$f":"名簿!F56","v":""},{"$f":"名簿!C56","v":0}]
[{"$f":"名簿!$B$6","v":0},{"$f":"名簿!$A$13","v":{"$error":"#N/A"}},{"$f":"名簿!F57","v":""},{"$f":"名簿!C57","v":0}]
[{"$f":"名簿!$B$6","v":0},{"$f":"名簿!$A$13","v":{"$error":"#N/A"}},{"$f":"名簿!F58","v":""},{"$f":"名簿!C58","v":0}]
[{"$f":"名簿!$B$6","v":0},{"$f":"名簿!$A$13","v":{"$error":"#N/A"}},{"$f":"名簿!F59","v":""},{"$f":"名簿!C59","v":0}]
[{"$f":"名簿!$B$6","v":0},{"$f":"名簿!$A$13","v":{"$error":"#N/A"}},{"$f":"名簿!F60","v":""},{"$f":"名簿!C60","v":0}]
[{"$f":"名簿!$B$6","v":0},{"$f":"名簿!$A$13","v":{"$error":"#N/A"}},{"$f":"名簿!F61","v":""},{"$f":"名簿!C61","v":0}]
[{"$f":"名簿!$B$6","v":0},{"$f":"名簿!$A$13","v":{"$error":"#N/A"}},{"$f":"名簿!F62","v":""},{"$f":"名簿!C62","v":0}]
[{"$f":"名簿!$B$6","v":0},{"$f":"名簿!$A$13","v":{"$error":"#N/A"}},{"$f":"名簿!F63","v":""},{"$f":"名簿!C63","v":0}]
[{"$f":"名簿!$B$6","v":0},{"$f":"名簿!$A$13","v":{"$error":"#N/A"}},{"$f":"名簿!F64","v":""},{"$f":"名簿!C64","v":0}]
[{"$f":"名簿!$B$6","v":0},{"$f":"名簿!$A$13","v":{"$error":"#N/A"}},{"$f":"名簿!F65","v":""},{"$f":"名簿!C65","v":0}]
[{"$f":"名簿!$B$6","v":0},{"$f":"名簿!$A$13","v":{"$error":"#N/A"}},{"$f":"名簿!F66","v":""},{"$f":"名簿!C66","v":0}]
[{"$f":"名簿!$B$6","v":0},{"$f":"名簿!$A$13","v":{"$error":"#N/A"}},{"$f":"名簿!F67","v":""},{"$f":"名簿!C67","v":0}]
[{"$f":"名簿!$B$6","v":0},{"$f":"名簿!$A$13","v":{"$error":"#N/A"}},{"$f":"名簿!F68","v":""},{"$f":"名簿!C68","v":0}]
[{"$f":"名簿!$B$6","v":0},{"$f":"名簿!$A$13","v":{"$error":"#N/A"}},{"$f":"名簿!F69","v":""},{"$f":"名簿!C69","v":0}]
[{"$f":"名簿!$B$6","v":0},{"$f":"名簿!$A$13","v":{"$error":"#N/A"}},{"$f":"名簿!F70","v":""},{"$f":"名簿!C70","v":0}]
[{"$f":"名簿!$B$6","v":0},{"$f":"名簿!$A$13","v":{"$error":"#N/A"}},{"$f":"名簿!F71","v":""},{"$f":"名簿!C71","v":0}]
[{"$f":"名簿!$B$6","v":0},{"$f":"名簿!$A$13","v":{"$error":"#N/A"}},{"$f":"名簿!F72","v":""},{"$f":"名簿!C72","v":0}]
[{"$f":"名簿!$B$6","v":0},{"$f":"名簿!$A$13","v":{"$error":"#N/A"}},{"$f":"名簿!F73","v":""},{"$f":"名簿!C73","v":0}]
[{"$f":"名簿!$B$6","v":0},{"$f":"名簿!$A$13","v":{"$error":"#N/A"}},{"$f":"名簿!F74","v":""},{"$f":"名簿!C74","v":0}]
[{"$f":"名簿!$B$6","v":0},{"$f":"名簿!$A$13","v":{"$error":"#N/A"}},{"$f":"名簿!F75","v":""},{"$f":"名簿!C75","v":0}]
[{"$f":"名簿!$B$6","v":0},{"$f":"名簿!$A$13","v":{"$error":"#N/A"}},{"$f":"名簿!F76","v":""},{"$f":"名簿!C76","v":0}]
[{"$f":"名簿!$B$6","v":0},{"$f":"名簿!$A$13","v":{"$error":"#N/A"}},{"$f":"名簿!F77","v":""},{"$f":"名簿!C77","v":0}]
[{"$f":"名簿!$B$6","v":0},{"$f":"名簿!$A$13","v":{"$error":"#N/A"}},{"$f":"名簿!F78","v":""},{"$f":"名簿!C78","v":0}]
[{"$f":"名簿!$B$6","v":0},{"$f":"名簿!$A$13","v":{"$error":"#N/A"}},{"$f":"名簿!F79","v":""},{"$f":"名簿!C79","v":0}]
[{"$f":"名簿!$B$6","v":0},{"$f":"名簿!$A$13","v":{"$error":"#N/A"}},{"$f":"名簿!F80","v":""},{"$f":"名簿!C80","v":0}]
[{"$f":"名簿!$B$6","v":0},{"$f":"名簿!$A$13","v":{"$error":"#N/A"}},{"$f":"名簿!F81","v":""},{"$f":"名簿!C81","v":0}]
[{"$f":"名簿!$B$6","v":0},{"$f":"名簿!$A$13","v":{"$error":"#N/A"}},{"$f":"名簿!F82","v":""},{"$f":"名簿!C82","v":0}]
[{"$f":"名簿!$B$6","v":0},{"$f":"名簿!$A$13","v":{"$error":"#N/A"}},{"$f":"名簿!F83","v":""},{"$f":"名簿!C83","v":0}]
[{"$f":"名簿!$B$6","v":0},{"$f":"名簿!$A$13","v":{"$error":"#N/A"}},{"$f":"名簿!F84","v":""},{"$f":"名簿!C84","v":0}]
[{"$f":"名簿!$B$6","v":0},{"$f":"名簿!$A$13","v":{"$error":"#N/A"}},{"$f":"名簿!F85","v":""},{"$f":"名簿!C85","v":0}]
[{"$f":"名簿!$B$6","v":0},{"$f":"名簿!$A$13","v":{"$error":"#N/A"}},{"$f":"名簿!F86","v":""},{"$f":"名簿!C86","v":0}]
[{"$f":"名簿!$B$6","v":0},{"$f":"名簿!$A$13","v":{"$error":"#N/A"}},{"$f":"名簿!F87","v":""},{"$f":"名簿!C87","v":0}]
[{"$f":"名簿!$B$6","v":0},{"$f":"名簿!$A$13","v":{"$error":"#N/A"}},{"$f":"名簿!F88","v":""},{"$f":"名簿!C88","v":0}]
[{"$f":"名簿!$B$6","v":0},{"$f":"名簿!$A$13","v":{"$error":"#N/A"}},{"$f":"名簿!F89","v":""},{"$f":"名簿!C89","v":0}]
[{"$f":"名簿!$B$6","v":0},{"$f":"名簿!$A$13","v":{"$error":"#N/A"}},{"$f":"名簿!F90","v":""},{"$f":"名簿!C90","v":0}]
[{"$f":"名簿!$B$6","v":0},{"$f":"名簿!$A$13","v":{"$error":"#N/A"}},{"$f":"名簿!F91","v":""},{"$f":"名簿!C91","v":0}]
[{"$f":"名簿!$B$6","v":0},{"$f":"名簿!$A$13","v":{"$error":"#N/A"}},{"$f":"名簿!F92","v":""},{"$f":"名簿!C92","v":0}]
[{"$f":"名簿!$B$6","v":0},{"$f":"名簿!$A$13","v":{"$error":"#N/A"}},{"$f":"名簿!F93","v":""},{"$f":"名簿!C93","v":0}]
[{"$f":"名簿!$B$6","v":0},{"$f":"名簿!$A$13","v":{"$error":"#N/A"}},{"$f":"名簿!F94","v":""},{"$f":"名簿!C94","v":0}]
[{"$f":"名簿!$B$6","v":0},{"$f":"名簿!$A$13","v":{"$error":"#N/A"}},{"$f":"名簿!F95","v":""},{"$f":"名簿!C95","v":0}]
[{"$f":"名簿!$B$6","v":0},{"$f":"名簿!$A$13","v":{"$error":"#N/A"}},{"$f":"名簿!F96","v":""},{"$f":"名簿!C96","v":0}]
[{"$f":"名簿!$B$6","v":0},{"$f":"名簿!$A$13","v":{"$error":"#N/A"}},{"$f":"名簿!F97","v":""},{"$f":"名簿!C97","v":0}]
[{"$f":"名簿!$B$6","v":0},{"$f":"名簿!$A$13","v":{"$error":"#N/A"}},{"$f":"名簿!F98","v":""},{"$f":"名簿!C98","v":0}]
[{"$f":"名簿!$B$6","v":0},{"$f":"名簿!$A$13","v":{"$error":"#N/A"}},{"$f":"名簿!F99","v":""},{"$f":"名簿!C99","v":0}]
[{"$f":"名簿!$B$6","v":0},{"$f":"名簿!$A$13","v":{"$error":"#N/A"}},{"$f":"名簿!F100","v":""},{"$f":"名簿!C100","v":0}]
[{"$f":"名簿!$B$6","v":0},{"$f":"名簿!$A$13","v":{"$error":"#N/A"}},{"$f":"名簿!F101","v":""},{"$f":"名簿!C101","v":0}]
[{"$f":"名簿!$B$6","v":0},{"$f":"名簿!$A$13","v":{"$error":"#N/A"}},{"$f":"名簿!F102","v":""},{"$f":"名簿!C102","v":0}]
[{"$f":"名簿!$B$6","v":0},{"$f":"名簿!$A$13","v":{"$error":"#N/A"}},{"$f":"名簿!F103","v":""},{"$f":"名簿!C103","v":0}]
[{"$f":"名簿!$B$6","v":0},{"$f":"名簿!$A$13","v":{"$error":"#N/A"}},{"$f":"名簿!F104","v":""},{"$f":"名簿!C104","v":0}]
[{"$f":"名簿!$B$6","v":0},{"$f":"名簿!$A$13","v":{"$error":"#N/A"}},{"$f":"名簿!F105","v":""},{"$f":"名簿!C105","v":0}]
[{"$f":"名簿!$B$6","v":0},{"$f":"名簿!$A$13","v":{"$error":"#N/A"}},{"$f":"名簿!F106","v":""},{"$f":"名簿!C106","v":0}]
[{"$f":"名簿!$B$6","v":0},{"$f":"名簿!$A$13","v":{"$error":"#N/A"}},{"$f":"名簿!F107","v":""},{"$f":"名簿!C107","v":0}]
[{"$f":"名簿!$B$6","v":0},{"$f":"名簿!$A$13","v":{"$error":"#N/A"}},{"$f":"名簿!F108","v":""},{"$f":"名簿!C108","v":0}]
[{"$f":"名簿!$B$6","v":0},{"$f":"名簿!$A$13","v":{"$error":"#N/A"}},{"$f":"名簿!F109","v":""},{"$f":"名簿!C109","v":0}]
[{"$f":"名簿!$B$6","v":0},{"$f":"名簿!$A$13","v":{"$error":"#N/A"}},{"$f":"名簿!F110","v":""},{"$f":"名簿!C110","v":0}]
[{"$f":"名簿!$B$6","v":0},{"$f":"名簿!$A$13","v":{"$error":"#N/A"}},{"$f":"名簿!F111","v":""},{"$f":"名簿!C111","v":0}]
[{"$f":"名簿!$B$6","v":0},{"$f":"名簿!$A$13","v":{"$error":"#N/A"}},{"$f":"名簿!F112","v":""},{"$f":"名簿!C112","v":0}]
[{"$f":"名簿!$B$6","v":0},{"$f":"名簿!$A$13","v":{"$error":"#N/A"}},{"$f":"名簿!F113","v":""},{"$f":"名簿!C113","v":0}]
[{"$f":"名簿!$B$6","v":0},{"$f":"名簿!$A$13","v":{"$error":"#N/A"}},{"$f":"名簿!F114","v":""},{"$f":"名簿!C114","v":0}]
[{"$f":"名簿!$B$6","v":0},{"$f":"名簿!$A$13","v":{"$error":"#N/A"}},{"$f":"名簿!F115","v":""},{"$f":"名簿!C115","v":0}]
[{"$f":"名簿!$B$6","v":0},{"$f":"名簿!$A$13","v":{"$error":"#N/A"}},{"$f":"名簿!F116","v":""},{"$f":"名簿!C116","v":0}]
[{"$f":"名簿!$B$6","v":0},{"$f":"名簿!$A$13","v":{"$error":"#N/A"}},{"$f":"名簿!F117","v":""},{"$f":"名簿!C117","v":0}]
[{"$f":"名簿!$B$6","v":0},{"$f":"名簿!$A$13","v":{"$error":"#N/A"}},{"$f":"名簿!F118","v":""},{"$f":"名簿!C118","v":0}]
[{"$f":"名簿!$B$6","v":0},{"$f":"名簿!$A$13","v":{"$error":"#N/A"}},{"$f":"名簿!F119","v":""},{"$f":"名簿!C119","v":0}]
[{"$f":"名簿!$B$6","v":0},{"$f":"名簿!$A$13","v":{"$error":"#N/A"}},{"$f":"名簿!F120","v":""},{"$f":"名簿!C120","v":0}]
[{"$f":"名簿!$B$6","v":0},{"$f":"名簿!$A$13","v":{"$error":"#N/A"}},{"$f":"名簿!F121","v":""},{"$f":"名簿!C121","v":0}]
[{"$f":"名簿!$B$6","v":0},{"$f":"名簿!$A$13","v":{"$error":"#N/A"}},{"$f":"名簿!F122","v":""},{"$f":"名簿!C122","v":0}]
[{"$f":"名簿!$B$6","v":0},{"$f":"名簿!$A$13","v":{"$error":"#N/A"}},{"$f":"名簿!F123","v":""},{"$f":"名簿!C123","v":0}]
[{"$f":"名簿!$B$6","v":0},{"$f":"名簿!$A$13","v":{"$error":"#N/A"}},{"$f":"名簿!F124","v":""},{"$f":"名簿!C124","v":0}]
[{"$f":"名簿!$B$6","v":0},{"$f":"名簿!$A$13","v":{"$error":"#N/A"}},{"$f":"名簿!F125","v":""},{"$f":"名簿!C125","v":0}]
[{"$f":"名簿!$B$6","v":0},{"$f":"名簿!$A$13","v":{"$error":"#N/A"}},{"$f":"名簿!F126","v":""},{"$f":"名簿!C126","v":0}]
[{"$f":"名簿!$B$6","v":0},{"$f":"名簿!$A$13","v":{"$error":"#N/A"}},{"$f":"名簿!F127","v":""},{"$f":"名簿!C127","v":0}]
[{"$f":"名簿!$B$6","v":0},{"$f":"名簿!$A$13","v":{"$error":"#N/A"}},{"$f":"名簿!F128","v":""},{"$f":"名簿!C128","v":0}]
[{"$f":"名簿!$B$6","v":0},{"$f":"名簿!$A$13","v":{"$error":"#N/A"}},{"$f":"名簿!F129","v":""},{"$f":"名簿!C129","v":0}]
[{"$f":"名簿!$B$6","v":0},{"$f":"名簿!$A$13","v":{"$error":"#N/A"}},{"$f":"名簿!F130","v":""},{"$f":"名簿!C130","v":0}]
[{"$f":"名簿!$B$6","v":0},{"$f":"名簿!$A$13","v":{"$error":"#N/A"}},{"$f":"名簿!F131","v":""},{"$f":"名簿!C131","v":0}]
[{"$f":"名簿!$B$6","v":0},{"$f":"名簿!$A$13","v":{"$error":"#N/A"}},{"$f":"名簿!F132","v":""},{"$f":"名簿!C132","v":0}]
[{"$f":"名簿!$B$6","v":0},{"$f":"名簿!$A$13","v":{"$error":"#N/A"}},{"$f":"名簿!F133","v":""},{"$f":"名簿!C133","v":0}]
[{"$f":"名簿!$B$6","v":0},{"$f":"名簿!$A$13","v":{"$error":"#N/A"}},{"$f":"名簿!F134","v":""},{"$f":"名簿!C134","v":0}]
[{"$f":"名簿!$B$6","v":0},{"$f":"名簿!$A$13","v":{"$error":"#N/A"}},{"$f":"名簿!F135","v":""},{"$f":"名簿!C135","v":0}]
[{"$f":"名簿!$B$6","v":0},{"$f":"名簿!$A$13","v":{"$error":"#N/A"}},{"$f":"名簿!F136","v":""},{"$f":"名簿!C136","v":0}]
[{"$f":"名簿!$B$6","v":0},{"$f":"名簿!$A$13","v":{"$error":"#N/A"}},{"$f":"名簿!F137","v":""},{"$f":"名簿!C137","v":0}]
[{"$f":"名簿!$B$6","v":0},{"$f":"名簿!$A$13","v":{"$error":"#N/A"}},{"$f":"名簿!F138","v":""},{"$f":"名簿!C138","v":0}]
[{"$f":"名簿!$B$6","v":0},{"$f":"名簿!$A$13","v":{"$error":"#N/A"}},{"$f":"名簿!F139","v":""},{"$f":"名簿!C139","v":0}]
[{"$f":"名簿!$B$6","v":0},{"$f":"名簿!$A$13","v":{"$error":"#N/A"}},{"$f":"名簿!F140","v":""},{"$f":"名簿!C140","v":0}]
[{"$f":"名簿!$B$6","v":0},{"$f":"名簿!$A$13","v":{"$error":"#N/A"}},{"$f":"名簿!F141","v":""},{"$f":"名簿!C141","v":0}]
[{"$f":"名簿!$B$6","v":0},{"$f":"名簿!$A$13","v":{"$error":"#N/A"}},{"$f":"名簿!F142","v":""},{"$f":"名簿!C142","v":0}]
[{"$f":"名簿!$B$6","v":0},{"$f":"名簿!$A$13","v":{"$error":"#N/A"}},{"$f":"名簿!F143","v":""},{"$f":"名簿!C143","v":0}]
[{"$f":"名簿!$B$6","v":0},{"$f":"名簿!$A$13","v":{"$error":"#N/A"}},{"$f":"名簿!F144","v":""},{"$f":"名簿!C144","v":0}]
[{"$f":"名簿!$B$6","v":0},{"$f":"名簿!$A$13","v":{"$error":"#N/A"}},{"$f":"名簿!F145","v":""},{"$f":"名簿!C145","v":0}]
[{"$f":"名簿!$B$6","v":0},{"$f":"名簿!$A$13","v":{"$error":"#N/A"}},{"$f":"名簿!F146","v":""},{"$f":"名簿!C146","v":0}]
[{"$f":"名簿!$B$6","v":0},{"$f":"名簿!$A$13","v":{"$error":"#N/A"}},{"$f":"名簿!F147","v":""},{"$f":"名簿!C147","v":0}]
[{"$f":"名簿!$B$6","v":0},{"$f":"名簿!$A$13","v":{"$error":"#N/A"}},{"$f":"名簿!F148","v":""},{"$f":"名簿!C148","v":0}]
[{"$f":"名簿!$B$6","v":0},{"$f":"名簿!$A$13","v":{"$error":"#N/A"}},{"$f":"名簿!F149","v":""},{"$f":"名簿!C149","v":0}]
[{"$f":"名簿!$B$6","v":0},{"$f":"名簿!$A$13","v":{"$error":"#N/A"}},{"$f":"名簿!F150","v":""},{"$f":"名簿!C150","v":0}]
[{"$f":"名簿!$B$6","v":0},{"$f":"名簿!$A$13","v":{"$error":"#N/A"}},{"$f":"名簿!F151","v":""},{"$f":"名簿!C151","v":0}]
[{"$f":"名簿!$B$6","v":0},{"$f":"名簿!$A$13","v":{"$error":"#N/A"}},{"$f":"名簿!F152","v":""},{"$f":"名簿!C152","v":0}]
[{"$f":"名簿!$B$6","v":0},{"$f":"名簿!$A$13","v":{"$error":"#N/A"}},{"$f":"名簿!F153","v":""},{"$f":"名簿!C153","v":0}]
[{"$f":"名簿!$B$6","v":0},{"$f":"名簿!$A$13","v":{"$error":"#N/A"}},{"$f":"名簿!F154","v":""},{"$f":"名簿!C154","v":0}]
[{"$f":"名簿!$B$6","v":0},{"$f":"名簿!$A$13","v":{"$error":"#N/A"}},{"$f":"名簿!F155","v":""},{"$f":"名簿!C155","v":0}]
[{"$f":"名簿!$B$6","v":0},{"$f":"名簿!$A$13","v":{"$error":"#N/A"}},{"$f":"名簿!F156","v":""},{"$f":"名簿!C156","v":0}]
[{"$f":"名簿!$B$6","v":0},{"$f":"名簿!$A$13","v":{"$error":"#N/A"}},{"$f":"名簿!F157","v":""},{"$f":"名簿!C157","v":0}]
[{"$f":"名簿!$B$6","v":0},{"$f":"名簿!$A$13","v":{"$error":"#N/A"}},{"$f":"名簿!F158","v":""},{"$f":"名簿!C158","v":0}]
[{"$f":"名簿!$B$6","v":0},{"$f":"名簿!$A$13","v":{"$error":"#N/A"}},{"$f":"名簿!F159","v":""},{"$f":"名簿!C159","v":0}]
[{"$f":"名簿!$B$6","v":0},{"$f":"名簿!$A$13","v":{"$error":"#N/A"}},{"$f":"名簿!F160","v":""},{"$f":"名簿!C160","v":0}]
[{"$f":"名簿!$B$6","v":0},{"$f":"名簿!$A$13","v":{"$error":"#N/A"}},{"$f":"名簿!F161","v":""},{"$f":"名簿!C161","v":0}]
[{"$f":"名簿!$B$6","v":0},{"$f":"名簿!$A$13","v":{"$error":"#N/A"}},{"$f":"名簿!F162","v":""},{"$f":"名簿!C162","v":0}]
[{"$f":"名簿!$B$6","v":0},{"$f":"名簿!$A$13","v":{"$error":"#N/A"}},{"$f":"名簿!F163","v":""},{"$f":"名簿!C163","v":0}]
[{"$f":"名簿!$B$6","v":0},{"$f":"名簿!$A$13","v":{"$error":"#N/A"}},{"$f":"名簿!F164","v":""},{"$f":"名簿!C164","v":0}]
[{"$f":"名簿!$B$6","v":0},{"$f":"名簿!$A$13","v":{"$error":"#N/A"}},{"$f":"名簿!F165","v":""},{"$f":"名簿!C165","v":0}]
[{"$f":"名簿!$B$6","v":0},{"$f":"名簿!$A$13","v":{"$error":"#N/A"}},{"$f":"名簿!F166","v":""},{"$f":"名簿!C166","v":0}]
[{"$f":"名簿!$B$6","v":0},{"$f":"名簿!$A$13","v":{"$error":"#N/A"}},{"$f":"名簿!F167","v":""},{"$f":"名簿!C167","v":0}]
[{"$f":"名簿!$B$6","v":0},{"$f":"名簿!$A$13","v":{"$error":"#N/A"}},{"$f":"名簿!F168","v":""},{"$f":"名簿!C168","v":0}]
[{"$f":"名簿!$B$6","v":0},{"$f":"名簿!$A$13","v":{"$error":"#N/A"}},{"$f":"名簿!F169","v":""},{"$f":"名簿!C169","v":0}]
[{"$f":"名簿!$B$6","v":0},{"$f":"名簿!$A$13","v":{"$error":"#N/A"}},{"$f":"名簿!F170","v":""},{"$f":"名簿!C170","v":0}]
[{"$f":"名簿!$B$6","v":0},{"$f":"名簿!$A$13","v":{"$error":"#N/A"}},{"$f":"名簿!F171","v":""},{"$f":"名簿!C171","v":0}]
[{"$f":"名簿!$B$6","v":0},{"$f":"名簿!$A$13","v":{"$error":"#N/A"}},{"$f":"名簿!F172","v":""},{"$f":"名簿!C172","v":0}]
[{"$f":"名簿!$B$6","v":0},{"$f":"名簿!$A$13","v":{"$error":"#N/A"}},{"$f":"名簿!F173","v":""},{"$f":"名簿!C173","v":0}]
[{"$f":"名簿!$B$6","v":0},{"$f":"名簿!$A$13","v":{"$error":"#N/A"}},{"$f":"名簿!F174","v":""},{"$f":"名簿!C174","v":0}]
[{"$f":"名簿!$B$6","v":0},{"$f":"名簿!$A$13","v":{"$error":"#N/A"}},{"$f":"名簿!F175","v":""},{"$f":"名簿!C175","v":0}]
[{"$f":"名簿!$B$6","v":0},{"$f":"名簿!$A$13","v":{"$error":"#N/A"}},{"$f":"名簿!F176","v":""},{"$f":"名簿!C176","v":0}]
[{"$f":"名簿!$B$6","v":0},{"$f":"名簿!$A$13","v":{"$error":"#N/A"}},{"$f":"名簿!F177","v":""},{"$f":"名簿!C177","v":0}]
[{"$f":"名簿!$B$6","v":0},{"$f":"名簿!$A$13","v":{"$error":"#N/A"}},{"$f":"名簿!F178","v":""},{"$f":"名簿!C178","v":0}]
[{"$f":"名簿!$B$6","v":0},{"$f":"名簿!$A$13","v":{"$error":"#N/A"}},{"$f":"名簿!F179","v":""},{"$f":"名簿!C179","v":0}]
[{"$f":"名簿!$B$6","v":0},{"$f":"名簿!$A$13","v":{"$error":"#N/A"}},{"$f":"名簿!F180","v":""},{"$f":"名簿!C180","v":0}]
[{"$f":"名簿!$B$6","v":0},{"$f":"名簿!$A$13","v":{"$error":"#N/A"}},{"$f":"名簿!F181","v":""},{"$f":"名簿!C181","v":0}]
[{"$f":"名簿!$B$6","v":0},{"$f":"名簿!$A$13","v":{"$error":"#N/A"}},{"$f":"名簿!F182","v":""},{"$f":"名簿!C182","v":0}]
[{"$f":"名簿!$B$6","v":0},{"$f":"名簿!$A$13","v":{"$error":"#N/A"}},{"$f":"名簿!F183","v":""},{"$f":"名簿!C183","v":0}]
[{"$f":"名簿!$B$6","v":0},{"$f":"名簿!$A$13","v":{"$error":"#N/A"}},{"$f":"名簿!F184","v":""},{"$f":"名簿!C184","v":0}]
[{"$f":"名簿!$B$6","v":0},{"$f":"名簿!$A$13","v":{"$error":"#N/A"}},{"$f":"名簿!F185","v":""},{"$f":"名簿!C185","v":0}]
[{"$f":"名簿!$B$6","v":0},{"$f":"名簿!$A$13","v":{"$error":"#N/A"}},{"$f":"名簿!F186","v":""},{"$f":"名簿!C186","v":0}]
[{"$f":"名簿!$B$6","v":0},{"$f":"名簿!$A$13","v":{"$error":"#N/A"}},{"$f":"名簿!F187","v":""},{"$f":"名簿!C187","v":0}]
[{"$f":"名簿!$B$6","v":0},{"$f":"名簿!$A$13","v":{"$error":"#N/A"}},{"$f":"名簿!F188","v":""},{"$f":"名簿!C188","v":0}]
[{"$f":"名簿!$B$6","v":0},{"$f":"名簿!$A$13","v":{"$error":"#N/A"}},{"$f":"名簿!F189","v":""},{"$f":"名簿!C189","v":0}]
[{"$f":"名簿!$B$6","v":0},{"$f":"名簿!$A$13","v":{"$error":"#N/A"}},{"$f":"名簿!F190","v":""},{"$f":"名簿!C190","v":0}]
[{"$f":"名簿!$B$6","v":0},{"$f":"名簿!$A$13","v":{"$error":"#N/A"}},{"$f":"名簿!F191","v":""},{"$f":"名簿!C191","v":0}]
[{"$f":"名簿!$B$6","v":0},{"$f":"名簿!$A$13","v":{"$error":"#N/A"}},{"$f":"名簿!F192","v":""},{"$f":"名簿!C192","v":0}]
[{"$f":"名簿!$B$6","v":0},{"$f":"名簿!$A$13","v":{"$error":"#N/A"}},{"$f":"名簿!F193","v":""},{"$f":"名簿!C193","v":0}]
[{"$f":"名簿!$B$6","v":0},{"$f":"名簿!$A$13","v":{"$error":"#N/A"}},{"$f":"名簿!F194","v":""},{"$f":"名簿!C194","v":0}]
[{"$f":"名簿!$B$6","v":0},{"$f":"名簿!$A$13","v":{"$error":"#N/A"}},{"$f":"名簿!F195","v":""},{"$f":"名簿!C195","v":0}]
[{"$f":"名簿!$B$6","v":0},{"$f":"名簿!$A$13","v":{"$error":"#N/A"}},{"$f":"名簿!F196","v":""},{"$f":"名簿!C196","v":0}]
[{"$f":"名簿!$B$6","v":0},{"$f":"名簿!$A$13","v":{"$error":"#N/A"}},{"$f":"名簿!F197","v":""},{"$f":"名簿!C197","v":0}]
[{"$f":"名簿!$B$6","v":0},{"$f":"名簿!$A$13","v":{"$error":"#N/A"}},{"$f":"名簿!F198","v":""},{"$f":"名簿!C198","v":0}]
[{"$f":"名簿!$B$6","v":0},{"$f":"名簿!$A$13","v":{"$error":"#N/A"}},{"$f":"名簿!F199","v":""},{"$f":"名簿!C199","v":0}]
[{"$f":"名簿!$B$6","v":0},{"$f":"名簿!$A$13","v":{"$error":"#N/A"}},{"$f":"名簿!F200","v":""},{"$f":"名簿!C200","v":0}]
[{"$f":"名簿!$B$6","v":0},{"$f":"名簿!$A$13","v":{"$error":"#N/A"}},{"$f":"名簿!F201","v":""},{"$f":"名簿!C201","v":0}]
[{"$f":"名簿!$B$6","v":0},{"$f":"名簿!$A$13","v":{"$error":"#N/A"}},{"$f":"名簿!F202","v":""},{"$f":"名簿!C202","v":0}]
[{"$f":"名簿!$B$6","v":0},{"$f":"名簿!$A$13","v":{"$error":"#N/A"}},{"$f":"名簿!F203","v":""},{"$f":"名簿!C203","v":0}]
[{"$f":"名簿!$B$6","v":0},{"$f":"名簿!$A$13","v":{"$error":"#N/A"}},{"$f":"名簿!F204","v":""},{"$f":"名簿!C204","v":0}]
[{"$f":"名簿!$B$6","v":0},{"$f":"名簿!$A$13","v":{"$error":"#N/A"}},{"$f":"名簿!F205","v":""},{"$f":"名簿!C205","v":0}]
[{"$f":"名簿!$B$6","v":0},{"$f":"名簿!$A$13","v":{"$error":"#N/A"}},{"$f":"名簿!F206","v":""},{"$f":"名簿!C206","v":0}]
[{"$f":"名簿!$B$6","v":0},{"$f":"名簿!$A$13","v":{"$error":"#N/A"}},{"$f":"名簿!F207","v":""},{"$f":"名簿!C207","v":0}]
[{"$f":"名簿!$B$6","v":0},{"$f":"名簿!$A$13","v":{"$error":"#N/A"}},{"$f":"名簿!F208","v":""},{"$f":"名簿!C208","v":0}]
[{"$f":"名簿!$B$6","v":0},{"$f":"名簿!$A$13","v":{"$error":"#N/A"}},{"$f":"名簿!F209","v":""},{"$f":"名簿!C209","v":0}]
[{"$f":"名簿!$B$6","v":0},{"$f":"名簿!$A$13","v":{"$error":"#N/A"}},{"$f":"名簿!F210","v":""},{"$f":"名簿!C210","v":0}]
[{"$f":"名簿!$B$6","v":0},{"$f":"名簿!$A$13","v":{"$error":"#N/A"}},{"$f":"名簿!F211","v":""},{"$f":"名簿!C211","v":0}]
[{"$f":"名簿!$B$6","v":0},{"$f":"名簿!$A$13","v":{"$error":"#N/A"}},{"$f":"名簿!F212","v":""},{"$f":"名簿!C212","v":0}]
[{"$f":"名簿!$B$6","v":0},{"$f":"名簿!$A$13","v":{"$error":"#N/A"}},{"$f":"名簿!F213","v":""},{"$f":"名簿!C213","v":0}]
[{"$f":"名簿!$B$6","v":0},{"$f":"名簿!$A$13","v":{"$error":"#N/A"}},{"$f":"名簿!F214","v":""},{"$f":"名簿!C214","v":0}]
[{"$f":"名簿!$B$6","v":0},{"$f":"名簿!$A$13","v":{"$error":"#N/A"}},{"$f":"名簿!F215","v":""},{"$f":"名簿!C215","v":0}]
[{"$f":"名簿!$B$6","v":0},{"$f":"名簿!$A$13","v":{"$error":"#N/A"}},{"$f":"名簿!F216","v":""},{"$f":"名簿!C216","v":0}]
[{"$f":"名簿!$B$6","v":0},{"$f":"名簿!$A$13","v":{"$error":"#N/A"}},{"$f":"名簿!F217","v":""},{"$f":"名簿!C217","v":0}]
[{"$f":"名簿!$B$6","v":0},{"$f":"名簿!$A$13","v":{"$error":"#N/A"}},{"$f":"名簿!F218","v":""},{"$f":"名簿!C218","v":0}]
[{"$f":"名簿!$B$6","v":0},{"$f":"名簿!$A$13","v":{"$error":"#N/A"}},{"$f":"名簿!F219","v":""},{"$f":"名簿!C219","v":0}]
[{"$f":"名簿!$B$6","v":0},{"$f":"名簿!$A$13","v":{"$error":"#N/A"}},{"$f":"名簿!F220","v":""},{"$f":"名簿!C220","v":0}]
[{"$f":"名簿!$B$6","v":0},{"$f":"名簿!$A$13","v":{"$error":"#N/A"}},{"$f":"名簿!F221","v":""},{"$f":"名簿!C221","v":0}]
[{"$f":"名簿!$B$6","v":0},{"$f":"名簿!$A$13","v":{"$error":"#N/A"}},{"$f":"名簿!F222","v":""},{"$f":"名簿!C222","v":0}]
[{"$f":"名簿!$B$6","v":0},{"$f":"名簿!$A$13","v":{"$error":"#N/A"}},{"$f":"名簿!F223","v":""},{"$f":"名簿!C223","v":0}]
[{"$f":"名簿!$B$6","v":0},{"$f":"名簿!$A$13","v":{"$error":"#N/A"}},{"$f":"名簿!F224","v":""},{"$f":"名簿!C224","v":0}]
[{"$f":"名簿!$B$6","v":0},{"$f":"名簿!$A$13","v":{"$error":"#N/A"}},{"$f":"名簿!F225","v":""},{"$f":"名簿!C225","v":0}]
[{"$f":"名簿!$B$6","v":0},{"$f":"名簿!$A$13","v":{"$error":"#N/A"}},{"$f":"名簿!F226","v":""},{"$f":"名簿!C226","v":0}]
[{"$f":"名簿!$B$6","v":0},{"$f":"名簿!$A$13","v":{"$error":"#N/A"}},{"$f":"名簿!F227","v":""},{"$f":"名簿!C227","v":0}]
[{"$f":"名簿!$B$6","v":0},{"$f":"名簿!$A$13","v":{"$error":"#N/A"}},{"$f":"名簿!F228","v":""},{"$f":"名簿!C228","v":0}]
[{"$f":"名簿!$B$6","v":0},{"$f":"名簿!$A$13","v":{"$error":"#N/A"}},{"$f":"名簿!F229","v":""},{"$f":"名簿!C229","v":0}]
[{"$f":"名簿!$B$6","v":0},{"$f":"名簿!$A$13","v":{"$error":"#N/A"}},{"$f":"名簿!F230","v":""},{"$f":"名簿!C230","v":0}]
[{"$f":"名簿!$B$6","v":0},{"$f":"名簿!$A$13","v":{"$error":"#N/A"}},{"$f":"名簿!F231","v":""},{"$f":"名簿!C231","v":0}]
[{"$f":"名簿!$B$6","v":0},{"$f":"名簿!$A$13","v":{"$error":"#N/A"}},{"$f":"名簿!F232","v":""},{"$f":"名簿!C232","v":0}]
[{"$f":"名簿!$B$6","v":0},{"$f":"名簿!$A$13","v":{"$error":"#N/A"}},{"$f":"名簿!F233","v":""},{"$f":"名簿!C233","v":0}]
[{"$f":"名簿!$B$6","v":0},{"$f":"名簿!$A$13","v":{"$error":"#N/A"}},{"$f":"名簿!F234","v":""},{"$f":"名簿!C234","v":0}]
[{"$f":"名簿!$B$6","v":0},{"$f":"名簿!$A$13","v":{"$error":"#N/A"}},{"$f":"名簿!F235","v":""},{"$f":"名簿!C235","v":0}]
[{"$f":"名簿!$B$6","v":0},{"$f":"名簿!$A$13","v":{"$error":"#N/A"}},{"$f":"名簿!F236","v":""},{"$f":"名簿!C236","v":0}]
[{"$f":"名簿!$B$6","v":0},{"$f":"名簿!$A$13","v":{"$error":"#N/A"}},{"$f":"名簿!F237","v":""},{"$f":"名簿!C237","v":0}]
[{"$f":"名簿!$B$6","v":0},{"$f":"名簿!$A$13","v":{"$error":"#N/A"}},{"$f":"名簿!F238","v":""},{"$f":"名簿!C238","v":0}]
[{"$f":"名簿!$B$6","v":0},{"$f":"名簿!$A$13","v":{"$error":"#N/A"}},{"$f":"名簿!F239","v":""},{"$f":"名簿!C239","v":0}]
[{"$f":"名簿!$B$6","v":0},{"$f":"名簿!$A$13","v":{"$error":"#N/A"}},{"$f":"名簿!F240","v":""},{"$f":"名簿!C240","v":0}]
[{"$f":"名簿!$B$6","v":0},{"$f":"名簿!$A$13","v":{"$error":"#N/A"}},{"$f":"名簿!F241","v":""},{"$f":"名簿!C241","v":0}]
[{"$f":"名簿!$B$6","v":0},{"$f":"名簿!$A$13","v":{"$error":"#N/A"}},{"$f":"名簿!F242","v":""},{"$f":"名簿!C242","v":0}]
[{"$f":"名簿!$B$6","v":0},{"$f":"名簿!$A$13","v":{"$error":"#N/A"}},{"$f":"名簿!F243","v":""},{"$f":"名簿!C243","v":0}]
[{"$f":"名簿!$B$6","v":0},{"$f":"名簿!$A$13","v":{"$error":"#N/A"}},{"$f":"名簿!F244","v":""},{"$f":"名簿!C244","v":0}]
[{"$f":"名簿!$B$6","v":0},{"$f":"名簿!$A$13","v":{"$error":"#N/A"}},{"$f":"名簿!F245","v":""},{"$f":"名簿!C245","v":0}]
[{"$f":"名簿!$B$6","v":0},{"$f":"名簿!$A$13","v":{"$error":"#N/A"}},{"$f":"名簿!F246","v":""},{"$f":"名簿!C246","v":0}]
[{"$f":"名簿!$B$6","v":0},{"$f":"名簿!$A$13","v":{"$error":"#N/A"}},{"$f":"名簿!F247","v":""},{"$f":"名簿!C247","v":0}]
[{"$f":"名簿!$B$6","v":0},{"$f":"名簿!$A$13","v":{"$error":"#N/A"}},{"$f":"名簿!F248","v":""},{"$f":"名簿!C248","v":0}]
[{"$f":"名簿!$B$6","v":0},{"$f":"名簿!$A$13","v":{"$error":"#N/A"}},{"$f":"名簿!F249","v":""},{"$f":"名簿!C249","v":0}]
[{"$f":"名簿!$B$6","v":0},{"$f":"名簿!$A$13","v":{"$error":"#N/A"}},{"$f":"名簿!F250","v":""},{"$f":"名簿!C250","v":0}]
[{"$f":"名簿!$B$6","v":0},{"$f":"名簿!$A$13","v":{"$error":"#N/A"}},{"$f":"名簿!F251","v":""},{"$f":"名簿!C251","v":0}]
[{"$f":"名簿!$B$6","v":0},{"$f":"名簿!$A$13","v":{"$error":"#N/A"}},{"$f":"名簿!F252","v":""},{"$f":"名簿!C252","v":0}]
[{"$f":"名簿!$B$6","v":0},{"$f":"名簿!$A$13","v":{"$error":"#N/A"}},{"$f":"名簿!F253","v":""},{"$f":"名簿!C253","v":0}]
[{"$f":"名簿!$B$6","v":0},{"$f":"名簿!$A$13","v":{"$error":"#N/A"}},{"$f":"名簿!F254","v":""},{"$f":"名簿!C254","v":0}]
[{"$f":"名簿!$B$6","v":0},{"$f":"名簿!$A$13","v":{"$error":"#N/A"}},{"$f":"名簿!F255","v":""},{"$f":"名簿!C255","v":0}]
[{"$f":"名簿!$B$6","v":0},{"$f":"名簿!$A$13","v":{"$error":"#N/A"}},{"$f":"名簿!F256","v":""},{"$f":"名簿!C256","v":0}]
[{"$f":"名簿!$B$6","v":0},{"$f":"名簿!$A$13","v":{"$error":"#N/A"}},{"$f":"名簿!F257","v":""},{"$f":"名簿!C257","v":0}]
[{"$f":"名簿!$B$6","v":0},{"$f":"名簿!$A$13","v":{"$error":"#N/A"}},{"$f":"名簿!F258","v":""},{"$f":"名簿!C258","v":0}]
[{"$f":"名簿!$B$6","v":0},{"$f":"名簿!$A$13","v":{"$error":"#N/A"}},{"$f":"名簿!F259","v":""},{"$f":"名簿!C259","v":0}]
[{"$f":"名簿!$B$6","v":0},{"$f":"名簿!$A$13","v":{"$error":"#N/A"}},{"$f":"名簿!F260","v":""},{"$f":"名簿!C260","v":0}]
[{"$f":"名簿!$B$6","v":0},{"$f":"名簿!$A$13","v":{"$error":"#N/A"}},{"$f":"名簿!F261","v":""},{"$f":"名簿!C261","v":0}]
[{"$f":"名簿!$B$6","v":0},{"$f":"名簿!$A$13","v":{"$error":"#N/A"}},{"$f":"名簿!F262","v":""},{"$f":"名簿!C262","v":0}]

{"sheet":"全学団体","index":2,"n_rows":150,"n_cols":9,"rows_kept":150,"cut":false,"hidden":true,"merged":[]}
["所属","全学・医学","学友会","区分","団体名称","サークルマスタ"]
["松本キャンパス","全学","◯","文化系","信州大学交響楽団","10100101","松本キャンパス"]
["松本キャンパス","全学","◯","文化系","信州大学吹奏楽団","10100102","学友会所属団体","学友会に所属していない団体"]
["松本キャンパス","全学","◯","文化系","マンドリンクラブ","10100103","体育系","文化系"]
["松本キャンパス","全学","◯","文化系","信州大学混声合唱団　　","10100104","体育系","文化系","その他"]
["松本キャンパス","全学","◯","文化系","信州大学軽音楽部","10100105"]
["松本キャンパス","全学","◯","文化系","信州大学グリークラブ","10100106"]
["松本キャンパス","全学","◯","文化系","棋道部","10100107"]
["松本キャンパス","全学","◯","文化系","信州大学競技かるたサークル","10100109"]
["松本キャンパス","全学","◯","文化系","フラメンコ部","10100110"]
["松本キャンパス","全学","◯","文化系","筝曲サークルことこと","10100111"]
["松本キャンパス","全学","◯","文化系","医学部室内楽団","10100112"]
["松本キャンパス","全学","◯","体育系","陸上競技部　","10100201"]
["松本キャンパス","全学","◯","体育系","全学水泳部","10100202"]
["松本キャンパス","全学","◯","体育系","硬式野球部","10100203"]
["松本キャンパス","全学","◯","体育系","全学硬式庭球部","10100204"]
["松本キャンパス","全学","◯","体育系","全学ソフトテニス部","10100205"]
["松本キャンパス","全学","◯","体育系","信州大学全学卓球部","10100206"]
["松本キャンパス","全学","◯","体育系","全学サッカー部","10100207"]
["松本キャンパス","全学","◯","体育系","全学ラグビー部","10100208"]
["松本キャンパス","全学","◯","体育系","柔道部","10100209"]
["松本キャンパス","全学","◯","体育系","信州大学学友会剣道部","10100210"]
["松本キャンパス","全学","◯","体育系","全学弓道部","10100211"]
["松本キャンパス","全学","◯","体育系","体操競技部","10100212"]
["松本キャンパス","全学","◯","体育系","競技スキー部","10100213"]
["松本キャンパス","全学","◯","体育系","全学ハンドボール部","10100214"]
["松本キャンパス","全学","◯","体育系","全学男子バスケットボール部","10100215"]
["松本キャンパス","全学","◯","体育系","女子バスケットボール部","10100216"]
["松本キャンパス","全学","◯","体育系","氷上競技部スピードスケート部門","10100217"]
["松本キャンパス","全学","◯","体育系","全学男子バレーボール部","10100218"]
["松本キャンパス","全学","◯","体育系","女子バレーボール部","10100219"]
["松本キャンパス","全学","◯","体育系","全学バドミントン部","10100220"]
["松本キャンパス","全学","◯","体育系","少林寺拳法部","10100221"]
["松本キャンパス","全学","◯","体育系","全学空手道部","10100222"]
["松本キャンパス","全学","◯","体育系","信州大学アメリカンフットボール部WILDCATS","10100223"]
["松本キャンパス","全学","◯","体育系","合気道部","10100224"]
["松本キャンパス","全学","◯","体育系","全学男女ソフトボール部","10100225"]
["松本キャンパス","全学","◯","体育系","アーチェリー部","10100226"]
["松本キャンパス","全学","◯","体育系","自転車競技部","10100227"]
["松本キャンパス","全学","◯","体育系","準硬式野球部","10100228"]
["松本キャンパス","全学","◯","体育系","全学女子サッカー部","10100229"]
["松本キャンパス","全学","◯","体育系","信州大学YOSAKOI祭りサークル和っしょい","10100230"]
["松本キャンパス","全学","◯","体育系","信州大学フェンシング部","10100231"]
["松本キャンパス","全学","◯","体育系","信州大学松本軟式野球部","10100232"]
["松本キャンパス","全学","◯","体育系","LOOSE","10100234"]
["松本キャンパス","全学","◯","体育系","信州大学女子ラクロス部","10100235"]
["松本キャンパス","全学","◯","体育系","男子ラクロス部","10100237"]
["松本キャンパス","全学","◯","体育系","車いすバスケットボール部SEROWS","10100238"]
["松本キャンパス","全学","◯","体育系","氷上競技部アイスホッケー部門","20100205"]
["松本キャンパス","全学","◯","体育系","馬術部","20100219"]
["松本キャンパス","全学",null,"文化系","かしの木",20100101]
["松本キャンパス","全学",null,"文化系","美術研究会",20100102]
["松本キャンパス","全学",null,"文化系","文藝部楓",20100104]
["松本キャンパス","全学",null,"文化系","信州大学自然科学研究会",20100105]
["松本キャンパス","全学",null,"文化系","信州大学トゥルバドゥール",20100107]
["松本キャンパス","全学",null,"文化系","信州大学裏千家茶道部",20100108]
["松本キャンパス","全学",null,"文化系","信州大学アカペラサークルCapel",20100109]
["松本キャンパス","全学",null,"文化系","信州大学らんぷの会",20100111]
["松本キャンパス","全学",null,"文化系","信州大学The Beatles研Q会",20100114]
["松本キャンパス","全学",null,"文化系","信州大学ALL写真部",20100116]
["松本キャンパス","全学",null,"文化系","信州大学　天文俱楽部",20100118]
["松本キャンパス","全学",null,"文化系","信州大学漫画研究会",20100119]
["松本キャンパス","全学",null,"文化系","信州大学劇団山脈",20100120]
["松本キャンパス","全学",null,"文化系","信州大学JAZZ研究会",20100121]
["松本キャンパス","全学",null,"文化系","第二新聞部NOA",20100125]
["松本キャンパス","全学",null,"文化系","Simulation Game研究会",20100127]
["松本キャンパス","全学",null,"文化系","TOSS信州大学",20100128]
["松本キャンパス","全学",null,"文化系","2代目ヒッチハイクサークルのりこみ隊",20100133]
["松本キャンパス","全学",null,"文化系","信州大学ジャグリングサークルサイクロイド",20100138]
["松本キャンパス","全学",null,"文化系","信州大学ケルト音楽研究会 S-celts",20100142]
["松本キャンパス","全学",null,"文化系","書道サークル墨人",20100145]
["松本キャンパス","全学",null,"文化系","昔ながらの田んぼの会",20100149]
["松本キャンパス","全学",null,"文化系","信州大学レトロ音楽俱楽部",20100150]
["松本キャンパス","全学",null,"文化系","信州大学のりものサークル",20100159]
["松本キャンパス","全学",null,"文化系","信州大学クイズサークル",20100160]
["松本キャンパス","全学",null,"文化系","信大回廊",20100168]
["松本キャンパス","全学",null,"文化系","信州大学ポケモンサークル",20100169]
["松本キャンパス","全学",null,"文化系","現代限界芸術研究会",20100178]
["松本キャンパス","全学",null,"文化系","信州大学地域参画プロジェクトCHANGE",20100183]
["松本キャンパス","全学",null,"文化系","シンダイガイド",20100186]
["松本キャンパス","全学",null,"文化系","大信州スマブラ同好会",20100188]
["松本キャンパス","全学",null,"文化系","信州大学銭湯サークル",20100403]
["松本キャンパス","全学",null,"文化系","信州大学ゲーム制作サークルSEAP",20100406]
["松本キャンパス","全学",null,"文化系","信大競技麻雀部　咲",20100407]
["松本キャンパス","全学",null,"文化系","信州大学VOCALOIDサークル",20100408]
["松本キャンパス","全学",null,"文化系","信州大学お笑いサークル白樺",20100410]
["松本キャンパス","全学",null,"文化系","信州大学映画鑑賞サークルムビみる",20100411]
["松本キャンパス","全学",null,"文化系","SKZ",20100413]
["松本キャンパス","全学",null,"文化系","グローバルサークルHanas",20100414]
["松本キャンパス","全学",null,"文化系","社会活動推進コミュニティー　信州大学レオクラブ",20100415]
["松本キャンパス","全学",null,"文化系","信州大学地理研究会",20100416]
["松本キャンパス","全学",null,"文化系","東方信嶺譚",20100417]
["松本キャンパス","全学",null,"文化系","信州大学フラサークル Lei hiwahiwa",20100418]
["松本キャンパス","全学",null,"文化系","信州大学植物セラピーサークル檜の芽",20100419]
["松本キャンパス","全学",null,"文化系","フリーペーパー団体信州Charm",20100421]
["松本キャンパス","全学",null,"文化系","信州大学プラモ部",20100422]
["松本キャンパス","全学",null,"文化系","信州大学料理サークル　ごゆるり",20100423]
["松本キャンパス","全学",null,"文化系","塾サークル　ふくろう",20100424]
["松本キャンパス","全学",null,"文化系","SOS団信州大学支部",20100425]
["松本キャンパス","全学",null,"文化系","ベトナムサークル",20100426]
["松本キャンパス","全学",null,"文化系","信州大学モンゴルサークル",20100427]
["松本キャンパス","全学",null,"文化系","信州大学サバイバルゲームサークル　雷鳥",20100429]
["松本キャンパス","全学",null,"文化系","信州大学カードゲーム同好会",20100431]
["松本キャンパス","全学",null,"文化系","お茶会サークル『Rize』",20100432]
["松本キャンパス","全学",null,"文化系","温泉同好会",20100433]
["松本キャンパス","全学",null,"文化系","信州大学ヤギ親衛隊",20100434]
["松本キャンパス","全学",null,"文化系","ぐるめぐり",20100435]
["松本キャンパス","全学",null,"文化系","ボヘミアン珈琲",20100436]
["松本キャンパス","全学",null,"文化系","信州大学DJサークル　おみそしる",20100437]
["松本キャンパス","全学",null,"文化系","FREE信大　高等教育無償化プロジェクト",20100438]
["松本キャンパス","全学",null,"文化系","松本をもっとよくしようプロジェクト（まつもっと）",20100439]
["松本キャンパス","全学",null,"文化系","信州大学手話サークル　しんしゅわ",20100440]
["松本キャンパス","全学",null,"文化系","あるとない",20100441]
["松本キャンパス","全学",null,"文化系","信大カリー部",20100442]
["松本キャンパス","全学",null,"文化系","信州大学Disneyサークル",20100443]
["松本キャンパス","全学",null,"体育系","信州大学山岳会",20100200]
["松本キャンパス","全学",null,"体育系","信州大学ゲレンデスキー愛好会",20100202]
["松本キャンパス","全学",null,"体育系","信州大学ワンダーフォーゲル部",20100203]
["松本キャンパス","全学",null,"体育系","信州大学自動車部ASSAC",20100208]
["松本キャンパス","全学",null,"体育系","シンボルず",20100209]
["松本キャンパス","全学",null,"体育系","全学硬式テニスサークルたんぽぽ",20100210]
["松本キャンパス","全学",null,"体育系","信州大学居合道サークル",20100214]
["松本キャンパス","全学",null,"体育系","信州大学サイクリング部",20100215]
["松本キャンパス","全学",null,"体育系","信州大学基礎スキー部",20100216]
["松本キャンパス","全学",null,"体育系","スキューバダイビングサークル　SELFISH",20100217]
["松本キャンパス","全学",null,"体育系","山歩会",20100218]
["松本キャンパス","全学",null,"体育系","信州大学ボクシング部",20100220]
["松本キャンパス","全学",null,"体育系","ストリートダンスサークルWDC",20100221]
["松本キャンパス","全学",null,"体育系","信州大学テコンドーサークル",20100222]
["松本キャンパス","全学",null,"体育系","バド健",20100224]
["松本キャンパス","全学",null,"体育系","信州大学ファイトクラブ",20100227]
["松本キャンパス","全学",null,"体育系","B.B.B.Biology",20100233]
["松本キャンパス","全学",null,"体育系","信州大学航空部",20100243]
["松本キャンパス","全学",null,"体育系","SERVICIO",20100254]
["松本キャンパス","全学",null,"体育系","ばみとんとん",20100260]
["松本キャンパス","全学",null,"体育系","信州大学排球同好会",20100261]
["松本キャンパス","全学",null,"体育系","信州大学キャップ野球同好会",20100263]
["松本キャンパス","全学",null,"体育系","信州大学ダンスカバーサークル",20100265]
["松本キャンパス","全学",null,"体育系","スノーボードサークルMILKCHOCO",20100266]
["松本キャンパス","全学",null,"体育系","PUMP IRON",20100268]
["松本キャンパス","全学",null,"体育系","信州大学プロレス同好会",20100269]
["松本キャンパス","全学",null,"体育系","信州大学モルックサークルまつぼっくり",20100270]
["松本キャンパス","全学",null,"体育系","信州大学競技雪合戦サークル",20100271]
["松本キャンパス","全学",null,"体育系","ボルダリングサークル　ノボリス",20100272]
["松本キャンパス","全学",null,"その他","新入生歓迎委員会",20100302]
["松本キャンパス","全学",null,"その他","信州大学ボランティア団体VOLNET",20100304]
["松本キャンパス","全学",null,"その他","りんご部隊",20100305]
["松本キャンパス","全学",null,"その他","信州大学一年生学生会",20100308]
["松本キャンパス","全学",null,"その他","銀嶺祭実行委員会",20100165]
["松本キャンパス","全学",null,"その他","あがたの森フェスティバル実行委員会",20100172]

{"sheet":"医学部団体","index":3,"n_rows":40,"n_cols":8,"rows_kept":40,"cut":false,"hidden":true,"merged":[]}
["所属","全学・医学","学友会","区分","団体名称","サークルマスタ"]
["松本キャンパス","医学部",null,"文化系","医学部軽音楽部","20110101","松本キャンパス"]
["松本キャンパス","医学部",null,"文化系","医学部写真部","20110102","医学部団体"]
["松本キャンパス","医学部",null,"文化系","医学部天文部","20110103","学友会所属団体","学友会に所属していない団体"]
["松本キャンパス","医学部",null,"文化系","メディカル映画研究会","20110104","体育系","文化系"]
["松本キャンパス","医学部",null,"文化系","Medical English Speaking Society","20110105"]
["松本キャンパス","医学部",null,"文化系","Shinshu Advanced Life-support Teams","20110106"]
["松本キャンパス","医学部",null,"文化系","医学部交響楽団","20110107"]
["松本キャンパス","医学部",null,"文化系","わらわら","20110108"]
["松本キャンパス","医学部",null,"文化系","医学部信州大好きクラブ","20110109"]
["松本キャンパス","医学部",null,"文化系","医学部ダンス部","20110110"]
["松本キャンパス","医学部",null,"文化系","MEDICAL HEALTH","20110111"]
["松本キャンパス","医学部",null,"文化系","医学部茶道部","20110113"]
["松本キャンパス","医学部",null,"文化系","MHC","20110115"]
["松本キャンパス","医学部",null,"体育系","信州大学医学部硬式庭球部","20110201"]
["松本キャンパス","医学部",null,"体育系","医学部軟式テニス部","20110202"]
["松本キャンパス","医学部",null,"体育系","医学部男子バレーボール部","20110203"]
["松本キャンパス","医学部",null,"体育系","医学部女子バレーボール部","20110204"]
["松本キャンパス","医学部",null,"体育系","医学部男子バスケットボール部","20110205"]
["松本キャンパス","医学部",null,"体育系","医学部女子バスケットボール部","20110206"]
["松本キャンパス","医学部",null,"体育系","医学部ラグビー部","20110207"]
["松本キャンパス","医学部",null,"体育系","医学部サッカー部","20110208"]
["松本キャンパス","医学部",null,"体育系","医学部硬式野球部","20110209"]
["松本キャンパス","医学部",null,"体育系","医学部ゴルフ部","20110210"]
["松本キャンパス","医学部",null,"体育系","医学部卓球部","20110211"]
["松本キャンパス","医学部",null,"体育系","医学部医短バドミントン部","20110212"]
["松本キャンパス","医学部",null,"体育系","医学部水泳部","20110213"]
["松本キャンパス","医学部",null,"体育系","医学部陸上競技部","20110214"]
["松本キャンパス","医学部",null,"体育系","医学部競技スキー部","20110215"]
["松本キャンパス","医学部",null,"体育系","信州大学医学部馬術部","20110216"]
["松本キャンパス","医学部",null,"体育系","信州大学医学部山岳部","20110217"]
["松本キャンパス","医学部",null,"体育系","医学部弓道部","20110218"]
["松本キャンパス","医学部",null,"体育系","信州大学医学部剣道部","20110219"]
["松本キャンパス","医学部",null,"体育系","医学部空手道部","20110220"]
["松本キャンパス","医学部",null,"体育系","医学部柔道部","20110221"]
["松本キャンパス","医学部",null,"体育系","医学部フットサル部","20110222"]
["松本キャンパス","医学部",null,"体育系","医学部女子卓球部","20110223"]
["松本キャンパス","医学部",null,"体育系","医学部ハンドボール部","20110224"]
["松本キャンパス","医学部",null,"体育系","医学部バーベル部","20110225"]
["松本キャンパス","医学部","◯","文化系","医学部室内楽団",10100112]